{"text_format":"1","workbook":"xlsx","n_sheets":19,"sheets":["Results","Instructions","Round Draws","Armies","Module1","Module2","Module3","Module4","Module5","Round 1","Round 2","Round 3","Round 4","Round 5","Round 6","Round 7","Round 8","Round 9","Standings"],"not_rendered":{"charts":0,"images":19,"macros":1,"external_links":0,"defined_names":9,"comments":1,"pivot_tables":0},"unopened":[{"sheet":"Module1","index":4,"reason":"part_missing"},{"sheet":"Module2","index":5,"reason":"part_missing"},{"sheet":"Module3","index":6,"reason":"part_missing"},{"sheet":"Module4","index":7,"reason":"part_missing"},{"sheet":"Module5","index":8,"reason":"part_missing"}],"bounds":{"document_bytes":16777216,"sheet_cells":100000,"rows_first":2000,"rows_last":500,"rows_between":2000,"halvings":0,"cell_chars":16384,"cell_head_chars":4096},"cells_cut":0,"cells_raw":0,"read":"whole","date_system":"1900"}

{"sheet":"Results","index":0,"n_rows":139,"n_cols":75,"rows_kept":139,"cut":false,"hidden":false,"merged":[[1,72,1,74],[2,4,2,5],[3,4,3,5],[2,1,2,2],[3,1,3,2]]}
["V4.0",null,null,"L'Art de la Guerre - Result Sheet"]
[null,null,null,null,null,null,null,null,null,null,null,null,null,null,null,null,null,null,null,null,null,null,null,null,null,null,null,null,null,null,null,null,null,null,null,null,null,null,null,null,null,null,null,null,null,null,null,null,null,null,null,null,null,null,null,null,null,null,null,null,null,null,null,null,null,null,null,null,null,null,null,null,"Umpire Zone"]
["Tournament","Kegworth Codgers 2024",null,"Date","2024-10-03",null,"# Players (8 - 100)",34]
["Theme","Roman Period",null,"Country","UK",null,"# Rounds (3 - 9)",5]
[]
[null,null,null,null,null,null,null,null,null,null,null,"Rnd 1",null,null,null,null,null,null,"Rnd 2",null,null,null,null,null,null,"Rnd 3",null,null,null,null,null,null,"Rnd 4",null,null,null,null,null,null,"Rnd 5",null,null,null,null,null,null,"Rnd 6",null,null,null,null,null,null,"Rnd 7",null,null,null,null,null,null,"Rnd 8",null,null,null,null,null,null,"Rnd 9",null,null,null,null,"Opponents","Ex-Aequo","Ajustment"]
["ID","Surname","First Name","Club","Points","N°","Army","Units","ID ","Opponent",null,"Result",null,"Losses","Points","ID ","Opponent",null,"Result",null,"Losses","Points","ID ","Opponent",null,"Result",null,"Losses","Points","ID ","Opponent",null,"Result",null,"Losses","Points","ID ","Opponent",null,"Result",null,"Losses","Points","ID ","Opponent",null,"Result",null,"Losses","Points","ID ","Opponent",null,"Result",null,"Losses","Points","ID ","Opponent",null,"Result",null,"Losses","Points","ID ","Opponent",null,"Result",null,"Losses","Points",null,"Scores",null,"Points"]
[486,"Cutner","Alan","Tradeston",{"$f":"O8+V8+AC8+AJ8+AQ8+AX8+BE8+BL8+BS8","v":0},null,{"$f":"IF($F8<>\"\",VLOOKUP(F8,Armies!$A$1:$C$300,3,FALSE),\"\")","v":""},null,null,{"$f":"IF(I8<>\"\",VLOOKUP(I8,$A$8:$C$107,2,FALSE),\"\")","v":""},{"$f":"IF(I8<>\"\",IF(I8=$A8,\"ERR\",IF(OR(I8=$P8,I8=$W8,I8=$AD8,I8=$AK8),\"DUP\",IF(ISNA(VLOOKUP(I8,$A$8:$A$107,1,FALSE)),\"ERR\",IF(COUNTIF($I$8:$I$107,I8)>1,\"ERR\",IF($D8=VLOOKUP(I8,$A$8:$D$107,4,FALSE),\"CLUB\",\"OK\"))))),\"\")","v":""},null,{"$f":"IF(L8<>\"\",IF(L8=\"Victoire\",IF(VLOOKUP(I8,$A$8:$L$107,12,FALSE)=\"Défaite\",\"OK\",\"ERR\"),IF(L8=\"Défaite\",IF(VLOOKUP(I8,$A$8:$L$107,12,FALSE)=\"Victoire\",\"OK\",\"ERR\"),IF(L8=\"Nul\",IF(VLOOKUP(I8,$A$8:$L$107,12,FALSE)=\"Nul\",\"OK\",\"ERR\")))),\"\")","v":""},null,{"$f":"IF(L8=\"Victoire\",100-ROUNDDOWN(20*N8/$H8,0),\nIF(L8=\"Défaite\",10+ROUNDDOWN(20*VLOOKUP(I8,$A$8:$N$107,14,FALSE)/VLOOKUP(I8,$A$8:$H$107,8,FALSE),0),\nIF(AND(L8=\"Nul\",$N8<>$H8),40+(2*ROUNDDOWN(10*VLOOKUP(I8,$A$8:$N$107,14,FALSE)/VLOOKUP(I8,$A$8:$H$107,8,FALSE),0)-ROUNDDOWN(10*N8/$H8,0)),IF(AND(L8=\"Nul\",$N8=$H8),58,0))))","v":0},null,{"$f":"IF(P8<>\"\",VLOOKUP(P8,$A$8:$C$107,2,FALSE),\"\")","v":""},{"$f":"IF(P8<>\"\",IF(P8=$A8,\"ERR\",IF(OR(P8=$I8,P8=$W8,P8=$AD8,P8=$AK8),\"DUP\",IF(ISNA(VLOOKUP(P8,$A$8:$A$107,1,FALSE)),\"ERR\",IF(COUNTIF($I$8:$I$107,P8)>1,\"ERR\",IF($D8=VLOOKUP(P8,$A$8:$D$107,4,FALSE),\"CLUB\",\"OK\"))))),\"\")","v":""},null,{"$f":"IF(S8<>\"\",IF(S8=\"Victoire\",IF(VLOOKUP(P8,$A$8:$AO$107,19,FALSE)=\"Défaite\",\"OK\",\"ERR\"),IF(S8=\"Défaite\",IF(VLOOKUP(P8,$A$8:$AO$107,19,FALSE)=\"Victoire\",\"OK\",\"ERR\"),IF(S8=\"Nul\",IF(VLOOKUP(P8,$A$8:$AO$107,19,FALSE)=\"Nul\",\"OK\",\"ERR\")))),\"\")","v":""},null,{"$f":"IF(S8=\"Victoire\",100-ROUNDDOWN(20*U8/$H8,0),\nIF(S8=\"Défaite\",10+ROUNDDOWN(20*VLOOKUP(P8,$A$8:$AO$107,21,FALSE)/VLOOKUP(P8,$A$8:$H$107,8,FALSE),0),\nIF(AND(S8=\"Nul\",$U8<>$H8),40+(2*ROUNDDOWN(10*VLOOKUP(P8,$A$8:$AO$107,21,FALSE)/VLOOKUP(P8,$A$8:$H$107,8,FALSE),0)-ROUNDDOWN(10*U8/$H8,0)),IF(AND(S8=\"Nul\",$U8=$H8),58,0))))","v":0},null,{"$f":"IF(W8<>\"\",VLOOKUP(W8,$A$8:$C$107,2,FALSE),\"\")","v":""},{"$f":"IF(W8<>\"\",IF(W8=$A8,\"ERR\",IF(OR(W8=$P8,W8=$I8,W8=$AD8,W8=$AK8),\"DUP\",IF(ISNA(VLOOKUP(W8,$A$8:$A$107,1,FALSE)),\"ERR\",IF(COUNTIF($I$8:$I$107,W8)>1,\"ERR\",IF($D8=VLOOKUP(W8,$A$8:$D$107,4,FALSE),\"CLUB\",\"OK\"))))),\"\")","v":""},null,{"$f":"IF(Z8<>\"\",IF(Z8=\"Victoire\",IF(VLOOKUP(W8,$A$8:$AO$107,26,FALSE)=\"Défaite\",\"OK\",\"ERR\"),IF(Z8=\"Défaite\",IF(VLOOKUP(W8,$A$8:$AO$107,26,FALSE)=\"Victoire\",\"OK\",\"ERR\"),IF(Z8=\"Nul\",IF(VLOOKUP(W8,$A$8:$AO$107,26,FALSE)=\"Nul\",\"OK\",\"ERR\")))),\"\")","v":""},null,{"$f":"IF(Z8=\"Victoire\",100-ROUNDDOWN(20*AB8/$H8,0),\nIF(Z8=\"Défaite\",10+ROUNDDOWN(20*VLOOKUP(W8,$A$8:$AO$107,28,FALSE)/VLOOKUP(W8,$A$8:$H$107,8,FALSE),0),\nIF(AND(Z8=\"Nul\",$AB8<>$H8),40+(2*ROUNDDOWN(10*VLOOKUP(W8,$A$8:$AO$107,28,FALSE)/VLOOKUP(W8,$A$8:$H$107,8,FALSE),0)-ROUNDDOWN(10*AB8/$H8,0)),IF(AND(Z8=\"Nul\",$AB8=$H8),58,0))))","v":0},null,{"$f":"IF(AD8<>\"\",VLOOKUP(AD8,$A$8:$C$107,2,FALSE),\"\")","v":""},{"$f":"IF(AD8<>\"\",IF(AD8=$A8,\"ERR\",IF(OR(AD8=$P8,AD8=$W8,AD8=$I8,AD8=$AK8),\"DUP\",IF(ISNA(VLOOKUP(AD8,$A$8:$A$107,1,FALSE)),\"ERR\",IF(COUNTIF($I$8:$I$107,AD8)>1,\"ERR\",IF($D8=VLOOKUP(AD8,$A$8:$D$107,4,FALSE),\"CLUB\",\"OK\"))))),\"\")","v":""},null,{"$f":"IF(AG8<>\"\",IF(AG8=\"Victoire\",IF(VLOOKUP(AD8,$A$8:$AO$107,33,FALSE)=\"Défaite\",\"OK\",\"ERR\"),IF(AG8=\"Défaite\",IF(VLOOKUP(AD8,$A$8:$AO$107,33,FALSE)=\"Victoire\",\"OK\",\"ERR\"),IF(AG8=\"Nul\",IF(VLOOKUP(AD8,$A$8:$AO$107,33,FALSE)=\"Nul\",\"OK\",\"ERR\")))),\"\")","v":""},null,{"$f":"IF(AG8=\"Victoire\",100-ROUNDDOWN(20*AI8/$H8,0),\nIF(AG8=\"Défaite\",10+ROUNDDOWN(20*VLOOKUP(AD8,$A$8:$AO$107,35,FALSE)/VLOOKUP(AD8,$A$8:$H$107,8,FALSE),0),\nIF(AND(AG8=\"Nul\",$AI8<>$H8),40+(2*ROUNDDOWN(10*VLOOKUP(AD8,$A$8:$AO$107,35,FALSE)/VLOOKUP(AD8,$A$8:$H$107,8,FALSE),0)-ROUNDDOWN(10*AI8/$H8,0)),IF(AND(AG8=\"Nul\",$AI8=$H8),58,0))))","v":0},null,{"$f":"IF(AK8<>\"\",VLOOKUP(AK8,$A$8:$C$107,2,FALSE),\"\")","v":""},{"$f":"IF(AK8<>\"\",IF(AK8=$A8,\"ERR\",IF(OR(AK8=$P8,AK8=$W8,AK8=$AD8,AK8=$I8),\"DUP\",IF(ISNA(VLOOKUP(AK8,$A$8:$A$107,1,FALSE)),\"ERR\",IF(COUNTIF($I$8:$I$107,AK8)>1,\"ERR\",IF($D8=VLOOKUP(AK8,$A$8:$D$107,4,FALSE),\"CLUB\",\"OK\"))))),\"\")","v":""},null,{"$f":"IF(AN8<>\"\",IF(AN8=\"Victoire\",IF(VLOOKUP(AK8,$A$8:$AO$107,40,FALSE)=\"Défaite\",\"OK\",\"ERR\"),IF(AN8=\"Défaite\",IF(VLOOKUP(AK8,$A$8:$AO$107,40,FALSE)=\"Victoire\",\"OK\",\"ERR\"),IF(AN8=\"Nul\",IF(VLOOKUP(AK8,$A$8:$AO$107,40,FALSE)=\"Nul\",\"OK\",\"ERR\")))),\"\")","v":""},null,{"$f":"IF(AN8=\"Victoire\",100-ROUNDDOWN(20*AP8/$H8,0),\nIF(AN8=\"Défaite\",10+ROUNDDOWN(20*VLOOKUP(AK8,$A$8:$CB$107,42,FALSE)/VLOOKUP(AK8,$A$8:$H$107,8,FALSE),0),\nIF(AND(AN8=\"Nul\",$AP8<>$H8),40+(2*ROUNDDOWN(10*VLOOKUP(AK8,$A$8:$CB$107,42,FALSE)/VLOOKUP(AK8,$A$8:$H$107,8,FALSE),0)-ROUNDDOWN(10*AP8/$H8,0)),IF(AND(AN8=\"Nul\",$AP8=$H8),58,0))))","v":0},null,{"$f":"IF(AR8<>\"\",VLOOKUP(AR8,$A$8:$C$107,2,FALSE),\"\")","v":""},{"$f":"IF(AR8<>\"\",IF(AR8=$A8,\"ERR\",IF(OR(AR8=$I8,AR8=$P8,AR8=$W8,AR8=$AD8,AR8=$AK8),\"DUP\",IF(ISNA(VLOOKUP(AR8,$A$8:$A$107,1,FALSE)),\"ERR\",IF(COUNTIF($I$8:$I$107,AR8)>1,\"ERR\",IF($D8=VLOOKUP(AR8,$A$8:$D$107,4,FALSE),\"CLUB\",\"OK\"))))),\"\")","v":""},null,{"$f":"IF(AU8<>\"\",IF(AU8=\"Victoire\",IF(VLOOKUP(AR8,$A$8:$BL$107,47,FALSE)=\"Défaite\",\"OK\",\"ERR\"),IF(AU8=\"Défaite\",IF(VLOOKUP(AR8,$A$8:$BL$107,47,FALSE)=\"Victoire\",\"OK\",\"ERR\"),IF(AU8=\"Nul\",IF(VLOOKUP(AR8,$A$8:$BL$107,47,FALSE)=\"Nul\",\"OK\",\"ERR\")))),\"\")","v":""},null,{"$f":"IF(AU8=\"Victoire\",100-ROUNDDOWN(20*AW8/$H8,0),\nIF(AU8=\"Défaite\",10+ROUNDDOWN(20*VLOOKUP(AR8,$A$8:$CB$107,49,FALSE)/VLOOKUP(AR8,$A$8:$H$107,8,FALSE),0),\nIF(AND(AU8=\"Nul\",$AW8<>$H8),40+(2*ROUNDDOWN(10*VLOOKUP(AR8,$A$8:$CB$107,49,FALSE)/VLOOKUP(AR8,$A$8:$H$107,8,FALSE),0)-ROUNDDOWN(10*AW8/$H8,0)),IF(AND(AU8=\"Nul\",$AW8=$H8),58,0))))","v":0},null,{"$f":"IF(AY8<>\"\",VLOOKUP(AY8,$A$8:$C$107,2,FALSE),\"\")","v":""},{"$f":"IF(AY8<>\"\",IF(AY8=$A8,\"ERR\",IF(OR(AY8=$I8,AY8=$P8,AY8=$W8,AY8=$AD8,AY8=$AK8,AY8=$AR8),\"DUP\",IF(ISNA(VLOOKUP(AY8,$A$8:$A$107,1,FALSE)),\"ERR\",IF(COUNTIF($I$8:$I$107,AY8)>1,\"ERR\",IF($D8=VLOOKUP(AY8,$A$8:$D$107,4,FALSE),\"CLUB\",\"OK\"))))),\"\")","v":""},null,{"$f":"IF(BB8<>\"\",IF(BB8=\"Victoire\",IF(VLOOKUP(AY8,$A$8:$BL$107,54,FALSE)=\"Défaite\",\"OK\",\"ERR\"),IF(BB8=\"Défaite\",IF(VLOOKUP(AY8,$A$8:$BL$107,54,FALSE)=\"Victoire\",\"OK\",\"ERR\"),IF(BB8=\"Nul\",IF(VLOOKUP(AY8,$A$8:$BL$107,54,FALSE)=\"Nul\",\"OK\",\"ERR\")))),\"\")","v":""},null,{"$f":"IF(BB8=\"Victoire\",100-ROUNDDOWN(20*BD8/$H8,0),\nIF(BB8=\"Défaite\",10+ROUNDDOWN(20*VLOOKUP(AY8,$A$8:$CB$107,56,FALSE)/VLOOKUP(AY8,$A$8:$H$107,8,FALSE),0),\nIF(AND(BB8=\"Nul\",$BD8<>$H8),40+(2*ROUNDDOWN(10*VLOOKUP(AY8,$A$8:$CB$107,56,FALSE)/VLOOKUP(AY8,$A$8:$H$107,8,FALSE),0)-ROUNDDOWN(10*BD8/$H8,0)),IF(AND(BB8=\"Nul\",$BD8=$H8),58,0))))","v":0},null,{"$f":"IF(BF8<>\"\",VLOOKUP(BF8,$A$8:$C$107,2,FALSE),\"\")","v":""},{"$f":"IF(BF8<>\"\",IF(BF8=$A8,\"ERR\",IF(OR(BF8=$I8,BF8=$P8,BF8=$W8,BF8=$AD8,BF8=$AK8,BF8=$AR8,BF8=$AY8),\"DUP\",IF(ISNA(VLOOKUP(BF8,$A$8:$A$107,1,FALSE)),\"ERR\",IF(COUNTIF($I$8:$I$107,BF8)>1,\"ERR\",IF($D8=VLOOKUP(BF8,$A$8:$D$107,4,FALSE),\"CLUB\",\"OK\"))))),\"\")","v":""},null,{"$f":"IF(BI8<>\"\",IF(BI8=\"Victoire\",IF(VLOOKUP(BF8,$A$8:$BL$107,61,FALSE)=\"Défaite\",\"OK\",\"ERR\"),IF(BI8=\"Défaite\",IF(VLOOKUP(BF8,$A$8:$BL$107,61,FALSE)=\"Victoire\",\"OK\",\"ERR\"),IF(BI8=\"Nul\",IF(VLOOKUP(BF8,$A$8:$BL$107,61,FALSE)=\"Nul\",\"OK\",\"ERR\")))),\"\")","v":""},null,{"$f":"IF(BI8=\"Victoire\",100-ROUNDDOWN(20*BK8/$H8,0),\nIF(BI8=\"Défaite\",10+ROUNDDOWN(20*VLOOKUP(BF8,$A$8:$CB$107,63,FALSE)/VLOOKUP(BF8,$A$8:$H$107,8,FALSE),0),\nIF(AND(BI8=\"Nul\",$BK8<>$H8),40+(2*ROUNDDOWN(10*VLOOKUP(BF8,$A$8:$CB$107,63,FALSE)/VLOOKUP(BF8,$A$8:$H$107,8,FALSE),0)-ROUNDDOWN(10*BK8/$H8,0)),IF(AND(BI8=\"Nul\",$BK8=$H8),58,0))))","v":0},null,{"$f":"IF(BM8<>\"\",VLOOKUP(BM8,$A$8:$C$107,2,FALSE),\"\")","v":""},{"$f":"IF(BM8<>\"\",IF(BM8=$A8,\"ERR\",IF(OR(BM8=$I8,BM8=$P8,BM8=$W8,BM8=$AD8,BM8=$AK8,BM8=$AR8,BM8=$AY8,BM8=$BF8),\"DUP\",IF(ISNA(VLOOKUP(BM8,$A$8:$A$107,1,FALSE)),\"ERR\",IF(COUNTIF($I$8:$I$107,BM8)>1,\"ERR\",IF($D8=VLOOKUP(BM8,$A$8:$D$107,4,FALSE),\"CLUB\",\"OK\"))))),\"\")","v":""},null,{"$f":"IF(BP8<>\"\",IF(BP8=\"Victoire\",IF(VLOOKUP(BM8,$A$8:$BS$107,68,FALSE)=\"Défaite\",\"OK\",\"ERR\"),IF(BP8=\"Défaite\",IF(VLOOKUP(BM8,$A$8:$BS$107,68,FALSE)=\"Victoire\",\"OK\",\"ERR\"),IF(BP8=\"Nul\",IF(VLOOKUP(BM8,$A$8:$BS$107,68,FALSE)=\"Nul\",\"OK\",\"ERR\")))),\"\")","v":""},null,{"$f":"IF(BP8=\"Victoire\",100-ROUNDDOWN(20*BR8/$H8,0),\nIF(BP8=\"Défaite\",10+ROUNDDOWN(20*VLOOKUP(BM8,$A$8:$CB$107,70,FALSE)/VLOOKUP(BM8,$A$8:$H$107,8,FALSE),0),\nIF(AND(BP8=\"Nul\",$BR8<>$H8),40+(2*ROUNDDOWN(10*VLOOKUP(BM8,$A$8:$CB$107,70,FALSE)/VLOOKUP(BM8,$A$8:$H$107,8,FALSE),0)-ROUNDDOWN(10*BR8/$H8,0)),IF(AND(BP8=\"Nul\",$BR8=$H8),58,0))))","v":0},null,{"$f":"IF($I8<>\"\",VLOOKUP($I8,$A$8:$N$107,5,FALSE),0)+IF($P8<>\"\",VLOOKUP($P8,$A$8:$N$107,5,FALSE),0)+IF($W8<>\"\",VLOOKUP($W8,$A$8:$N$107,5,FALSE),0)+IF($AD8<>\"\",VLOOKUP($AD8,$A$8:$N$107,5,FALSE),0)+IF($AK8<>\"\",VLOOKUP($AK8,$A$8:$N$107,5,FALSE),0)+IF($AR8<>\"\",VLOOKUP($AR8,$A$8:$N$107,5,FALSE),0)+IF($AY8<>\"\",VLOOKUP($AY8,$A$8:$N$107,5,FALSE),0)+IF($BF8<>\"\",VLOOKUP($BF8,$A$8:$N$107,5,FALSE),0)+IF($BM8<>\"\",VLOOKUP($BM8,$A$8:$N$107,5,FALSE),0)","v":0}]
[1579,"Wright","Alistair","Millbrook",0,null,{"$f":"IF($F9<>\"\",VLOOKUP(F9,Armies!$A$1:$C$300,3,FALSE),\"\")","v":""},null,null,"","",null,"",null,0,null,"","",null,"",null,0,null,"","",null,"",null,0,null,"","",null,"",null,0,null,"","",null,"",null,0,null,"","",null,"",null,0,null,"","",null,"",null,0,null,"","",null,"",null,0,null,"","",null,"",null,0,null,0]
[748,"Whitby","Andrew","Bristol",0,null,{"$f":"IF($F10<>\"\",VLOOKUP(F10,Armies!$A$1:$C$300,3,FALSE),\"\")","v":""},null,null,"","",null,"",null,0,null,"","",null,"",null,0,null,"","",null,"",null,0,null,"","",null,"",null,0,null,"","",null,"",null,0,null,"","",null,"",null,0,null,"","",null,"",null,0,null,"","",null,"",null,0,null,"","",null,"",null,0,null,0]
[1598,"Fyfe","Andy","FDWG",0,null,{"$f":"IF($F11<>\"\",VLOOKUP(F11,Armies!$A$1:$C$300,3,FALSE),\"\")","v":""},null,null,"","",null,"",null,0,null,"","",null,"",null,0,null,"","",null,"",null,0,null,"","",null,"",null,0,null,"","",null,"",null,0,null,"","",null,"",null,0,null,"","",null,"",null,0,null,"","",null,"",null,0,null,"","",null,"",null,0,null,0]
[714,"Gilbert","Andy","Pompey",0,null,{"$f":"IF($F12<>\"\",VLOOKUP(F12,Armies!$A$1:$C$300,3,FALSE),\"\")","v":""},null,null,"","",null,"",null,0,null,"","",null,"",null,0,null,"","",null,"",null,0,null,"","",null,"",null,0,null,"","",null,"",null,0,null,"","",null,"",null,0,null,"","",null,"",null,0,null,"","",null,"",null,0,null,"","",null,"",null,0,null,0]
[1447,"Robinson","Antony","Durham",0,null,{"$f":"IF($F13<>\"\",VLOOKUP(F13,Armies!$A$1:$C$300,3,FALSE),\"\")","v":""},null,null,"","",null,"",null,0,null,"","",null,"",null,0,null,"","",null,"",null,0,null,"","",null,"",null,0,null,"","",null,"",null,0,null,"","",null,"",null,0,null,"","",null,"",null,0,null,"","",null,"",null,0,null,"","",null,"",null,0,null,0]
[773,"Masefield","Charles","Oxford",0,null,{"$f":"IF($F14<>\"\",VLOOKUP(F14,Armies!$A$1:$C$300,3,FALSE),\"\")","v":""},null,null,"","",null,"",null,0,null,"","",null,"",null,0,null,"","",null,"",null,0,null,"","",null,"",null,0,null,"","",null,"",null,0,null,"","",null,"",null,0,null,"","",null,"",null,0,null,"","",null,"",null,0,null,"","",null,"",null,0,null,0]
[1549,"Whittaker","Colin","Entoyment",0,null,{"$f":"IF($F15<>\"\",VLOOKUP(F15,Armies!$A$1:$C$300,3,FALSE),\"\")","v":""},null,null,"","",null,"",null,0,null,"","",null,"",null,0,null,"","",null,"",null,0,null,"","",null,"",null,0,null,"","",null,"",null,0,null,"","",null,"",null,0,null,"","",null,"",null,0,null,"","",null,"",null,0,null,"","",null,"",null,0,null,0]
[1435,"Hutchby","Dave","Derby",0,119,{"$f":"IF($F16<>\"\",VLOOKUP(F16,Armies!$A$1:$C$300,3,FALSE),\"\")","v":"Chinese Northern and Southern Dynasties"},23,null,"","",null,"",null,0,null,"","",null,"",null,0,null,"","",null,"",null,0,null,"","",null,"",null,0,null,"","",null,"",null,0,null,"","",null,"",null,0,null,"","",null,"",null,0,null,"","",null,"",null,0,null,"","",null,"",null,0,null,0]
[1017,"Roberts","David","Cambridge",0,null,{"$f":"IF($F17<>\"\",VLOOKUP(F17,Armies!$A$1:$C$300,3,FALSE),\"\")","v":""},null,null,"","",null,"",null,0,null,"","",null,"",null,0,null,"","",null,"",null,0,null,"","",null,"",null,0,null,"","",null,"",null,0,null,"","",null,"",null,0,null,"","",null,"",null,0,null,"","",null,"",null,0,null,"","",null,"",null,0,null,0]
[1576,"Dryden","David","FDWC",0,null,{"$f":"IF($F18<>\"\",VLOOKUP(F18,Armies!$A$1:$C$300,3,FALSE),\"\")","v":""},null,null,"","",null,"",null,0,null,"","",null,"",null,0,null,"","",null,"",null,0,null,"","",null,"",null,0,null,"","",null,"",null,0,null,"","",null,"",null,0,null,"","",null,"",null,0,null,"","",null,"",null,0,null,"","",null,"",null,0,null,0]
[1509,"Watson","Frazer","FDWG",0,114,{"$f":"IF($F19<>\"\",VLOOKUP(F19,Armies!$A$1:$C$300,3,FALSE),\"\")","v":"Kingdom of Axum"},30,null,"","",null,"",null,0,null,"","",null,"",null,0,null,"","",null,"",null,0,null,"","",null,"",null,0,null,"","",null,"",null,0,null,"","",null,"",null,0,null,"","",null,"",null,0,null,"","",null,"",null,0,null,"","",null,"",null,0,null,0]
[715,"Jamieson","Gordon","CLWC",0,null,{"$f":"IF($F20<>\"\",VLOOKUP(F20,Armies!$A$1:$C$300,3,FALSE),\"\")","v":""},null,null,"","",null,"",null,0,null,"","",null,"",null,0,null,"","",null,"",null,0,null,"","",null,"",null,0,null,"","",null,"",null,0,null,"","",null,"",null,0,null,"","",null,"",null,0,null,"","",null,"",null,0,null,"","",null,"",null,0,null,0]
[1131,"Miller","Gordon","FDWC",0,null,{"$f":"IF($F21<>\"\",VLOOKUP(F21,Armies!$A$1:$C$300,3,FALSE),\"\")","v":""},null,null,"","",null,"",null,0,null,"","",null,"",null,0,null,"","",null,"",null,0,null,"","",null,"",null,0,null,"","",null,"",null,0,null,"","",null,"",null,0,null,"","",null,"",null,0,null,"","",null,"",null,0,null,"","",null,"",null,0,null,0]
[1483,"Sewell","Ian","WAR",0,null,{"$f":"IF($F22<>\"\",VLOOKUP(F22,Armies!$A$1:$C$300,3,FALSE),\"\")","v":""},null,null,"","",null,"",null,0,null,"","",null,"",null,0,null,"","",null,"",null,0,null,"","",null,"",null,0,null,"","",null,"",null,0,null,"","",null,"",null,0,null,"","",null,"",null,0,null,"","",null,"",null,0,null,"","",null,"",null,0,null,0]
[1538,"Gibson","James","FDWG",0,null,{"$f":"IF($F23<>\"\",VLOOKUP(F23,Armies!$A$1:$C$300,3,FALSE),\"\")","v":""},null,null,"","",null,"",null,0,null,"","",null,"",null,0,null,"","",null,"",null,0,null,"","",null,"",null,0,null,"","",null,"",null,0,null,"","",null,"",null,0,null,"","",null,"",null,0,null,"","",null,"",null,0,null,"","",null,"",null,0,null,0]
[485,"Schoor","Jesse","WAR",0,null,{"$f":"IF($F24<>\"\",VLOOKUP(F24,Armies!$A$1:$C$300,3,FALSE),\"\")","v":""},null,null,"","",null,"",null,0,null,"","",null,"",null,0,null,"","",null,"",null,0,null,"","",null,"",null,0,null,"","",null,"",null,0,null,"","",null,"",null,0,null,"","",null,"",null,0,null,"","",null,"",null,0,null,"","",null,"",null,0,null,0]
[795,"Fry","Mark","Bristol",0,null,{"$f":"IF($F25<>\"\",VLOOKUP(F25,Armies!$A$1:$C$300,3,FALSE),\"\")","v":""},null,null,"","",null,"",null,0,null,"","",null,"",null,0,null,"","",null,"",null,0,null,"","",null,"",null,0,null,"","",null,"",null,0,null,"","",null,"",null,0,null,"","",null,"",null,0,null,"","",null,"",null,0,null,"","",null,"",null,0,null,0]
[1807,"Gilby","Mark","CLWC",0,null,{"$f":"IF($F26<>\"\",VLOOKUP(F26,Armies!$A$1:$C$300,3,FALSE),\"\")","v":""},null,null,"","",null,"",null,0,null,"","",null,"",null,0,null,"","",null,"",null,0,null,"","",null,"",null,0,null,"","",null,"",null,0,null,"","",null,"",null,0,null,"","",null,"",null,0,null,"","",null,"",null,0,null,"","",null,"",null,0,null,0]
[858,"Bennett","Mike","Carnforth",0,null,{"$f":"IF($F27<>\"\",VLOOKUP(F27,Armies!$A$1:$C$300,3,FALSE),\"\")","v":""},null,null,"","",null,"",null,0,null,"","",null,"",null,0,null,"","",null,"",null,0,null,"","",null,"",null,0,null,"","",null,"",null,0,null,"","",null,"",null,0,null,"","",null,"",null,0,null,"","",null,"",null,0,null,"","",null,"",null,0,null,0]
[1015,"Sharp","Nik","Warlords",0,null,{"$f":"IF($F28<>\"\",VLOOKUP(F28,Armies!$A$1:$C$300,3,FALSE),\"\")","v":""},null,null,"","",null,"",null,0,null,"","",null,"",null,0,null,"","",null,"",null,0,null,"","",null,"",null,0,null,"","",null,"",null,0,null,"","",null,"",null,0,null,"","",null,"",null,0,null,"","",null,"",null,0,null,"","",null,"",null,0,null,0]
[1308,"Dawson","Paul","York",0,null,{"$f":"IF($F29<>\"\",VLOOKUP(F29,Armies!$A$1:$C$300,3,FALSE),\"\")","v":""},null,null,"","",null,"",null,0,null,"","",null,"",null,0,null,"","",null,"",null,0,null,"","",null,"",null,0,null,"","",null,"",null,0,null,"","",null,"",null,0,null,"","",null,"",null,0,null,"","",null,"",null,0,null,"","",null,"",null,0,null,0]
[1309,"Johnston","Paul","York",0,null,{"$f":"IF($F30<>\"\",VLOOKUP(F30,Armies!$A$1:$C$300,3,FALSE),\"\")","v":""},null,null,"","",null,"",null,0,null,"","",null,"",null,0,null,"","",null,"",null,0,null,"","",null,"",null,0,null,"","",null,"",null,0,null,"","",null,"",null,0,null,"","",null,"",null,0,null,"","",null,"",null,0,null,"","",null,"",null,0,null,0]
[1239,"Frith","Paul","Dorset Nomads",0,null,{"$f":"IF($F31<>\"\",VLOOKUP(F31,Armies!$A$1:$C$300,3,FALSE),\"\")","v":""},null,null,"","",null,"",null,0,null,"","",null,"",null,0,null,"","",null,"",null,0,null,"","",null,"",null,0,null,"","",null,"",null,0,null,"","",null,"",null,0,null,"","",null,"",null,0,null,"","",null,"",null,0,null,"","",null,"",null,0,null,0]
[1536,"Sanger","Pete","Pompey",0,null,{"$f":"IF($F32<>\"\",VLOOKUP(F32,Armies!$A$1:$C$300,3,FALSE),\"\")","v":""},null,null,"","",null,"",null,0,null,"","",null,"",null,0,null,"","",null,"",null,0,null,"","",null,"",null,0,null,"","",null,"",null,0,null,"","",null,"",null,0,null,"","",null,"",null,0,null,"","",null,"",null,0,null,"","",null,"",null,0,null,0]
[772,"Young","Richard","SOA",0,null,{"$f":"IF($F33<>\"\",VLOOKUP(F33,Armies!$A$1:$C$300,3,FALSE),\"\")","v":""},null,null,"","",null,"",null,0,null,"","",null,"",null,0,null,"","",null,"",null,0,null,"","",null,"",null,0,null,"","",null,"",null,0,null,"","",null,"",null,0,null,"","",null,"",null,0,null,"","",null,"",null,0,null,"","",null,"",null,0,null,0]
[1318,"Taylor","Rob","Westow",0,null,{"$f":"IF($F34<>\"\",VLOOKUP(F34,Armies!$A$1:$C$300,3,FALSE),\"\")","v":""},null,null,"","",null,"",null,0,null,"","",null,"",null,0,null,"","",null,"",null,0,null,"","",null,"",null,0,null,"","",null,"",null,0,null,"","",null,"",null,0,null,"","",null,"",null,0,null,"","",null,"",null,0,null,"","",null,"",null,0,null,0]
[1222,"Middlemist","Robert","Durham",0,null,{"$f":"IF($F35<>\"\",VLOOKUP(F35,Armies!$A$1:$C$300,3,FALSE),\"\")","v":""},null,null,"","",null,"",null,0,null,"","",null,"",null,0,null,"","",null,"",null,0,null,"","",null,"",null,0,null,"","",null,"",null,0,null,"","",null,"",null,0,null,"","",null,"",null,0,null,"","",null,"",null,0,null,"","",null,"",null,0,null,0]
[1008,"Jackson","Robin","God Knows",0,null,{"$f":"IF($F36<>\"\",VLOOKUP(F36,Armies!$A$1:$C$300,3,FALSE),\"\")","v":""},null,null,"","",null,"",null,0,null,"","",null,"",null,0,null,"","",null,"",null,0,null,"","",null,"",null,0,null,"","",null,"",null,0,null,"","",null,"",null,0,null,"","",null,"",null,0,null,"","",null,"",null,0,null,"","",null,"",null,0,null,0]
[1418,"Nice","Stephen","WAR",0,null,{"$f":"IF($F37<>\"\",VLOOKUP(F37,Armies!$A$1:$C$300,3,FALSE),\"\")","v":""},null,null,"","",null,"",null,0,null,"","",null,"",null,0,null,"","",null,"",null,0,null,"","",null,"",null,0,null,"","",null,"",null,0,null,"","",null,"",null,0,null,"","",null,"",null,0,null,"","",null,"",null,0,null,"","",null,"",null,0,null,0]
[712,"Porter","Tim","CLWC",0,102,{"$f":"IF($F38<>\"\",VLOOKUP(F38,Armies!$A$1:$C$300,3,FALSE),\"\")","v":"Parthian"},null,null,"","",null,"",null,0,null,"","",null,"",null,0,null,"","",null,"",null,0,null,"","",null,"",null,0,null,"","",null,"",null,0,null,"","",null,"",null,0,null,"","",null,"",null,0,null,"","",null,"",null,0,null,"","",null,"",null,0,null,0]
[null,null,null,null,0,null,{"$f":"IF($F39<>\"\",VLOOKUP(F39,Armies!$A$1:$C$300,3,FALSE),\"\")","v":""},null,null,"","",null,"",null,0,null,"","",null,"",null,0,null,"","",null,"",null,0,null,"","",null,"",null,0,null,"","",null,"",null,0,null,"","",null,"",null,0,null,"","",null,"",null,0,null,"","",null,"",null,0,null,"","",null,"",null,0,null,0]
[null,null,null,null,0,null,{"$f":"IF($F40<>\"\",VLOOKUP(F40,Armies!$A$1:$C$300,3,FALSE),\"\")","v":""},null,null,"","",null,"",null,0,null,"","",null,"",null,0,null,"","",null,"",null,0,null,"","",null,"",null,0,null,"","",null,"",null,0,null,"","",null,"",null,0,null,"","",null,"",null,0,null,"","",null,"",null,0,null,"","",null,"",null,0,null,0]
[null,null,null,null,0,null,{"$f":"IF($F41<>\"\",VLOOKUP(F41,Armies!$A$1:$C$300,3,FALSE),\"\")","v":""},null,null,"","",null,"",null,0,null,"","",null,"",null,0,null,"","",null,"",null,0,null,"","",null,"",null,0,null,"","",null,"",null,0,null,"","",null,"",null,0,null,"","",null,"",null,0,null,"","",null,"",null,0,null,"","",null,"",null,0,null,0]
[null,null,null,null,0,null,{"$f":"IF($F42<>\"\",VLOOKUP(F42,Armies!$A$1:$C$300,3,FALSE),\"\")","v":""},null,null,"","",null,"",null,0,null,"","",null,"",null,0,null,"","",null,"",null,0,null,"","",null,"",null,0,null,"","",null,"",null,0,null,"","",null,"",null,0,null,"","",null,"",null,0,null,"","",null,"",null,0,null,"","",null,"",null,0,null,0]
[null,null,null,null,0,null,{"$f":"IF($F43<>\"\",VLOOKUP(F43,Armies!$A$1:$C$300,3,FALSE),\"\")","v":""},null,null,"","",null,"",null,0,null,"","",null,"",null,0,null,"","",null,"",null,0,null,"","",null,"",null,0,null,"","",null,"",null,0,null,"","",null,"",null,0,null,"","",null,"",null,0,null,"","",null,"",null,0,null,"","",null,"",null,0,null,0]
[null,null,null,null,0,null,{"$f":"IF($F44<>\"\",VLOOKUP(F44,Armies!$A$1:$C$300,3,FALSE),\"\")","v":""},null,null,"","",null,"",null,0,null,"","",null,"",null,0,null,"","",null,"",null,0,null,"","",null,"",null,0,null,"","",null,"",null,0,null,"","",null,"",null,0,null,"","",null,"",null,0,null,"","",null,"",null,0,null,"","",null,"",null,0,null,0]
[null,null,null,null,0,null,{"$f":"IF($F45<>\"\",VLOOKUP(F45,Armies!$A$1:$C$300,3,FALSE),\"\")","v":""},null,null,"","",null,"",null,0,null,"","",null,"",null,0,null,"","",null,"",null,0,null,"","",null,"",null,0,null,"","",null,"",null,0,null,"","",null,"",null,0,null,"","",null,"",null,0,null,"","",null,"",null,0,null,"","",null,"",null,0,null,0]
[null,null,null,null,0,null,{"$f":"IF($F46<>\"\",VLOOKUP(F46,Armies!$A$1:$C$300,3,FALSE),\"\")","v":""},null,null,"","",null,"",null,0,null,"","",null,"",null,0,null,"","",null,"",null,0,null,"","",null,"",null,0,null,"","",null,"",null,0,null,"","",null,"",null,0,null,"","",null,"",null,0,null,"","",null,"",null,0,null,"","",null,"",null,0,null,0]
[null,null,null,null,0,null,{"$f":"IF($F47<>\"\",VLOOKUP(F47,Armies!$A$1:$C$300,3,FALSE),\"\")","v":""},null,null,"","",null,"",null,0,null,"","",null,"",null,0,null,"","",null,"",null,0,null,"","",null,"",null,0,null,"","",null,"",null,0,null,"","",null,"",null,0,null,"","",null,"",null,0,null,"","",null,"",null,0,null,"","",null,"",null,0,null,0]
[null,null,null,null,0,null,{"$f":"IF($F48<>\"\",VLOOKUP(F48,Armies!$A$1:$C$300,3,FALSE),\"\")","v":""},null,null,"","",null,"",null,0,null,"","",null,"",null,0,null,"","",null,"",null,0,null,"","",null,"",null,0,null,"","",null,"",null,0,null,"","",null,"",null,0,null,"","",null,"",null,0,null,"","",null,"",null,0,null,"","",null,"",null,0,null,0]
[null,null,null,null,{"$f":"O49+V49+AC49+AJ49+AQ49+AX49+BE49+BL49+BS49","v":0},null,{"$f":"IF($F49<>\"\",VLOOKUP(F49,Armies!$A$1:$C$300,3,FALSE),\"\")","v":""},null,null,{"$f":"IF(I49<>\"\",VLOOKUP(I49,$A$8:$C$107,2,FALSE),\"\")","v":""},{"$f":"IF(I49<>\"\",IF(I49=$A49,\"ERR\",IF(OR(I49=$P49,I49=$W49,I49=$AD49,I49=$AK49),\"DUP\",IF(ISNA(VLOOKUP(I49,$A$8:$A$107,1,FALSE)),\"ERR\",IF(COUNTIF($I$8:$I$107,I49)>1,\"ERR\",IF($D49=VLOOKUP(I49,$A$8:$D$107,4,FALSE),\"CLUB\",\"OK\"))))),\"\")","v":""},null,{"$f":"IF(L49<>\"\",IF(L49=\"Victoire\",IF(VLOOKUP(I49,$A$8:$L$107,12,FALSE)=\"Défaite\",\"OK\",\"ERR\"),IF(L49=\"Défaite\",IF(VLOOKUP(I49,$A$8:$L$107,12,FALSE)=\"Victoire\",\"OK\",\"ERR\"),IF(L49=\"Nul\",IF(VLOOKUP(I49,$A$8:$L$107,12,FALSE)=\"Nul\",\"OK\",\"ERR\")))),\"\")","v":""},null,{"$f":"IF(L49=\"Victoire\",100-ROUNDDOWN(20*N49/$H49,0),\nIF(L49=\"Défaite\",10+ROUNDDOWN(20*VLOOKUP(I49,$A$8:$N$107,14,FALSE)/VLOOKUP(I49,$A$8:$H$107,8,FALSE),0),\nIF(AND(L49=\"Nul\",$N49<>$H49),40+(2*ROUNDDOWN(10*VLOOKUP(I49,$A$8:$N$107,14,FALSE)/VLOOKUP(I49,$A$8:$H$107,8,FALSE),0)-ROUNDDOWN(10*N49/$H49,0)),IF(AND(L49=\"Nul\",$N49=$H49),58,0))))","v":0},null,{"$f":"IF(P49<>\"\",VLOOKUP(P49,$A$8:$C$107,2,FALSE),\"\")","v":""},{"$f":"IF(P49<>\"\",IF(P49=$A49,\"ERR\",IF(OR(P49=$I49,P49=$W49,P49=$AD49,P49=$AK49),\"DUP\",IF(ISNA(VLOOKUP(P49,$A$8:$A$107,1,FALSE)),\"ERR\",IF(COUNTIF($I$8:$I$107,P49)>1,\"ERR\",IF($D49=VLOOKUP(P49,$A$8:$D$107,4,FALSE),\"CLUB\",\"OK\"))))),\"\")","v":""},null,{"$f":"IF(S49<>\"\",IF(S49=\"Victoire\",IF(VLOOKUP(P49,$A$8:$AO$107,19,FALSE)=\"Défaite\",\"OK\",\"ERR\"),IF(S49=\"Défaite\",IF(VLOOKUP(P49,$A$8:$AO$107,19,FALSE)=\"Victoire\",\"OK\",\"ERR\"),IF(S49=\"Nul\",IF(VLOOKUP(P49,$A$8:$AO$107,19,FALSE)=\"Nul\",\"OK\",\"ERR\")))),\"\")","v":""},null,{"$f":"IF(S49=\"Victoire\",100-ROUNDDOWN(20*U49/$H49,0),\nIF(S49=\"Défaite\",10+ROUNDDOWN(20*VLOOKUP(P49,$A$8:$AO$107,21,FALSE)/VLOOKUP(P49,$A$8:$H$107,8,FALSE),0),\nIF(AND(S49=\"Nul\",$U49<>$H49),40+(2*ROUNDDOWN(10*VLOOKUP(P49,$A$8:$AO$107,21,FALSE)/VLOOKUP(P49,$A$8:$H$107,8,FALSE),0)-ROUNDDOWN(10*U49/$H49,0)),IF(AND(S49=\"Nul\",$U49=$H49),58,0))))","v":0},null,{"$f":"IF(W49<>\"\",VLOOKUP(W49,$A$8:$C$107,2,FALSE),\"\")","v":""},{"$f":"IF(W49<>\"\",IF(W49=$A49,\"ERR\",IF(OR(W49=$P49,W49=$I49,W49=$AD49,W49=$AK49),\"DUP\",IF(ISNA(VLOOKUP(W49,$A$8:$A$107,1,FALSE)),\"ERR\",IF(COUNTIF($I$8:$I$107,W49)>1,\"ERR\",IF($D49=VLOOKUP(W49,$A$8:$D$107,4,FALSE),\"CLUB\",\"OK\"))))),\"\")","v":""},null,{"$f":"IF(Z49<>\"\",IF(Z49=\"Victoire\",IF(VLOOKUP(W49,$A$8:$AO$107,26,FALSE)=\"Défaite\",\"OK\",\"ERR\"),IF(Z49=\"Défaite\",IF(VLOOKUP(W49,$A$8:$AO$107,26,FALSE)=\"Victoire\",\"OK\",\"ERR\"),IF(Z49=\"Nul\",IF(VLOOKUP(W49,$A$8:$AO$107,26,FALSE)=\"Nul\",\"OK\",\"ERR\")))),\"\")","v":""},null,{"$f":"IF(Z49=\"Victoire\",100-ROUNDDOWN(20*AB49/$H49,0),\nIF(Z49=\"Défaite\",10+ROUNDDOWN(20*VLOOKUP(W49,$A$8:$AO$107,28,FALSE)/VLOOKUP(W49,$A$8:$H$107,8,FALSE),0),\nIF(AND(Z49=\"Nul\",$AB49<>$H49),40+(2*ROUNDDOWN(10*VLOOKUP(W49,$A$8:$AO$107,28,FALSE)/VLOOKUP(W49,$A$8:$H$107,8,FALSE),0)-ROUNDDOWN(10*AB49/$H49,0)),IF(AND(Z49=\"Nul\",$AB49=$H49),58,0))))","v":0},null,{"$f":"IF(AD49<>\"\",VLOOKUP(AD49,$A$8:$C$107,2,FALSE),\"\")","v":""},{"$f":"IF(AD49<>\"\",IF(AD49=$A49,\"ERR\",IF(OR(AD49=$P49,AD49=$W49,AD49=$I49,AD49=$AK49),\"DUP\",IF(ISNA(VLOOKUP(AD49,$A$8:$A$107,1,FALSE)),\"ERR\",IF(COUNTIF($I$8:$I$107,AD49)>1,\"ERR\",IF($D49=VLOOKUP(AD49,$A$8:$D$107,4,FALSE),\"CLUB\",\"OK\"))))),\"\")","v":""},null,{"$f":"IF(AG49<>\"\",IF(AG49=\"Victoire\",IF(VLOOKUP(AD49,$A$8:$AO$107,33,FALSE)=\"Défaite\",\"OK\",\"ERR\"),IF(AG49=\"Défaite\",IF(VLOOKUP(AD49,$A$8:$AO$107,33,FALSE)=\"Victoire\",\"OK\",\"ERR\"),IF(AG49=\"Nul\",IF(VLOOKUP(AD49,$A$8:$AO$107,33,FALSE)=\"Nul\",\"OK\",\"ERR\")))),\"\")","v":""},null,{"$f":"IF(AG49=\"Victoire\",100-ROUNDDOWN(20*AI49/$H49,0),\nIF(AG49=\"Défaite\",10+ROUNDDOWN(20*VLOOKUP(AD49,$A$8:$AO$107,35,FALSE)/VLOOKUP(AD49,$A$8:$H$107,8,FALSE),0),\nIF(AND(AG49=\"Nul\",$AI49<>$H49),40+(2*ROUNDDOWN(10*VLOOKUP(AD49,$A$8:$AO$107,35,FALSE)/VLOOKUP(AD49,$A$8:$H$107,8,FALSE),0)-ROUNDDOWN(10*AI49/$H49,0)),IF(AND(AG49=\"Nul\",$AI49=$H49),58,0))))","v":0},null,{"$f":"IF(AK49<>\"\",VLOOKUP(AK49,$A$8:$C$107,2,FALSE),\"\")","v":""},{"$f":"IF(AK49<>\"\",IF(AK49=$A49,\"ERR\",IF(OR(AK49=$P49,AK49=$W49,AK49=$AD49,AK49=$I49),\"DUP\",IF(ISNA(VLOOKUP(AK49,$A$8:$A$107,1,FALSE)),\"ERR\",IF(COUNTIF($I$8:$I$107,AK49)>1,\"ERR\",IF($D49=VLOOKUP(AK49,$A$8:$D$107,4,FALSE),\"CLUB\",\"OK\"))))),\"\")","v":""},null,{"$f":"IF(AN49<>\"\",IF(AN49=\"Victoire\",IF(VLOOKUP(AK49,$A$8:$AO$107,40,FALSE)=\"Défaite\",\"OK\",\"ERR\"),IF(AN49=\"Défaite\",IF(VLOOKUP(AK49,$A$8:$AO$107,40,FALSE)=\"Victoire\",\"OK\",\"ERR\"),IF(AN49=\"Nul\",IF(VLOOKUP(AK49,$A$8:$AO$107,40,FALSE)=\"Nul\",\"OK\",\"ERR\")))),\"\")","v":""},null,{"$f":"IF(AN49=\"Victoire\",100-ROUNDDOWN(20*AP49/$H49,0),\nIF(AN49=\"Défaite\",10+ROUNDDOWN(20*VLOOKUP(AK49,$A$8:$CB$107,42,FALSE)/VLOOKUP(AK49,$A$8:$H$107,8,FALSE),0),\nIF(AND(AN49=\"Nul\",$AP49<>$H49),40+(2*ROUNDDOWN(10*VLOOKUP(AK49,$A$8:$CB$107,42,FALSE)/VLOOKUP(AK49,$A$8:$H$107,8,FALSE),0)-ROUNDDOWN(10*AP49/$H49,0)),IF(AND(AN49=\"Nul\",$AP49=$H49),58,0))))","v":0},null,{"$f":"IF(AR49<>\"\",VLOOKUP(AR49,$A$8:$C$107,2,FALSE),\"\")","v":""},{"$f":"IF(AR49<>\"\",IF(AR49=$A49,\"ERR\",IF(OR(AR49=$I49,AR49=$P49,AR49=$W49,AR49=$AD49,AR49=$AK49),\"DUP\",IF(ISNA(VLOOKUP(AR49,$A$8:$A$107,1,FALSE)),\"ERR\",IF(COUNTIF($I$8:$I$107,AR49)>1,\"ERR\",IF($D49=VLOOKUP(AR49,$A$8:$D$107,4,FALSE),\"CLUB\",\"OK\"))))),\"\")","v":""},null,{"$f":"IF(AU49<>\"\",IF(AU49=\"Victoire\",IF(VLOOKUP(AR49,$A$8:$BL$107,47,FALSE)=\"Défaite\",\"OK\",\"ERR\"),IF(AU49=\"Défaite\",IF(VLOOKUP(AR49,$A$8:$BL$107,47,FALSE)=\"Victoire\",\"OK\",\"ERR\"),IF(AU49=\"Nul\",IF(VLOOKUP(AR49,$A$8:$BL$107,47,FALSE)=\"Nul\",\"OK\",\"ERR\")))),\"\")","v":""},null,{"$f":"IF(AU49=\"Victoire\",100-ROUNDDOWN(20*AW49/$H49,0),\nIF(AU49=\"Défaite\",10+ROUNDDOWN(20*VLOOKUP(AR49,$A$8:$CB$107,49,FALSE)/VLOOKUP(AR49,$A$8:$H$107,8,FALSE),0),\nIF(AND(AU49=\"Nul\",$AW49<>$H49),40+(2*ROUNDDOWN(10*VLOOKUP(AR49,$A$8:$CB$107,49,FALSE)/VLOOKUP(AR49,$A$8:$H$107,8,FALSE),0)-ROUNDDOWN(10*AW49/$H49,0)),IF(AND(AU49=\"Nul\",$AW49=$H49),58,0))))","v":0},null,{"$f":"IF(AY49<>\"\",VLOOKUP(AY49,$A$8:$C$107,2,FALSE),\"\")","v":""},{"$f":"IF(AY49<>\"\",IF(AY49=$A49,\"ERR\",IF(OR(AY49=$I49,AY49=$P49,AY49=$W49,AY49=$AD49,AY49=$AK49,AY49=$AR49),\"DUP\",IF(ISNA(VLOOKUP(AY49,$A$8:$A$107,1,FALSE)),\"ERR\",IF(COUNTIF($I$8:$I$107,AY49)>1,\"ERR\",IF($D49=VLOOKUP(AY49,$A$8:$D$107,4,FALSE),\"CLUB\",\"OK\"))))),\"\")","v":""},null,{"$f":"IF(BB49<>\"\",IF(BB49=\"Victoire\",IF(VLOOKUP(AY49,$A$8:$BL$107,54,FALSE)=\"Défaite\",\"OK\",\"ERR\"),IF(BB49=\"Défaite\",IF(VLOOKUP(AY49,$A$8:$BL$107,54,FALSE)=\"Victoire\",\"OK\",\"ERR\"),IF(BB49=\"Nul\",IF(VLOOKUP(AY49,$A$8:$BL$107,54,FALSE)=\"Nul\",\"OK\",\"ERR\")))),\"\")","v":""},null,{"$f":"IF(BB49=\"Victoire\",100-ROUNDDOWN(20*BD49/$H49,0),\nIF(BB49=\"Défaite\",10+ROUNDDOWN(20*VLOOKUP(AY49,$A$8:$CB$107,56,FALSE)/VLOOKUP(AY49,$A$8:$H$107,8,FALSE),0),\nIF(AND(BB49=\"Nul\",$BD49<>$H49),40+(2*ROUNDDOWN(10*VLOOKUP(AY49,$A$8:$CB$107,56,FALSE)/VLOOKUP(AY49,$A$8:$H$107,8,FALSE),0)-ROUNDDOWN(10*BD49/$H49,0)),IF(AND(BB49=\"Nul\",$BD49=$H49),58,0))))","v":0},null,{"$f":"IF(BF49<>\"\",VLOOKUP(BF49,$A$8:$C$107,2,FALSE),\"\")","v":""},{"$f":"IF(BF49<>\"\",IF(BF49=$A49,\"ERR\",IF(OR(BF49=$I49,BF49=$P49,BF49=$W49,BF49=$AD49,BF49=$AK49,BF49=$AR49,BF49=$AY49),\"DUP\",IF(ISNA(VLOOKUP(BF49,$A$8:$A$107,1,FALSE)),\"ERR\",IF(COUNTIF($I$8:$I$107,BF49)>1,\"ERR\",IF($D49=VLOOKUP(BF49,$A$8:$D$107,4,FALSE),\"CLUB\",\"OK\"))))),\"\")","v":""},null,{"$f":"IF(BI49<>\"\",IF(BI49=\"Victoire\",IF(VLOOKUP(BF49,$A$8:$BL$107,61,FALSE)=\"Défaite\",\"OK\",\"ERR\"),IF(BI49=\"Défaite\",IF(VLOOKUP(BF49,$A$8:$BL$107,61,FALSE)=\"Victoire\",\"OK\",\"ERR\"),IF(BI49=\"Nul\",IF(VLOOKUP(BF49,$A$8:$BL$107,61,FALSE)=\"Nul\",\"OK\",\"ERR\")))),\"\")","v":""},null,{"$f":"IF(BI49=\"Victoire\",100-ROUNDDOWN(20*BK49/$H49,0),\nIF(BI49=\"Défaite\",10+ROUNDDOWN(20*VLOOKUP(BF49,$A$8:$CB$107,63,FALSE)/VLOOKUP(BF49,$A$8:$H$107,8,FALSE),0),\nIF(AND(BI49=\"Nul\",$BK49<>$H49),40+(2*ROUNDDOWN(10*VLOOKUP(BF49,$A$8:$CB$107,63,FALSE)/VLOOKUP(BF49,$A$8:$H$107,8,FALSE),0)-ROUNDDOWN(10*BK49/$H49,0)),IF(AND(BI49=\"Nul\",$BK49=$H49),58,0))))","v":0},null,{"$f":"IF(BM49<>\"\",VLOOKUP(BM49,$A$8:$C$107,2,FALSE),\"\")","v":""},{"$f":"IF(BM49<>\"\",IF(BM49=$A49,\"ERR\",IF(OR(BM49=$I49,BM49=$P49,BM49=$W49,BM49=$AD49,BM49=$AK49,BM49=$AR49,BM49=$AY49,BM49=$BF49),\"DUP\",IF(ISNA(VLOOKUP(BM49,$A$8:$A$107,1,FALSE)),\"ERR\",IF(COUNTIF($I$8:$I$107,BM49)>1,\"ERR\",IF($D49=VLOOKUP(BM49,$A$8:$D$107,4,FALSE),\"CLUB\",\"OK\"))))),\"\")","v":""},null,{"$f":"IF(BP49<>\"\",IF(BP49=\"Victoire\",IF(VLOOKUP(BM49,$A$8:$BS$107,68,FALSE)=\"Défaite\",\"OK\",\"ERR\"),IF(BP49=\"Défaite\",IF(VLOOKUP(BM49,$A$8:$BS$107,68,FALSE)=\"Victoire\",\"OK\",\"ERR\"),IF(BP49=\"Nul\",IF(VLOOKUP(BM49,$A$8:$BS$107,68,FALSE)=\"Nul\",\"OK\",\"ERR\")))),\"\")","v":""},null,{"$f":"IF(BP49=\"Victoire\",100-ROUNDDOWN(20*BR49/$H49,0),\nIF(BP49=\"Défaite\",10+ROUNDDOWN(20*VLOOKUP(BM49,$A$8:$CB$107,70,FALSE)/VLOOKUP(BM49,$A$8:$H$107,8,FALSE),0),\nIF(AND(BP49=\"Nul\",$BR49<>$H49),40+(2*ROUNDDOWN(10*VLOOKUP(BM49,$A$8:$CB$107,70,FALSE)/VLOOKUP(BM49,$A$8:$H$107,8,FALSE),0)-ROUNDDOWN(10*BR49/$H49,0)),IF(AND(BP49=\"Nul\",$BR49=$H49),58,0))))","v":0},null,{"$f":"IF($I49<>\"\",VLOOKUP($I49,$A$8:$N$107,5,FALSE),0)+IF($P49<>\"\",VLOOKUP($P49,$A$8:$N$107,5,FALSE),0)+IF($W49<>\"\",VLOOKUP($W49,$A$8:$N$107,5,FALSE),0)+IF($AD49<>\"\",VLOOKUP($AD49,$A$8:$N$107,5,FALSE),0)+IF($AK49<>\"\",VLOOKUP($AK49,$A$8:$N$107,5,FALSE),0)+IF($AR49<>\"\",VLOOKUP($AR49,$A$8:$N$107,5,FALSE),0)+IF($AY49<>\"\",VLOOKUP($AY49,$A$8:$N$107,5,FALSE),0)+IF($BF49<>\"\",VLOOKUP($BF49,$A$8:$N$107,5,FALSE),0)+IF($BM49<>\"\",VLOOKUP($BM49,$A$8:$N$107,5,FALSE),0)","v":0}]
[null,null,null,null,0,null,{"$f":"IF($F50<>\"\",VLOOKUP(F50,Armies!$A$1:$C$300,3,FALSE),\"\")","v":""},null,null,"","",null,"",null,0,null,"","",null,"",null,0,null,"","",null,"",null,0,null,"","",null,"",null,0,null,"","",null,"",null,0,null,"","",null,"",null,0,null,"","",null,"",null,0,null,"","",null,"",null,0,null,"","",null,"",null,0,null,0]
[null,null,null,null,0,null,{"$f":"IF($F51<>\"\",VLOOKUP(F51,Armies!$A$1:$C$300,3,FALSE),\"\")","v":""},null,null,"","",null,"",null,0,null,"","",null,"",null,0,null,"","",null,"",null,0,null,"","",null,"",null,0,null,"","",null,"",null,0,null,"","",null,"",null,0,null,"","",null,"",null,0,null,"","",null,"",null,0,null,"","",null,"",null,0,null,0]
[null,null,null,null,0,null,{"$f":"IF($F52<>\"\",VLOOKUP(F52,Armies!$A$1:$C$300,3,FALSE),\"\")","v":""},null,null,"","",null,"",null,0,null,"","",null,"",null,0,null,"","",null,"",null,0,null,"","",null,"",null,0,null,"","",null,"",null,0,null,"","",null,"",null,0,null,"","",null,"",null,0,null,"","",null,"",null,0,null,"","",null,"",null,0,null,0]
[null,null,null,null,0,null,{"$f":"IF($F53<>\"\",VLOOKUP(F53,Armies!$A$1:$C$300,3,FALSE),\"\")","v":""},null,null,"","",null,"",null,0,null,"","",null,"",null,0,null,"","",null,"",null,0,null,"","",null,"",null,0,null,"","",null,"",null,0,null,"","",null,"",null,0,null,"","",null,"",null,0,null,"","",null,"",null,0,null,"","",null,"",null,0,null,0]
[null,null,null,null,0,null,{"$f":"IF($F54<>\"\",VLOOKUP(F54,Armies!$A$1:$C$300,3,FALSE),\"\")","v":""},null,null,"","",null,"",null,0,null,"","",null,"",null,0,null,"","",null,"",null,0,null,"","",null,"",null,0,null,"","",null,"",null,0,null,"","",null,"",null,0,null,"","",null,"",null,0,null,"","",null,"",null,0,null,"","",null,"",null,0,null,0]
[null,null,null,null,0,null,{"$f":"IF($F55<>\"\",VLOOKUP(F55,Armies!$A$1:$C$300,3,FALSE),\"\")","v":""},null,null,"","",null,"",null,0,null,"","",null,"",null,0,null,"","",null,"",null,0,null,"","",null,"",null,0,null,"","",null,"",null,0,null,"","",null,"",null,0,null,"","",null,"",null,0,null,"","",null,"",null,0,null,"","",null,"",null,0,null,0]
[null,null,null,null,0,null,{"$f":"IF($F56<>\"\",VLOOKUP(F56,Armies!$A$1:$C$300,3,FALSE),\"\")","v":""},null,null,"","",null,"",null,0,null,"","",null,"",null,0,null,"","",null,"",null,0,null,"","",null,"",null,0,null,"","",null,"",null,0,null,"","",null,"",null,0,null,"","",null,"",null,0,null,"","",null,"",null,0,null,"","",null,"",null,0,null,0]
[null,null,null,null,0,null,{"$f":"IF($F57<>\"\",VLOOKUP(F57,Armies!$A$1:$C$300,3,FALSE),\"\")","v":""},null,null,"","",null,"",null,0,null,"","",null,"",null,0,null,"","",null,"",null,0,null,"","",null,"",null,0,null,"","",null,"",null,0,null,"","",null,"",null,0,null,"","",null,"",null,0,null,"","",null,"",null,0,null,"","",null,"",null,0,null,0]
[null,null,null,null,0,null,{"$f":"IF($F58<>\"\",VLOOKUP(F58,Armies!$A$1:$C$300,3,FALSE),\"\")","v":""},null,null,"","",null,"",null,0,null,"","",null,"",null,0,null,"","",null,"",null,0,null,"","",null,"",null,0,null,"","",null,"",null,0,null,"","",null,"",null,0,null,"","",null,"",null,0,null,"","",null,"",null,0,null,"","",null,"",null,0,null,0]
[null,null,null,null,0,null,{"$f":"IF($F59<>\"\",VLOOKUP(F59,Armies!$A$1:$C$300,3,FALSE),\"\")","v":""},null,null,"","",null,"",null,0,null,"","",null,"",null,0,null,"","",null,"",null,0,null,"","",null,"",null,0,null,"","",null,"",null,0,null,"","",null,"",null,0,null,"","",null,"",null,0,null,"","",null,"",null,0,null,"","",null,"",null,0,null,0]
[null,null,null,null,0,null,{"$f":"IF($F60<>\"\",VLOOKUP(F60,Armies!$A$1:$C$300,3,FALSE),\"\")","v":""},null,null,"","",null,"",null,0,null,"","",null,"",null,0,null,"","",null,"",null,0,null,"","",null,"",null,0,null,"","",null,"",null,0,null,"","",null,"",null,0,null,"","",null,"",null,0,null,"","",null,"",null,0,null,"","",null,"",null,0,null,0]
[null,null,null,null,0,null,{"$f":"IF($F61<>\"\",VLOOKUP(F61,Armies!$A$1:$C$300,3,FALSE),\"\")","v":""},null,null,"","",null,"",null,0,null,"","",null,"",null,0,null,"","",null,"",null,0,null,"","",null,"",null,0,null,"","",null,"",null,0,null,"","",null,"",null,0,null,"","",null,"",null,0,null,"","",null,"",null,0,null,"","",null,"",null,0,null,0]
[null,null,null,null,0,null,{"$f":"IF($F62<>\"\",VLOOKUP(F62,Armies!$A$1:$C$300,3,FALSE),\"\")","v":""},null,null,"","",null,"",null,0,null,"","",null,"",null,0,null,"","",null,"",null,0,null,"","",null,"",null,0,null,"","",null,"",null,0,null,"","",null,"",null,0,null,"","",null,"",null,0,null,"","",null,"",null,0,null,"","",null,"",null,0,null,0]
[null,null,null,null,0,null,{"$f":"IF($F63<>\"\",VLOOKUP(F63,Armies!$A$1:$C$300,3,FALSE),\"\")","v":""},null,null,"","",null,"",null,0,null,"","",null,"",null,0,null,"","",null,"",null,0,null,"","",null,"",null,0,null,"","",null,"",null,0,null,"","",null,"",null,0,null,"","",null,"",null,0,null,"","",null,"",null,0,null,"","",null,"",null,0,null,0]
[null,null,null,null,0,null,{"$f":"IF($F64<>\"\",VLOOKUP(F64,Armies!$A$1:$C$300,3,FALSE),\"\")","v":""},null,null,"","",null,"",null,0,null,"","",null,"",null,0,null,"","",null,"",null,0,null,"","",null,"",null,0,null,"","",null,"",null,0,null,"","",null,"",null,0,null,"","",null,"",null,0,null,"","",null,"",null,0,null,"","",null,"",null,0,null,0]
[null,null,null,null,0,null,{"$f":"IF($F65<>\"\",VLOOKUP(F65,Armies!$A$1:$C$300,3,FALSE),\"\")","v":""},null,null,"","",null,"",null,0,null,"","",null,"",null,0,null,"","",null,"",null,0,null,"","",null,"",null,0,null,"","",null,"",null,0,null,"","",null,"",null,0,null,"","",null,"",null,0,null,"","",null,"",null,0,null,"","",null,"",null,0,null,0]
[null,null,null,null,0,null,{"$f":"IF($F66<>\"\",VLOOKUP(F66,Armies!$A$1:$C$300,3,FALSE),\"\")","v":""},null,null,"","",null,"",null,0,null,"","",null,"",null,0,null,"","",null,"",null,0,null,"","",null,"",null,0,null,"","",null,"",null,0,null,"","",null,"",null,0,null,"","",null,"",null,0,null,"","",null,"",null,0,null,"","",null,"",null,0,null,0]
[null,null,null,null,0,null,{"$f":"IF($F67<>\"\",VLOOKUP(F67,Armies!$A$1:$C$300,3,FALSE),\"\")","v":""},null,null,"","",null,"",null,0,null,"","",null,"",null,0,null,"","",null,"",null,0,null,"","",null,"",null,0,null,"","",null,"",null,0,null,"","",null,"",null,0,null,"","",null,"",null,0,null,"","",null,"",null,0,null,"","",null,"",null,0,null,0]
[null,null,null,null,0,null,{"$f":"IF($F68<>\"\",VLOOKUP(F68,Armies!$A$1:$C$300,3,FALSE),\"\")","v":""},null,null,"","",null,"",null,0,null,"","",null,"",null,0,null,"","",null,"",null,0,null,"","",null,"",null,0,null,"","",null,"",null,0,null,"","",null,"",null,0,null,"","",null,"",null,0,null,"","",null,"",null,0,null,"","",null,"",null,0,null,0]
[null,null,null,null,0,null,{"$f":"IF($F69<>\"\",VLOOKUP(F69,Armies!$A$1:$C$300,3,FALSE),\"\")","v":""},null,null,"","",null,"",null,0,null,"","",null,"",null,0,null,"","",null,"",null,0,null,"","",null,"",null,0,null,"","",null,"",null,0,null,"","",null,"",null,0,null,"","",null,"",null,0,null,"","",null,"",null,0,null,"","",null,"",null,0,null,0]
[null,null,null,null,0,null,{"$f":"IF($F70<>\"\",VLOOKUP(F70,Armies!$A$1:$C$300,3,FALSE),\"\")","v":""},null,null,"","",null,"",null,0,null,"","",null,"",null,0,null,"","",null,"",null,0,null,"","",null,"",null,0,null,"","",null,"",null,0,null,"","",null,"",null,0,null,"","",null,"",null,0,null,"","",null,"",null,0,null,"","",null,"",null,0,null,0]
[null,null,null,null,0,null,{"$f":"IF($F71<>\"\",VLOOKUP(F71,Armies!$A$1:$C$300,3,FALSE),\"\")","v":""},null,null,"","",null,"",null,0,null,"","",null,"",null,0,null,"","",null,"",null,0,null,"","",null,"",null,0,null,"","",null,"",null,0,null,"","",null,"",null,0,null,"","",null,"",null,0,null,"","",null,"",null,0,null,"","",null,"",null,0,null,0]
[null,null,null,null,0,null,{"$f":"IF($F72<>\"\",VLOOKUP(F72,Armies!$A$1:$C$300,3,FALSE),\"\")","v":""},null,null,{"$f":"IF(I72<>\"\",VLOOKUP(I72,$A$8:$C$107,2,FALSE),\"\")","v":""},{"$f":"IF(I72<>\"\",IF(I72=$A72,\"ERR\",IF(OR(I72=$P72,I72=$W72,I72=$AD72,I72=$AK72),\"DUP\",IF(ISNA(VLOOKUP(I72,$A$8:$A$107,1,FALSE)),\"ERR\",IF(COUNTIF($I$8:$I$107,I72)>1,\"ERR\",IF($D72=VLOOKUP(I72,$A$8:$D$107,4,FALSE),\"CLUB\",\"OK\"))))),\"\")","v":""},null,{"$f":"IF(L72<>\"\",IF(L72=\"Victoire\",IF(VLOOKUP(I72,$A$8:$L$107,12,FALSE)=\"Défaite\",\"OK\",\"ERR\"),IF(L72=\"Défaite\",IF(VLOOKUP(I72,$A$8:$L$107,12,FALSE)=\"Victoire\",\"OK\",\"ERR\"),IF(L72=\"Nul\",IF(VLOOKUP(I72,$A$8:$L$107,12,FALSE)=\"Nul\",\"OK\",\"ERR\")))),\"\")","v":""},null,{"$f":"IF(L72=\"Victoire\",100-ROUNDDOWN(20*N72/$H72,0),\nIF(L72=\"Défaite\",10+ROUNDDOWN(20*VLOOKUP(I72,$A$8:$N$107,14,FALSE)/VLOOKUP(I72,$A$8:$H$107,8,FALSE),0),\nIF(AND(L72=\"Nul\",$N72<>$H72),40+(2*ROUNDDOWN(10*VLOOKUP(I72,$A$8:$N$107,14,FALSE)/VLOOKUP(I72,$A$8:$H$107,8,FALSE),0)-ROUNDDOWN(10*N72/$H72,0)),IF(AND(L72=\"Nul\",$N72=$H72),58,0))))","v":0},null,{"$f":"IF(P72<>\"\",VLOOKUP(P72,$A$8:$C$107,2,FALSE),\"\")","v":""},{"$f":"IF(P72<>\"\",IF(P72=$A72,\"ERR\",IF(OR(P72=$I72,P72=$W72,P72=$AD72,P72=$AK72),\"DUP\",IF(ISNA(VLOOKUP(P72,$A$8:$A$107,1,FALSE)),\"ERR\",IF(COUNTIF($I$8:$I$107,P72)>1,\"ERR\",IF($D72=VLOOKUP(P72,$A$8:$D$107,4,FALSE),\"CLUB\",\"OK\"))))),\"\")","v":""},null,{"$f":"IF(S72<>\"\",IF(S72=\"Victoire\",IF(VLOOKUP(P72,$A$8:$AO$107,19,FALSE)=\"Défaite\",\"OK\",\"ERR\"),IF(S72=\"Défaite\",IF(VLOOKUP(P72,$A$8:$AO$107,19,FALSE)=\"Victoire\",\"OK\",\"ERR\"),IF(S72=\"Nul\",IF(VLOOKUP(P72,$A$8:$AO$107,19,FALSE)=\"Nul\",\"OK\",\"ERR\")))),\"\")","v":""},null,{"$f":"IF(S72=\"Victoire\",100-ROUNDDOWN(20*U72/$H72,0),\nIF(S72=\"Défaite\",10+ROUNDDOWN(20*VLOOKUP(P72,$A$8:$AO$107,21,FALSE)/VLOOKUP(P72,$A$8:$H$107,8,FALSE),0),\nIF(AND(S72=\"Nul\",$U72<>$H72),40+(2*ROUNDDOWN(10*VLOOKUP(P72,$A$8:$AO$107,21,FALSE)/VLOOKUP(P72,$A$8:$H$107,8,FALSE),0)-ROUNDDOWN(10*U72/$H72,0)),IF(AND(S72=\"Nul\",$U72=$H72),58,0))))","v":0},null,{"$f":"IF(W72<>\"\",VLOOKUP(W72,$A$8:$C$107,2,FALSE),\"\")","v":""},{"$f":"IF(W72<>\"\",IF(W72=$A72,\"ERR\",IF(OR(W72=$P72,W72=$I72,W72=$AD72,W72=$AK72),\"DUP\",IF(ISNA(VLOOKUP(W72,$A$8:$A$107,1,FALSE)),\"ERR\",IF(COUNTIF($I$8:$I$107,W72)>1,\"ERR\",IF($D72=VLOOKUP(W72,$A$8:$D$107,4,FALSE),\"CLUB\",\"OK\"))))),\"\")","v":""},null,{"$f":"IF(Z72<>\"\",IF(Z72=\"Victoire\",IF(VLOOKUP(W72,$A$8:$AO$107,26,FALSE)=\"Défaite\",\"OK\",\"ERR\"),IF(Z72=\"Défaite\",IF(VLOOKUP(W72,$A$8:$AO$107,26,FALSE)=\"Victoire\",\"OK\",\"ERR\"),IF(Z72=\"Nul\",IF(VLOOKUP(W72,$A$8:$AO$107,26,FALSE)=\"Nul\",\"OK\",\"ERR\")))),\"\")","v":""},null,{"$f":"IF(Z72=\"Victoire\",100-ROUNDDOWN(20*AB72/$H72,0),\nIF(Z72=\"Défaite\",10+ROUNDDOWN(20*VLOOKUP(W72,$A$8:$AO$107,28,FALSE)/VLOOKUP(W72,$A$8:$H$107,8,FALSE),0),\nIF(AND(Z72=\"Nul\",$AB72<>$H72),40+(2*ROUNDDOWN(10*VLOOKUP(W72,$A$8:$AO$107,28,FALSE)/VLOOKUP(W72,$A$8:$H$107,8,FALSE),0)-ROUNDDOWN(10*AB72/$H72,0)),IF(AND(Z72=\"Nul\",$AB72=$H72),58,0))))","v":0},null,{"$f":"IF(AD72<>\"\",VLOOKUP(AD72,$A$8:$C$107,2,FALSE),\"\")","v":""},{"$f":"IF(AD72<>\"\",IF(AD72=$A72,\"ERR\",IF(OR(AD72=$P72,AD72=$W72,AD72=$I72,AD72=$AK72),\"DUP\",IF(ISNA(VLOOKUP(AD72,$A$8:$A$107,1,FALSE)),\"ERR\",IF(COUNTIF($I$8:$I$107,AD72)>1,\"ERR\",IF($D72=VLOOKUP(AD72,$A$8:$D$107,4,FALSE),\"CLUB\",\"OK\"))))),\"\")","v":""},null,{"$f":"IF(AG72<>\"\",IF(AG72=\"Victoire\",IF(VLOOKUP(AD72,$A$8:$AO$107,33,FALSE)=\"Défaite\",\"OK\",\"ERR\"),IF(AG72=\"Défaite\",IF(VLOOKUP(AD72,$A$8:$AO$107,33,FALSE)=\"Victoire\",\"OK\",\"ERR\"),IF(AG72=\"Nul\",IF(VLOOKUP(AD72,$A$8:$AO$107,33,FALSE)=\"Nul\",\"OK\",\"ERR\")))),\"\")","v":""},null,{"$f":"IF(AG72=\"Victoire\",100-ROUNDDOWN(20*AI72/$H72,0),\nIF(AG72=\"Défaite\",10+ROUNDDOWN(20*VLOOKUP(AD72,$A$8:$AO$107,35,FALSE)/VLOOKUP(AD72,$A$8:$H$107,8,FALSE),0),\nIF(AND(AG72=\"Nul\",$AI72<>$H72),40+(2*ROUNDDOWN(10*VLOOKUP(AD72,$A$8:$AO$107,35,FALSE)/VLOOKUP(AD72,$A$8:$H$107,8,FALSE),0)-ROUNDDOWN(10*AI72/$H72,0)),IF(AND(AG72=\"Nul\",$AI72=$H72),58,0))))","v":0},null,{"$f":"IF(AK72<>\"\",VLOOKUP(AK72,$A$8:$C$107,2,FALSE),\"\")","v":""},{"$f":"IF(AK72<>\"\",IF(AK72=$A72,\"ERR\",IF(OR(AK72=$P72,AK72=$W72,AK72=$AD72,AK72=$I72),\"DUP\",IF(ISNA(VLOOKUP(AK72,$A$8:$A$107,1,FALSE)),\"ERR\",IF(COUNTIF($I$8:$I$107,AK72)>1,\"ERR\",IF($D72=VLOOKUP(AK72,$A$8:$D$107,4,FALSE),\"CLUB\",\"OK\"))))),\"\")","v":""},null,{"$f":"IF(AN72<>\"\",IF(AN72=\"Victoire\",IF(VLOOKUP(AK72,$A$8:$AO$107,40,FALSE)=\"Défaite\",\"OK\",\"ERR\"),IF(AN72=\"Défaite\",IF(VLOOKUP(AK72,$A$8:$AO$107,40,FALSE)=\"Victoire\",\"OK\",\"ERR\"),IF(AN72=\"Nul\",IF(VLOOKUP(AK72,$A$8:$AO$107,40,FALSE)=\"Nul\",\"OK\",\"ERR\")))),\"\")","v":""},null,{"$f":"IF(AN72=\"Victoire\",100-ROUNDDOWN(20*AP72/$H72,0),\nIF(AN72=\"Défaite\",10+ROUNDDOWN(20*VLOOKUP(AK72,$A$8:$CB$107,42,FALSE)/VLOOKUP(AK72,$A$8:$H$107,8,FALSE),0),\nIF(AND(AN72=\"Nul\",$AP72<>$H72),40+(2*ROUNDDOWN(10*VLOOKUP(AK72,$A$8:$CB$107,42,FALSE)/VLOOKUP(AK72,$A$8:$H$107,8,FALSE),0)-ROUNDDOWN(10*AP72/$H72,0)),IF(AND(AN72=\"Nul\",$AP72=$H72),58,0))))","v":0},null,{"$f":"IF(AR72<>\"\",VLOOKUP(AR72,$A$8:$C$107,2,FALSE),\"\")","v":""},{"$f":"IF(AR72<>\"\",IF(AR72=$A72,\"ERR\",IF(OR(AR72=$I72,AR72=$P72,AR72=$W72,AR72=$AD72,AR72=$AK72),\"DUP\",IF(ISNA(VLOOKUP(AR72,$A$8:$A$107,1,FALSE)),\"ERR\",IF(COUNTIF($I$8:$I$107,AR72)>1,\"ERR\",IF($D72=VLOOKUP(AR72,$A$8:$D$107,4,FALSE),\"CLUB\",\"OK\"))))),\"\")","v":""},null,{"$f":"IF(AU72<>\"\",IF(AU72=\"Victoire\",IF(VLOOKUP(AR72,$A$8:$BL$107,47,FALSE)=\"Défaite\",\"OK\",\"ERR\"),IF(AU72=\"Défaite\",IF(VLOOKUP(AR72,$A$8:$BL$107,47,FALSE)=\"Victoire\",\"OK\",\"ERR\"),IF(AU72=\"Nul\",IF(VLOOKUP(AR72,$A$8:$BL$107,47,FALSE)=\"Nul\",\"OK\",\"ERR\")))),\"\")","v":""},null,{"$f":"IF(AU72=\"Victoire\",100-ROUNDDOWN(20*AW72/$H72,0),\nIF(AU72=\"Défaite\",10+ROUNDDOWN(20*VLOOKUP(AR72,$A$8:$CB$107,49,FALSE)/VLOOKUP(AR72,$A$8:$H$107,8,FALSE),0),\nIF(AND(AU72=\"Nul\",$AW72<>$H72),40+(2*ROUNDDOWN(10*VLOOKUP(AR72,$A$8:$CB$107,49,FALSE)/VLOOKUP(AR72,$A$8:$H$107,8,FALSE),0)-ROUNDDOWN(10*AW72/$H72,0)),IF(AND(AU72=\"Nul\",$AW72=$H72),58,0))))","v":0},null,{"$f":"IF(AY72<>\"\",VLOOKUP(AY72,$A$8:$C$107,2,FALSE),\"\")","v":""},{"$f":"IF(AY72<>\"\",IF(AY72=$A72,\"ERR\",IF(OR(AY72=$I72,AY72=$P72,AY72=$W72,AY72=$AD72,AY72=$AK72,AY72=$AR72),\"DUP\",IF(ISNA(VLOOKUP(AY72,$A$8:$A$107,1,FALSE)),\"ERR\",IF(COUNTIF($I$8:$I$107,AY72)>1,\"ERR\",IF($D72=VLOOKUP(AY72,$A$8:$D$107,4,FALSE),\"CLUB\",\"OK\"))))),\"\")","v":""},null,{"$f":"IF(BB72<>\"\",IF(BB72=\"Victoire\",IF(VLOOKUP(AY72,$A$8:$BL$107,54,FALSE)=\"Défaite\",\"OK\",\"ERR\"),IF(BB72=\"Défaite\",IF(VLOOKUP(AY72,$A$8:$BL$107,54,FALSE)=\"Victoire\",\"OK\",\"ERR\"),IF(BB72=\"Nul\",IF(VLOOKUP(AY72,$A$8:$BL$107,54,FALSE)=\"Nul\",\"OK\",\"ERR\")))),\"\")","v":""},null,{"$f":"IF(BB72=\"Victoire\",100-ROUNDDOWN(20*BD72/$H72,0),\nIF(BB72=\"Défaite\",10+ROUNDDOWN(20*VLOOKUP(AY72,$A$8:$CB$107,56,FALSE)/VLOOKUP(AY72,$A$8:$H$107,8,FALSE),0),\nIF(AND(BB72=\"Nul\",$BD72<>$H72),40+(2*ROUNDDOWN(10*VLOOKUP(AY72,$A$8:$CB$107,56,FALSE)/VLOOKUP(AY72,$A$8:$H$107,8,FALSE),0)-ROUNDDOWN(10*BD72/$H72,0)),IF(AND(BB72=\"Nul\",$BD72=$H72),58,0))))","v":0},null,{"$f":"IF(BF72<>\"\",VLOOKUP(BF72,$A$8:$C$107,2,FALSE),\"\")","v":""},{"$f":"IF(BF72<>\"\",IF(BF72=$A72,\"ERR\",IF(OR(BF72=$I72,BF72=$P72,BF72=$W72,BF72=$AD72,BF72=$AK72,BF72=$AR72,BF72=$AY72),\"DUP\",IF(ISNA(VLOOKUP(BF72,$A$8:$A$107,1,FALSE)),\"ERR\",IF(COUNTIF($I$8:$I$107,BF72)>1,\"ERR\",IF($D72=VLOOKUP(BF72,$A$8:$D$107,4,FALSE),\"CLUB\",\"OK\"))))),\"\")","v":""},null,{"$f":"IF(BI72<>\"\",IF(BI72=\"Victoire\",IF(VLOOKUP(BF72,$A$8:$BL$107,61,FALSE)=\"Défaite\",\"OK\",\"ERR\"),IF(BI72=\"Défaite\",IF(VLOOKUP(BF72,$A$8:$BL$107,61,FALSE)=\"Victoire\",\"OK\",\"ERR\"),IF(BI72=\"Nul\",IF(VLOOKUP(BF72,$A$8:$BL$107,61,FALSE)=\"Nul\",\"OK\",\"ERR\")))),\"\")","v":""},null,{"$f":"IF(BI72=\"Victoire\",100-ROUNDDOWN(20*BK72/$H72,0),\nIF(BI72=\"Défaite\",10+ROUNDDOWN(20*VLOOKUP(BF72,$A$8:$CB$107,63,FALSE)/VLOOKUP(BF72,$A$8:$H$107,8,FALSE),0),\nIF(AND(BI72=\"Nul\",$BK72<>$H72),40+(2*ROUNDDOWN(10*VLOOKUP(BF72,$A$8:$CB$107,63,FALSE)/VLOOKUP(BF72,$A$8:$H$107,8,FALSE),0)-ROUNDDOWN(10*BK72/$H72,0)),IF(AND(BI72=\"Nul\",$BK72=$H72),58,0))))","v":0},null,{"$f":"IF(BM72<>\"\",VLOOKUP(BM72,$A$8:$C$107,2,FALSE),\"\")","v":""},{"$f":"IF(BM72<>\"\",IF(BM72=$A72,\"ERR\",IF(OR(BM72=$I72,BM72=$P72,BM72=$W72,BM72=$AD72,BM72=$AK72,BM72=$AR72,BM72=$AY72,BM72=$BF72),\"DUP\",IF(ISNA(VLOOKUP(BM72,$A$8:$A$107,1,FALSE)),\"ERR\",IF(COUNTIF($I$8:$I$107,BM72)>1,\"ERR\",IF($D72=VLOOKUP(BM72,$A$8:$D$107,4,FALSE),\"CLUB\",\"OK\"))))),\"\")","v":""},null,{"$f":"IF(BP72<>\"\",IF(BP72=\"Victoire\",IF(VLOOKUP(BM72,$A$8:$BS$107,68,FALSE)=\"Défaite\",\"OK\",\"ERR\"),IF(BP72=\"Défaite\",IF(VLOOKUP(BM72,$A$8:$BS$107,68,FALSE)=\"Victoire\",\"OK\",\"ERR\"),IF(BP72=\"Nul\",IF(VLOOKUP(BM72,$A$8:$BS$107,68,FALSE)=\"Nul\",\"OK\",\"ERR\")))),\"\")","v":""},null,{"$f":"IF(BP72=\"Victoire\",100-ROUNDDOWN(20*BR72/$H72,0),\nIF(BP72=\"Défaite\",10+ROUNDDOWN(20*VLOOKUP(BM72,$A$8:$CB$107,70,FALSE)/VLOOKUP(BM72,$A$8:$H$107,8,FALSE),0),\nIF(AND(BP72=\"Nul\",$BR72<>$H72),40+(2*ROUNDDOWN(10*VLOOKUP(BM72,$A$8:$CB$107,70,FALSE)/VLOOKUP(BM72,$A$8:$H$107,8,FALSE),0)-ROUNDDOWN(10*BR72/$H72,0)),IF(AND(BP72=\"Nul\",$BR72=$H72),58,0))))","v":0},null,{"$f":"IF($I72<>\"\",VLOOKUP($I72,$A$8:$N$107,5,FALSE),0)+IF($P72<>\"\",VLOOKUP($P72,$A$8:$N$107,5,FALSE),0)+IF($W72<>\"\",VLOOKUP($W72,$A$8:$N$107,5,FALSE),0)+IF($AD72<>\"\",VLOOKUP($AD72,$A$8:$N$107,5,FALSE),0)+IF($AK72<>\"\",VLOOKUP($AK72,$A$8:$N$107,5,FALSE),0)+IF($AR72<>\"\",VLOOKUP($AR72,$A$8:$N$107,5,FALSE),0)+IF($AY72<>\"\",VLOOKUP($AY72,$A$8:$N$107,5,FALSE),0)+IF($BF72<>\"\",VLOOKUP($BF72,$A$8:$N$107,5,FALSE),0)+IF($BM72<>\"\",VLOOKUP($BM72,$A$8:$N$107,5,FALSE),0)","v":0}]
[null,null,null,null,0,null,{"$f":"IF($F73<>\"\",VLOOKUP(F73,Armies!$A$1:$C$300,3,FALSE),\"\")","v":""},null,null,"","",null,"",null,0,null,"","",null,"",null,0,null,"","",null,"",null,0,null,"","",null,"",null,0,null,"","",null,"",null,0,null,"","",null,"",null,0,null,"","",null,"",null,0,null,"","",null,"",null,0,null,"","",null,"",null,0,null,0]
[null,null,null,null,0,null,{"$f":"IF($F74<>\"\",VLOOKUP(F74,Armies!$A$1:$C$300,3,FALSE),\"\")","v":""},null,null,"","",null,"",null,0,null,"","",null,"",null,0,null,"","",null,"",null,0,null,"","",null,"",null,0,null,"","",null,"",null,0,null,"","",null,"",null,0,null,"","",null,"",null,0,null,"","",null,"",null,0,null,"","",null,"",null,0,null,0]
[null,null,null,null,0,null,{"$f":"IF($F75<>\"\",VLOOKUP(F75,Armies!$A$1:$C$300,3,FALSE),\"\")","v":""},null,null,"","",null,"",null,0,null,"","",null,"",null,0,null,"","",null,"",null,0,null,"","",null,"",null,0,null,"","",null,"",null,0,null,"","",null,"",null,0,null,"","",null,"",null,0,null,"","",null,"",null,0,null,"","",null,"",null,0,null,0]
[null,null,null,null,0,null,{"$f":"IF($F76<>\"\",VLOOKUP(F76,Armies!$A$1:$C$300,3,FALSE),\"\")","v":""},null,null,"","",null,"",null,0,null,"","",null,"",null,0,null,"","",null,"",null,0,null,"","",null,"",null,0,null,"","",null,"",null,0,null,"","",null,"",null,0,null,"","",null,"",null,0,null,"","",null,"",null,0,null,"","",null,"",null,0,null,0]
[null,null,null,null,0,null,{"$f":"IF($F77<>\"\",VLOOKUP(F77,Armies!$A$1:$C$300,3,FALSE),\"\")","v":""},null,null,"","",null,"",null,0,null,"","",null,"",null,0,null,"","",null,"",null,0,null,"","",null,"",null,0,null,"","",null,"",null,0,null,"","",null,"",null,0,null,"","",null,"",null,0,null,"","",null,"",null,0,null,"","",null,"",null,0,null,0]
[null,null,null,null,0,null,{"$f":"IF($F78<>\"\",VLOOKUP(F78,Armies!$A$1:$C$300,3,FALSE),\"\")","v":""},null,null,"","",null,"",null,0,null,"","",null,"",null,0,null,"","",null,"",null,0,null,"","",null,"",null,0,null,"","",null,"",null,0,null,"","",null,"",null,0,null,"","",null,"",null,0,null,"","",null,"",null,0,null,"","",null,"",null,0,null,0]
[null,null,null,null,0,null,{"$f":"IF($F79<>\"\",VLOOKUP(F79,Armies!$A$1:$C$300,3,FALSE),\"\")","v":""},null,null,"","",null,"",null,0,null,"","",null,"",null,0,null,"","",null,"",null,0,null,"","",null,"",null,0,null,"","",null,"",null,0,null,"","",null,"",null,0,null,"","",null,"",null,0,null,"","",null,"",null,0,null,"","",null,"",null,0,null,0]
[null,null,null,null,0,null,{"$f":"IF($F80<>\"\",VLOOKUP(F80,Armies!$A$1:$C$300,3,FALSE),\"\")","v":""},null,null,"","",null,"",null,0,null,"","",null,"",null,0,null,"","",null,"",null,0,null,"","",null,"",null,0,null,"","",null,"",null,0,null,"","",null,"",null,0,null,"","",null,"",null,0,null,"","",null,"",null,0,null,"","",null,"",null,0,null,0]
[null,null,null,null,0,null,{"$f":"IF($F81<>\"\",VLOOKUP(F81,Armies!$A$1:$C$300,3,FALSE),\"\")","v":""},null,null,"","",null,"",null,0,null,"","",null,"",null,0,null,"","",null,"",null,0,null,"","",null,"",null,0,null,"","",null,"",null,0,null,"","",null,"",null,0,null,"","",null,"",null,0,null,"","",null,"",null,0,null,"","",null,"",null,0,null,0]
[null,null,null,null,0,null,{"$f":"IF($F82<>\"\",VLOOKUP(F82,Armies!$A$1:$C$300,3,FALSE),\"\")","v":""},null,null,"","",null,"",null,0,null,"","",null,"",null,0,null,"","",null,"",null,0,null,"","",null,"",null,0,null,"","",null,"",null,0,null,"","",null,"",null,0,null,"","",null,"",null,0,null,"","",null,"",null,0,null,"","",null,"",null,0,null,0]
[null,null,null,null,0,null,{"$f":"IF($F83<>\"\",VLOOKUP(F83,Armies!$A$1:$C$300,3,FALSE),\"\")","v":""},null,null,"","",null,"",null,0,null,"","",null,"",null,0,null,"","",null,"",null,0,null,"","",null,"",null,0,null,"","",null,"",null,0,null,"","",null,"",null,0,null,"","",null,"",null,0,null,"","",null,"",null,0,null,"","",null,"",null,0,null,0]
[null,null,null,null,0,null,{"$f":"IF($F84<>\"\",VLOOKUP(F84,Armies!$A$1:$C$300,3,FALSE),\"\")","v":""},null,null,"","",null,"",null,0,null,"","",null,"",null,0,null,"","",null,"",null,0,null,"","",null,"",null,0,null,"","",null,"",null,0,null,"","",null,"",null,0,null,"","",null,"",null,0,null,"","",null,"",null,0,null,"","",null,"",null,0,null,0]
[null,null,null,null,0,null,{"$f":"IF($F85<>\"\",VLOOKUP(F85,Armies!$A$1:$C$300,3,FALSE),\"\")","v":""},null,null,"","",null,"",null,0,null,"","",null,"",null,0,null,"","",null,"",null,0,null,"","",null,"",null,0,null,"","",null,"",null,0,null,"","",null,"",null,0,null,"","",null,"",null,0,null,"","",null,"",null,0,null,"","",null,"",null,0,null,0]
[null,null,null,null,0,null,{"$f":"IF($F86<>\"\",VLOOKUP(F86,Armies!$A$1:$C$300,3,FALSE),\"\")","v":""},null,null,"","",null,"",null,0,null,"","",null,"",null,0,null,"","",null,"",null,0,null,"","",null,"",null,0,null,"","",null,"",null,0,null,"","",null,"",null,0,null,"","",null,"",null,0,null,"","",null,"",null,0,null,"","",null,"",null,0,null,0]
[null,null,null,null,0,null,{"$f":"IF($F87<>\"\",VLOOKUP(F87,Armies!$A$1:$C$300,3,FALSE),\"\")","v":""},null,null,"","",null,"",null,0,null,"","",null,"",null,0,null,"","",null,"",null,0,null,"","",null,"",null,0,null,"","",null,"",null,0,null,"","",null,"",null,0,null,"","",null,"",null,0,null,"","",null,"",null,0,null,"","",null,"",null,0,null,0]
[null,null,null,null,0,null,{"$f":"IF($F88<>\"\",VLOOKUP(F88,Armies!$A$1:$C$300,3,FALSE),\"\")","v":""},null,null,"","",null,"",null,0,null,"","",null,"",null,0,null,"","",null,"",null,0,null,"","",null,"",null,0,null,"","",null,"",null,0,null,"","",null,"",null,0,null,"","",null,"",null,0,null,"","",null,"",null,0,null,"","",null,"",null,0,null,0]
[null,null,null,null,0,null,{"$f":"IF($F89<>\"\",VLOOKUP(F89,Armies!$A$1:$C$300,3,FALSE),\"\")","v":""},null,null,"","",null,"",null,0,null,"","",null,"",null,0,null,"","",null,"",null,0,null,"","",null,"",null,0,null,"","",null,"",null,0,null,"","",null,"",null,0,null,"","",null,"",null,0,null,"","",null,"",null,0,null,"","",null,"",null,0,null,0]
[null,null,null,null,0,null,{"$f":"IF($F90<>\"\",VLOOKUP(F90,Armies!$A$1:$C$300,3,FALSE),\"\")","v":""},null,null,"","",null,"",null,0,null,"","",null,"",null,0,null,"","",null,"",null,0,null,"","",null,"",null,0,null,"","",null,"",null,0,null,"","",null,"",null,0,null,"","",null,"",null,0,null,"","",null,"",null,0,null,"","",null,"",null,0,null,0]
[null,null,null,null,{"$f":"O91+V91+AC91+AJ91+AQ91+AX91+BE91+BL91+BS91","v":0},null,{"$f":"IF($F91<>\"\",VLOOKUP(F91,Armies!$A$1:$C$300,3,FALSE),\"\")","v":""},null,null,"","",null,"",null,0,null,"","",null,"",null,0,null,"","",null,"",null,0,null,"","",null,"",null,0,null,"","",null,"",null,0,null,"","",null,"",null,0,null,"","",null,"",null,0,null,"","",null,"",null,0,null,"","",null,"",null,0,null,0]
[null,null,null,null,0,null,{"$f":"IF($F92<>\"\",VLOOKUP(F92,Armies!$A$1:$C$300,3,FALSE),\"\")","v":""},null,null,"","",null,"",null,0,null,"","",null,"",null,0,null,"","",null,"",null,0,null,"","",null,"",null,0,null,"","",null,"",null,0,null,"","",null,"",null,0,null,"","",null,"",null,0,null,"","",null,"",null,0,null,"","",null,"",null,0,null,0]
[null,null,null,null,0,null,{"$f":"IF($F93<>\"\",VLOOKUP(F93,Armies!$A$1:$C$300,3,FALSE),\"\")","v":""},null,null,"","",null,"",null,0,null,"","",null,"",null,0,null,"","",null,"",null,0,null,"","",null,"",null,0,null,"","",null,"",null,0,null,"","",null,"",null,0,null,"","",null,"",null,0,null,"","",null,"",null,0,null,"","",null,"",null,0,null,0]
[null,null,null,null,0,null,{"$f":"IF($F94<>\"\",VLOOKUP(F94,Armies!$A$1:$C$300,3,FALSE),\"\")","v":""},null,null,"","",null,"",null,0,null,"","",null,"",null,0,null,"","",null,"",null,0,null,"","",null,"",null,0,null,"","",null,"",null,0,null,"","",null,"",null,0,null,"","",null,"",null,0,null,"","",null,"",null,0,null,"","",null,"",null,0,null,0]
[null,null,null,null,0,null,{"$f":"IF($F95<>\"\",VLOOKUP(F95,Armies!$A$1:$C$300,3,FALSE),\"\")","v":""},null,null,"","",null,"",null,0,null,"","",null,"",null,0,null,"","",null,"",null,0,null,"","",null,"",null,0,null,"","",null,"",null,0,null,"","",null,"",null,0,null,"","",null,"",null,0,null,"","",null,"",null,0,null,"","",null,"",null,0,null,0]
[null,null,null,null,0,null,{"$f":"IF($F96<>\"\",VLOOKUP(F96,Armies!$A$1:$C$300,3,FALSE),\"\")","v":""},null,null,"","",null,"",null,0,null,"","",null,"",null,0,null,"","",null,"",null,0,null,"","",null,"",null,0,null,"","",null,"",null,0,null,"","",null,"",null,0,null,"","",null,"",null,0,null,"","",null,"",null,0,null,"","",null,"",null,0,null,0]
[null,null,null,null,0,null,{"$f":"IF($F97<>\"\",VLOOKUP(F97,Armies!$A$1:$C$300,3,FALSE),\"\")","v":""},null,null,"","",null,"",null,0,null,"","",null,"",null,0,null,"","",null,"",null,0,null,"","",null,"",null,0,null,"","",null,"",null,0,null,"","",null,"",null,0,null,"","",null,"",null,0,null,"","",null,"",null,0,null,"","",null,"",null,0,null,0]
[null,null,null,null,0,null,{"$f":"IF($F98<>\"\",VLOOKUP(F98,Armies!$A$1:$C$300,3,FALSE),\"\")","v":""},null,null,"","",null,"",null,0,null,"","",null,"",null,0,null,"","",null,"",null,0,null,"","",null,"",null,0,null,"","",null,"",null,0,null,"","",null,"",null,0,null,"","",null,"",null,0,null,"","",null,"",null,0,null,"","",null,"",null,0,null,0]
[null,null,null,null,0,null,{"$f":"IF($F99<>\"\",VLOOKUP(F99,Armies!$A$1:$C$300,3,FALSE),\"\")","v":""},null,null,"","",null,"",null,0,null,"","",null,"",null,0,null,"","",null,"",null,0,null,"","",null,"",null,0,null,"","",null,"",null,0,null,"","",null,"",null,0,null,"","",null,"",null,0,null,"","",null,"",null,0,null,"","",null,"",null,0,null,0]
[null,null,null,null,0,null,{"$f":"IF($F100<>\"\",VLOOKUP(F100,Armies!$A$1:$C$300,3,FALSE),\"\")","v":""},null,null,"","",null,"",null,0,null,"","",null,"",null,0,null,"","",null,"",null,0,null,"","",null,"",null,0,null,"","",null,"",null,0,null,"","",null,"",null,0,null,"","",null,"",null,0,null,"","",null,"",null,0,null,"","",null,"",null,0,null,0]
[null,null,null,null,{"$f":"O101+V101+AC101+AJ101+AQ101+AX101+BE101+BL101+BS101","v":0},null,{"$f":"IF($F101<>\"\",VLOOKUP(F101,Armies!$A$1:$C$300,3,FALSE),\"\")","v":""},null,null,"","",null,"",null,0,null,"","",null,"",null,0,null,"","",null,"",null,0,null,"","",null,"",null,0,null,"","",null,"",null,0,null,"","",null,"",null,0,null,"","",null,"",null,0,null,"","",null,"",null,0,null,"","",null,"",null,0,null,0]
[null,null,null,null,0,null,{"$f":"IF($F102<>\"\",VLOOKUP(F102,Armies!$A$1:$C$300,3,FALSE),\"\")","v":""},null,null,"","",null,"",null,0,null,"","",null,"",null,0,null,"","",null,"",null,0,null,"","",null,"",null,0,null,"","",null,"",null,0,null,"","",null,"",null,0,null,"","",null,"",null,0,null,"","",null,"",null,0,null,"","",null,"",null,0,null,0]
[null,null,null,null,0,null,{"$f":"IF($F103<>\"\",VLOOKUP(F103,Armies!$A$1:$C$300,3,FALSE),\"\")","v":""},null,null,"","",null,"",null,0,null,"","",null,"",null,0,null,"","",null,"",null,0,null,"","",null,"",null,0,null,"","",null,"",null,0,null,"","",null,"",null,0,null,"","",null,"",null,0,null,"","",null,"",null,0,null,"","",null,"",null,0,null,0]
[null,null,null,null,0,null,{"$f":"IF($F104<>\"\",VLOOKUP(F104,Armies!$A$1:$C$300,3,FALSE),\"\")","v":""},null,null,{"$f":"IF(I104<>\"\",VLOOKUP(I104,$A$8:$C$107,2,FALSE),\"\")","v":""},"",null,{"$f":"IF(L104<>\"\",IF(L104=\"Victoire\",IF(VLOOKUP(I104,$A$8:$L$107,12,FALSE)=\"Défaite\",\"OK\",\"ERR\"),IF(L104=\"Défaite\",IF(VLOOKUP(I104,$A$8:$L$107,12,FALSE)=\"Victoire\",\"OK\",\"ERR\"),IF(L104=\"Nul\",IF(VLOOKUP(I104,$A$8:$L$107,12,FALSE)=\"Nul\",\"OK\",\"ERR\")))),\"\")","v":""},null,{"$f":"IF(L104=\"Victoire\",100-ROUNDDOWN(20*N104/$H104,0),\nIF(L104=\"Défaite\",10+ROUNDDOWN(20*VLOOKUP(I104,$A$8:$N$107,14,FALSE)/VLOOKUP(I104,$A$8:$H$107,8,FALSE),0),\nIF(AND(L104=\"Nul\",$N104<>$H104),40+(2*ROUNDDOWN(10*VLOOKUP(I104,$A$8:$N$107,14,FALSE)/VLOOKUP(I104,$A$8:$H$107,8,FALSE),0)-ROUNDDOWN(10*N104/$H104,0)),IF(AND(L104=\"Nul\",$N104=$H104),58,0))))","v":0},null,{"$f":"IF(P104<>\"\",VLOOKUP(P104,$A$8:$C$107,2,FALSE),\"\")","v":""},"",null,{"$f":"IF(S104<>\"\",IF(S104=\"Victoire\",IF(VLOOKUP(P104,$A$8:$AO$107,19,FALSE)=\"Défaite\",\"OK\",\"ERR\"),IF(S104=\"Défaite\",IF(VLOOKUP(P104,$A$8:$AO$107,19,FALSE)=\"Victoire\",\"OK\",\"ERR\"),IF(S104=\"Nul\",IF(VLOOKUP(P104,$A$8:$AO$107,19,FALSE)=\"Nul\",\"OK\",\"ERR\")))),\"\")","v":""},null,{"$f":"IF(S104=\"Victoire\",100-ROUNDDOWN(20*U104/$H104,0),\nIF(S104=\"Défaite\",10+ROUNDDOWN(20*VLOOKUP(P104,$A$8:$AO$107,21,FALSE)/VLOOKUP(P104,$A$8:$H$107,8,FALSE),0),\nIF(AND(S104=\"Nul\",$U104<>$H104),40+(2*ROUNDDOWN(10*VLOOKUP(P104,$A$8:$AO$107,21,FALSE)/VLOOKUP(P104,$A$8:$H$107,8,FALSE),0)-ROUNDDOWN(10*U104/$H104,0)),IF(AND(S104=\"Nul\",$U104=$H104),58,0))))","v":0},null,{"$f":"IF(W104<>\"\",VLOOKUP(W104,$A$8:$C$107,2,FALSE),\"\")","v":""},"",null,{"$f":"IF(Z104<>\"\",IF(Z104=\"Victoire\",IF(VLOOKUP(W104,$A$8:$AO$107,26,FALSE)=\"Défaite\",\"OK\",\"ERR\"),IF(Z104=\"Défaite\",IF(VLOOKUP(W104,$A$8:$AO$107,26,FALSE)=\"Victoire\",\"OK\",\"ERR\"),IF(Z104=\"Nul\",IF(VLOOKUP(W104,$A$8:$AO$107,26,FALSE)=\"Nul\",\"OK\",\"ERR\")))),\"\")","v":""},null,{"$f":"IF(Z104=\"Victoire\",100-ROUNDDOWN(20*AB104/$H104,0),\nIF(Z104=\"Défaite\",10+ROUNDDOWN(20*VLOOKUP(W104,$A$8:$AO$107,28,FALSE)/VLOOKUP(W104,$A$8:$H$107,8,FALSE),0),\nIF(AND(Z104=\"Nul\",$AB104<>$H104),40+(2*ROUNDDOWN(10*VLOOKUP(W104,$A$8:$AO$107,28,FALSE)/VLOOKUP(W104,$A$8:$H$107,8,FALSE),0)-ROUNDDOWN(10*AB104/$H104,0)),IF(AND(Z104=\"Nul\",$AB104=$H104),58,0))))","v":0},null,{"$f":"IF(AD104<>\"\",VLOOKUP(AD104,$A$8:$C$107,2,FALSE),\"\")","v":""},"",null,{"$f":"IF(AG104<>\"\",IF(AG104=\"Victoire\",IF(VLOOKUP(AD104,$A$8:$AO$107,33,FALSE)=\"Défaite\",\"OK\",\"ERR\"),IF(AG104=\"Défaite\",IF(VLOOKUP(AD104,$A$8:$AO$107,33,FALSE)=\"Victoire\",\"OK\",\"ERR\"),IF(AG104=\"Nul\",IF(VLOOKUP(AD104,$A$8:$AO$107,33,FALSE)=\"Nul\",\"OK\",\"ERR\")))),\"\")","v":""},null,{"$f":"IF(AG104=\"Victoire\",100-ROUNDDOWN(20*AI104/$H104,0),\nIF(AG104=\"Défaite\",10+ROUNDDOWN(20*VLOOKUP(AD104,$A$8:$AO$107,35,FALSE)/VLOOKUP(AD104,$A$8:$H$107,8,FALSE),0),\nIF(AND(AG104=\"Nul\",$AI104<>$H104),40+(2*ROUNDDOWN(10*VLOOKUP(AD104,$A$8:$AO$107,35,FALSE)/VLOOKUP(AD104,$A$8:$H$107,8,FALSE),0)-ROUNDDOWN(10*AI104/$H104,0)),IF(AND(AG104=\"Nul\",$AI104=$H104),58,0))))","v":0},null,{"$f":"IF(AK104<>\"\",VLOOKUP(AK104,$A$8:$C$107,2,FALSE),\"\")","v":""},"",null,{"$f":"IF(AN104<>\"\",IF(AN104=\"Victoire\",IF(VLOOKUP(AK104,$A$8:$AO$107,40,FALSE)=\"Défaite\",\"OK\",\"ERR\"),IF(AN104=\"Défaite\",IF(VLOOKUP(AK104,$A$8:$AO$107,40,FALSE)=\"Victoire\",\"OK\",\"ERR\"),IF(AN104=\"Nul\",IF(VLOOKUP(AK104,$A$8:$AO$107,40,FALSE)=\"Nul\",\"OK\",\"ERR\")))),\"\")","v":""},null,{"$f":"IF(AN104=\"Victoire\",100-ROUNDDOWN(20*AP104/$H104,0),\nIF(AN104=\"Défaite\",10+ROUNDDOWN(20*VLOOKUP(AK104,$A$8:$CB$107,42,FALSE)/VLOOKUP(AK104,$A$8:$H$107,8,FALSE),0),\nIF(AND(AN104=\"Nul\",$AP104<>$H104),40+(2*ROUNDDOWN(10*VLOOKUP(AK104,$A$8:$CB$107,42,FALSE)/VLOOKUP(AK104,$A$8:$H$107,8,FALSE),0)-ROUNDDOWN(10*AP104/$H104,0)),IF(AND(AN104=\"Nul\",$AP104=$H104),58,0))))","v":0},null,{"$f":"IF(AR104<>\"\",VLOOKUP(AR104,$A$8:$C$107,2,FALSE),\"\")","v":""},"",null,{"$f":"IF(AU104<>\"\",IF(AU104=\"Victoire\",IF(VLOOKUP(AR104,$A$8:$BL$107,47,FALSE)=\"Défaite\",\"OK\",\"ERR\"),IF(AU104=\"Défaite\",IF(VLOOKUP(AR104,$A$8:$BL$107,47,FALSE)=\"Victoire\",\"OK\",\"ERR\"),IF(AU104=\"Nul\",IF(VLOOKUP(AR104,$A$8:$BL$107,47,FALSE)=\"Nul\",\"OK\",\"ERR\")))),\"\")","v":""},null,{"$f":"IF(AU104=\"Victoire\",100-ROUNDDOWN(20*AW104/$H104,0),\nIF(AU104=\"Défaite\",10+ROUNDDOWN(20*VLOOKUP(AR104,$A$8:$CB$107,49,FALSE)/VLOOKUP(AR104,$A$8:$H$107,8,FALSE),0),\nIF(AND(AU104=\"Nul\",$AW104<>$H104),40+(2*ROUNDDOWN(10*VLOOKUP(AR104,$A$8:$CB$107,49,FALSE)/VLOOKUP(AR104,$A$8:$H$107,8,FALSE),0)-ROUNDDOWN(10*AW104/$H104,0)),IF(AND(AU104=\"Nul\",$AW104=$H104),58,0))))","v":0},null,{"$f":"IF(AY104<>\"\",VLOOKUP(AY104,$A$8:$C$107,2,FALSE),\"\")","v":""},"",null,{"$f":"IF(BB104<>\"\",IF(BB104=\"Victoire\",IF(VLOOKUP(AY104,$A$8:$BL$107,54,FALSE)=\"Défaite\",\"OK\",\"ERR\"),IF(BB104=\"Défaite\",IF(VLOOKUP(AY104,$A$8:$BL$107,54,FALSE)=\"Victoire\",\"OK\",\"ERR\"),IF(BB104=\"Nul\",IF(VLOOKUP(AY104,$A$8:$BL$107,54,FALSE)=\"Nul\",\"OK\",\"ERR\")))),\"\")","v":""},null,{"$f":"IF(BB104=\"Victoire\",100-ROUNDDOWN(20*BD104/$H104,0),\nIF(BB104=\"Défaite\",10+ROUNDDOWN(20*VLOOKUP(AY104,$A$8:$CB$107,56,FALSE)/VLOOKUP(AY104,$A$8:$H$107,8,FALSE),0),\nIF(AND(BB104=\"Nul\",$BD104<>$H104),40+(2*ROUNDDOWN(10*VLOOKUP(AY104,$A$8:$CB$107,56,FALSE)/VLOOKUP(AY104,$A$8:$H$107,8,FALSE),0)-ROUNDDOWN(10*BD104/$H104,0)),IF(AND(BB104=\"Nul\",$BD104=$H104),58,0))))","v":0},null,{"$f":"IF(BF104<>\"\",VLOOKUP(BF104,$A$8:$C$107,2,FALSE),\"\")","v":""},"",null,{"$f":"IF(BI104<>\"\",IF(BI104=\"Victoire\",IF(VLOOKUP(BF104,$A$8:$BL$107,61,FALSE)=\"Défaite\",\"OK\",\"ERR\"),IF(BI104=\"Défaite\",IF(VLOOKUP(BF104,$A$8:$BL$107,61,FALSE)=\"Victoire\",\"OK\",\"ERR\"),IF(BI104=\"Nul\",IF(VLOOKUP(BF104,$A$8:$BL$107,61,FALSE)=\"Nul\",\"OK\",\"ERR\")))),\"\")","v":""},null,{"$f":"IF(BI104=\"Victoire\",100-ROUNDDOWN(20*BK104/$H104,0),\nIF(BI104=\"Défaite\",10+ROUNDDOWN(20*VLOOKUP(BF104,$A$8:$CB$107,63,FALSE)/VLOOKUP(BF104,$A$8:$H$107,8,FALSE),0),\nIF(AND(BI104=\"Nul\",$BK104<>$H104),40+(2*ROUNDDOWN(10*VLOOKUP(BF104,$A$8:$CB$107,63,FALSE)/VLOOKUP(BF104,$A$8:$H$107,8,FALSE),0)-ROUNDDOWN(10*BK104/$H104,0)),IF(AND(BI104=\"Nul\",$BK104=$H104),58,0))))","v":0},null,{"$f":"IF(BM104<>\"\",VLOOKUP(BM104,$A$8:$C$107,2,FALSE),\"\")","v":""},"",null,{"$f":"IF(BP104<>\"\",IF(BP104=\"Victoire\",IF(VLOOKUP(BM104,$A$8:$BS$107,68,FALSE)=\"Défaite\",\"OK\",\"ERR\"),IF(BP104=\"Défaite\",IF(VLOOKUP(BM104,$A$8:$BS$107,68,FALSE)=\"Victoire\",\"OK\",\"ERR\"),IF(BP104=\"Nul\",IF(VLOOKUP(BM104,$A$8:$BS$107,68,FALSE)=\"Nul\",\"OK\",\"ERR\")))),\"\")","v":""},null,{"$f":"IF(BP104=\"Victoire\",100-ROUNDDOWN(20*BR104/$H104,0),\nIF(BP104=\"Défaite\",10+ROUNDDOWN(20*VLOOKUP(BM104,$A$8:$CB$107,70,FALSE)/VLOOKUP(BM104,$A$8:$H$107,8,FALSE),0),\nIF(AND(BP104=\"Nul\",$BR104<>$H104),40+(2*ROUNDDOWN(10*VLOOKUP(BM104,$A$8:$CB$107,70,FALSE)/VLOOKUP(BM104,$A$8:$H$107,8,FALSE),0)-ROUNDDOWN(10*BR104/$H104,0)),IF(AND(BP104=\"Nul\",$BR104=$H104),58,0))))","v":0},null,0]
[null,null,null,null,0,null,{"$f":"IF($F105<>\"\",VLOOKUP(F105,Armies!$A$1:$C$300,3,FALSE),\"\")","v":""},null,null,"","",null,"",null,0,null,"","",null,"",null,0,null,"","",null,"",null,0,null,"","",null,"",null,0,null,"","",null,"",null,0,null,"","",null,"",null,0,null,"","",null,"",null,0,null,"","",null,"",null,0,null,"","",null,"",null,0,null,0]
[null,null,null,null,0,null,{"$f":"IF($F106<>\"\",VLOOKUP(F106,Armies!$A$1:$C$300,3,FALSE),\"\")","v":""},null,null,"","",null,"",null,0,null,"","",null,"",null,0,null,"","",null,"",null,0,null,"","",null,"",null,0,null,"","",null,"",null,0,null,"","",null,"",null,0,null,"","",null,"",null,0,null,"","",null,"",null,0,null,"","",null,"",null,0,null,0]
[null,null,null,null,0,null,{"$f":"IF($F107<>\"\",VLOOKUP(F107,Armies!$A$1:$C$300,3,FALSE),\"\")","v":""},null,null,"","",null,"",null,0,null,"","",null,"",null,0,null,"","",null,"",null,0,null,"","",null,"",null,0,null,"","",null,"",null,0,null,"","",null,"",null,0,null,"","",null,"",null,0,null,"","",null,"",null,0,null,"","",null,"",null,0,null,0]
[]
[]
[]
[]
[]
[]
[]
[]
[]
[]
[null,"Data"]
[null,"AUS"]
[null,"BEL"]
[null,"ESP"]
[null,"FRA"]
[null,"GRC"]
[null,"ITA","Victoire"]
[null,"NZL","Nul"]
[null,"POR","Défaite"]
[null,"SUI"]
[null,"UK"]
[null,"US"]
[null,"Toutes les périodes","Open Theme"]
[null,"Période Antique","Antique Period"]
[null,"Période Ancienne","Ancient Period"]
[null,"Période Classique","Classical Period"]
[null,"Période Romaine","Roman Period"]
[null,"Ages Sombres","Dark Ages"]
[null,"Age Féodal","Feudal Ages"]
[null,"Période Médiévale","Medieval Period"]
[null,"Moyen âge tardif","Late Middle Ages"]
[null,"Autres thème","Other Theme"]

{"sheet":"Instructions","index":1,"n_rows":27,"n_cols":1,"rows_kept":27,"cut":false,"hidden":true,"merged":[]}
["L'Art de la Guerre"]
["The results excel file V4"]
[]
["The excel file is used to help to pair up and to record Tournament results for L'Art de la Guerre. "]
["Using this spreadsheet allows the Tournament Organiser to submit the results for automatic inclusion in the global tournament database. This generates ELO rankings for players across the world."]
[]
["Instructions"]
["1 - Enter the tournament’s data: tournament name, theme, date, country where it takes place, number of players and number of rounds (3 to 9). Theses pieces of information will be saved in the database."]
["2 - Copy the list of players by filling the following columns: ID, Surname, First Name, Club, army list nbr and its nbr of units. Each ID is linked to only one player. If a player has already played in a tournament, he has an ID nbr, that can be found on the ADLG website. For the new players, the umpires can obtain their ID by calling the championship master. Otherwise take ID nbr as a numeric value over 2000"]
["3 - For each round, pairings are calculated manually by the umpire. You can show or hide the details of each round by clicking on buttons.  Entering the ID of each players opponent in the draw will generate an automatic check for mistakes: a red highlighted cell means that an incorrect player number has been entered, a purple cell means that the players have already played together and an amber cell means that the players come from the same club. The opponent’s name is automatically generated from the ID number. A summary of the pairings for that turn is generated using the appropriate tab in the spreadsheet"]
["4 - A the end of each game players only need to submit the result (victory, a defeat or a draw) and also the number of of losses (not required for broken armies). Both players results need to be entered, and if their results are incompatible (ie both are listed as winning outright) the cell will be highlighted in red. The points accruing to each player are calculated automatically (based on the army sizes entered earlier) and added in the Points columns in green."]
["5 - At the end of the round, you can get the overall ranking by clicking the (sort out) button “Sort”. This will be sorted by increasing points. Players equally placed are sorted by the amount of points earned by all of their opponents. If some ties are left, the umpire can manually add a player ranking in the “ex-aequo” column. This could be based on ELO rank, the result of the match they played together, or any other random criteria decided by the Umpire."]
["6 - The column “Ajustment Points” allows the umpire to manually add or subtract points from the player’s total. It could be used to implement penalties or bonuses such as:\n-10pts to a player for a late list;\n-100pts for a player that changes or provides his list at the beginning of the tournament;\n-30pts for unsporting behaviour."]
["7 - When the tournament is over, please send this results file to the AGLG Tournament admin. The results will be recorded in the tournament database."]
[]
[]
[]
[]
[]
["Versions"]
["1.0 : Initial version"]
["1.1 : Minor corrections"]
["1.2 : Corrections to draw matches’ rounds"]
["1.3 : Addition of the army list in version 2"]
["1.4 : Modifications for the draw matches (base 35pts instead of 40)"]
["2.0 : Modifications due to new organisation charter for tournaments, counting for the championship"]
["4.0 : Update army lists for V4"]

{"sheet":"Round Draws","index":2,"n_rows":2,"n_cols":2,"rows_kept":2,"cut":false,"hidden":true,"merged":[]}
[]
[null,"Pairing of the round 1"]

{"sheet":"Armies","index":3,"n_rows":300,"n_cols":3,"rows_kept":300,"cut":false,"hidden":true,"merged":[]}
[1,"Sumer and Akkad","Sumer and Akkad"]
[2,"Sumerian Successor","Sumerian Successor"]
[3,"Amorite Highlanders","Amorite Highlanders"]
[4,"Elamite","Elamite"]
[5,"Old Assyrian and Babylonian","Old Assyrian and Babylonian"]
[6,"Kassite Babylonian","Kassite Babylonian"]
[7,"Assyrian","Assyrian"]
[8,"Neo-Babylonian","Neo-Babylonian"]
[9,"Assyrian Empire and Sargonid","Assyrian Empire and Sargonid"]
[10,"Old and Middle Kingdom Egyptian","Old and Middle Kingdom Egyptian"]
[11,"Nubian","Nubian"]
[12,"Libyan","Libyan"]
[13,"Hyksos","Hyksos"]
[14,"New Kingdom Egyptian","New Kingdom Egyptian"]
[15,"Libyan Egyptian","Libyan Egyptian"]
[16,"Kushite Egyptian","Kushite Egyptian"]
[17,"Ancient Bedouin","Ancient Bedouin"]
[18,"Syrian City States","Syrian City States"]
[19,"Oman and Gulf States","Oman and Gulf States"]
[20,"Hittite","Hittite"]
[21,"Hurri-Mitanni","Hurri-Mitanni"]
[22,"Syria, Canaan and Ugarit","Syria, Canaan and Ugarit"]
[23,"Ancient Hebrew","Ancient Hebrew"]
[24,"Sea Peoples","Sea Peoples"]
[25,"Philistine","Philistine"]
[26,"Aramaean and Neo-Hittite","Aramaean and Neo-Hittite"]
[27,"Urartu","Urartu"]
[28,"Medes","Medes"]
[29,"Phrygian","Phrygian"]
[30,"Mycenaean","Mycenaean"]
[31,"Geometric Greek","Geometric Greek"]
[32,"Phoenicians of Cyprus","Phoenicians of Cyprus"]
[33,"Celts","Celts"]
[34,"Indus Valley","Indus Valley"]
[35,"Vedic Indian","Vedic Indian"]
[36,"Erlitou Shang Chinese","Erlitou Shang Chinese"]
[37,"Zhou and Spring and Autumn Chinese","Zhou and Spring and Autumn Chinese"]
[38,"Early Macedonian","Early Macedonian"]
[39,"Alexandrian Macedonian","Alexandrian Macedonian"]
[40,"Alexander the Great","Alexander the Great"]
[41,"Early Successors","Early Successors"]
[42,"Seleucid","Seleucid"]
[43,"Ptolemaic","Ptolemaic"]
[44,"Pyrrhic","Pyrrhic"]
[45,"Later Macedonian","Later Macedonian"]
[46,"Graeco-Bactrian and Graeco-Indian","Graeco-Bactrian and Graeco-Indian"]
[47,"Italic Tribes","Italic Tribes"]
[48,"Etruscan","Etruscan"]
[49,"Tullian Roman","Tullian Roman"]
[50,"Syracusan","Syracusan"]
[51,"Campanian, Lucanian, Apulian and Bruttian","Campanian, Lucanian, Apulian and Bruttian"]
[52,"Camillan Roman","Camillan Roman"]
[53,"Republican Roman","Republican Roman"]
[54,"Early Carthaginian","Early Carthaginian"]
[55,"Carthaginian","Carthaginian"]
[56,"Numidian","Numidian"]
[57,"Saitic Egyptian","Saitic Egyptian"]
[58,"Kyrenean Greek","Kyrenean Greek"]
[59,"Meroitic Kushite","Meroitic Kushite"]
[60,"Classical Greek","Classical Greek"]
[61,"Hellenistic Greek","Hellenistic Greek"]
[62,"Illyrian","Illyrian"]
[63,"Thracian","Thracian"]
[64,"Achaemenid Persian","Achaemenid Persian"]
[65,"Lydian","Lydian"]
[66,"Lycian","Lycian"]
[67,"Bithynian","Bithynian"]
[68,"Later Achaemenid Persian","Later Achaemenid Persian"]
[69,"Cappadocian","Cappadocian"]
[70,"Bosporan Kingdom","Bosporan Kingdom"]
[71,"Armenian","Armenian"]
[72,"Galatian","Galatian"]
[73,"Pergamon","Pergamon"]
[74,"Aramaean","Aramaean"]
[75,"Early Arab","Early Arab"]
[76,"Scythian","Scythian"]
[77,"Sarmatian","Sarmatian"]
[78,"Vietnamese","Vietnamese"]
[79,"Classical Indian","Classical Indian"]
[80,"Warring States","Warring States"]
[81,"Qiang Di","Qiang Di"]
[82,"Yayoi Japanese","Yayoi Japanese"]
[83,"Triumvirate Roman","Triumvirate Roman"]
[84,"Slave revolts","Slave revolts"]
[85,"Early Imperial Roman","Early Imperial Roman"]
[86,"Middle Imperial Roman","Middle Imperial Roman"]
[87,"Late Imperial Roman","Late Imperial Roman"]
[88,"Patrician Roman","Patrician Roman"]
[89,"Gallic","Gallic"]
[90,"Ancient Spanish","Ancient Spanish"]
[91,"German","German"]
[92,"Dacian and Carpi","Dacian and Carpi"]
[93,"Visigoth","Visigoth"]
[94,"Vandal","Vandal"]
[95,"Ostrogoth","Ostrogoth"]
[96,"Gepid, Herul, Taifali and Sciri","Gepid, Herul, Taifali and Sciri"]
[97,"Franks, Alemanni, Burgundi, Suevi","Franks, Alemanni, Burgundi, Suevi"]
[98,"Ancient British","Ancient British"]
[99,"Caledonian, Scots-Irish and Pictish","Caledonian, Scots-Irish and Pictish"]
[100,"Saxon, Anglo-Saxon, Frisian, Jutes","Saxon, Anglo-Saxon, Frisian, Jutes"]
[101,"Britto-Roman","Britto-Roman"]
[102,"Parthian","Parthian"]
[103,"Judaean Jewish","Judaean Jewish"]
[104,"Commagene","Commagene"]
[105,"Mithridatic","Mithridatic"]
[106,"Palmyran","Palmyran"]
[107,"Kushan","Kushan"]
[108,"Alan","Alan"]
[109,"Sassanid Persian","Sassanid Persian"]
[110,"Huns","Huns"]
[111,"Hephthalite Huns","Hephthalite Huns"]
[112,"Blemmyes and Nobatae","Blemmyes and Nobatae"]
[113,"Moors","Moors"]
[114,"Kingdom of Axum","Kingdom of Axum"]
[115,"Xiongnu","Xiongnu"]
[116,"Han Chinese","Han Chinese"]
[117,"Xianbei","Xianbei"]
[118,"Three Kingdoms Chinese","Three Kingdoms Chinese"]
[119,"Chinese Northern and Southern Dynasties","Chinese Northern and Southern Dynasties"]
[120,"Tamil Indian","Tamil Indian"]
[121,"Three Kingdoms Korean","Three Kingdoms Korean"]
[122,"Kofun-Nara Japanese","Kofun-Nara Japanese"]
[123,"Emishi","Emishi"]
[124,"Justinian Byzantine","Justinian Byzantine"]
[125,"Maurikian Byzantine","Maurikian Byzantine"]
[126,"Thematic Byzantine","Thematic Byzantine"]
[127,"Nikephorian Byzantine","Nikephorian Byzantine"]
[128,"Armenian Principality","Armenian Principality"]
[129,"Bagratid Armenian","Bagratid Armenian"]
[130,"Arab Conquest","Arab Conquest"]
[131,"Umayyad Arab","Umayyad Arab"]
[132,"North African Arab","North African Arab"]
[133,"Andalusian Arab","Andalusian Arab"]
[134,"Abbasid Arab","Abbasid Arab"]
[135,"Arab Indian","Arab Indian"]
[136,"Khurasanian","Khurasanian"]
[137,"Tulunid and Iqshidid Egyptian","Tulunid and Iqshidid Egyptian"]
[138,"Bedouin Dynasties","Bedouin Dynasties"]
[139,"Sogdian and Central Asia City States","Sogdian and Central Asia City States"]
[140,"Central Asian Turkish","Central Asian Turkish"]
[141,"Visigoth in Spain","Visigoth in Spain"]
[142,"African Vandal","African Vandal"]
[143,"Lombard","Lombard"]
[144,"Italian Ostrogoth","Italian Ostrogoth"]
[145,"Later Scots-Irish","Later Scots-Irish"]
[146,"Post Roman British","Post Roman British"]
[147,"Later Pictish","Later Pictish"]
[148,"Merovingian Frankish","Merovingian Frankish"]
[149,"Armourican Breton","Armourican Breton"]
[150,"Welsh","Welsh"]
[151,"Anglo-Saxon","Anglo-Saxon"]
[152,"Astur-Leónese and Navarrese","Astur-Leónese and Navarrese"]
[153,"Carolingian Frankish","Carolingian Frankish"]
[154,"Later Franks","Later Franks"]
[155,"Viking and Leidang","Viking and Leidang"]
[156,"Irish","Irish"]
[157,"Scots","Scots"]
[158,"Slav","Slav"]
[159,"Avar","Avar"]
[160,"Bulgar","Bulgar"]
[161,"Khazar","Khazar"]
[162,"Serbo-Croatian","Serbo-Croatian"]
[163,"Magyar","Magyar"]
[164,"Pecheneg","Pecheneg"]
[165,"Rus","Rus"]
[166,"Christian Nubian","Christian Nubian"]
[167,"Beja","Beja"]
[168,"Burmese","Burmese"]
[169,"Rebel Vietnam","Rebel Vietnam"]
[170,"Hindu Indian","Hindu Indian"]
[171,"Sui and Tang Chinese","Sui and Tang Chinese"]
[172,"Tibetan","Tibetan"]
[173,"Khmer Empire and Cham","Khmer Empire and Cham"]
[174,"Nanzhao and Dali","Nanzhao and Dali"]
[175,"Tang and Five Dynasties Chinese","Tang and Five Dynasties Chinese"]
[176,"Heian Japanese","Heian Japanese"]
[177,"Shatuo Turkish","Shatuo Turkish"]
[178,"Tribal Mongol","Tribal Mongol"]
[179,"Norman","Norman"]
[180,"Anglo-Danish","Anglo-Danish"]
[181,"Anglo-Norman","Anglo-Norman"]
[182,"Feudal French","Feudal French"]
[183,"Feudal English","Feudal English"]
[184,"Feudal Scots","Feudal Scots"]
[185,"Feudal Welsh","Feudal Welsh"]
[186,"Feudal Anglo-Irish","Feudal Anglo-Irish"]
[187,"Scots Isles and Highlanders","Scots Isles and Highlanders"]
[188,"Kingdom of Sicily ","Kingdom of Sicily "]
[189,"Communal Italian","Communal Italian"]
[190,"Feudal Spanish","Feudal Spanish"]
[191,"Feudal German","Feudal German"]
[192,"Konstantinan Byzantine","Konstantinan Byzantine"]
[193,"Komnenan Byzantine","Komnenan Byzantine"]
[194,"Cilician Armenian","Cilician Armenian"]
[195,"Crusader","Crusader"]
[196,"Later Crusader","Later Crusader"]
[197,"Frankish Cyprus","Frankish Cyprus"]
[198,"Eastern Latin Empire","Eastern Latin Empire"]
[199,"Dailami Dynasties","Dailami Dynasties"]
[200,"Kurdish Dynasties","Kurdish Dynasties"]
[201,"Ghaznavid","Ghaznavid"]
[202,"Fatimid Egyptian","Fatimid Egyptian"]
[203,"Seljuk Turks","Seljuk Turks"]
[204,"Taifa Kingdoms","Taifa Kingdoms"]
[205,"Syrian","Syrian"]
[206,"Ghurid","Ghurid"]
[207,"Ayyubid Egyptian","Ayyubid Egyptian"]
[208,"Khwarazmian","Khwarazmian"]
[209,"Sahelian Empire","Sahelian Empire"]
[210,"Tuareg","Tuareg"]
[211,"Berber","Berber"]
[212,"African kingdoms","African kingdoms"]
[213,"Feudal Polish","Feudal Polish"]
[214,"Feudal Hungarian","Feudal Hungarian"]
[215,"Georgian","Georgian"]
[216,"Feudal Russian","Feudal Russian"]
[217,"Cuman","Cuman"]
[218,"Feudal Scandinavian","Feudal Scandinavian"]
[219,"Prussian and Estonian","Prussian and Estonian"]
[220,"Teutonic Knights","Teutonic Knights"]
[221,"Samurai","Samurai"]
[222,"Khitan-Liao","Khitan-Liao"]
[223,"Goryeo Korean","Goryeo Korean"]
[224,"Medieval Vietnamese","Medieval Vietnamese"]
[225,"Song Chinese","Song Chinese"]
[226,"Xi Xia","Xi Xia"]
[227,"Jurchen-Jin","Jurchen-Jin"]
[228,"Qara-Khitan","Qara-Khitan"]
[229,"Mongol Empire","Mongol Empire"]
[230,"Granadine","Granadine"]
[231,"Swiss","Swiss"]
[232,"Medieval Scots","Medieval Scots"]
[233,"Medieval Irish","Medieval Irish"]
[234,"Medieval Anglo-Irish","Medieval Anglo-Irish"]
[235,"Condottieri","Condottieri"]
[236,"Hundred Years War English","Hundred Years War English"]
[237,"Hundred Years War French","Hundred Years War French"]
[238,"Medieval German","Medieval German"]
[239,"Medieval Spanish","Medieval Spanish"]
[240,"Kingdom of Navarre","Kingdom of Navarre"]
[241,"Free Company","Free Company"]
[242,"Burgundian","Burgundian"]
[243,"Low Countries","Low Countries"]
[244,"Medieval Welsh","Medieval Welsh"]
[245,"French Ordonnance","French Ordonnance"]
[246,"Burgundian Ordonnance","Burgundian Ordonnance"]
[247,"Wars of the Roses","Wars of the Roses"]
[248,"Lithuanian","Lithuanian"]
[249,"Medieval Hungarian","Medieval Hungarian"]
[250,"Muscovite Russian","Muscovite Russian"]
[251,"Medieval Scandinavian","Medieval Scandinavian"]
[252,"Golden Horde","Golden Horde"]
[253,"Medieval Teutonic","Medieval Teutonic"]
[254,"Medieval Polish","Medieval Polish"]
[255,"Hussite","Hussite"]
[256,"Serbian Empire","Serbian Empire"]
[257,"Second Bulgarian Empire","Second Bulgarian Empire"]
[258,"Later Byzantine","Later Byzantine"]
[259,"Mamluk","Mamluk"]
[260,"Turkoman","Turkoman"]
[261,"Ottoman Turkish","Ottoman Turkish"]
[262,"Catalan Company","Catalan Company"]
[263,"Order of St John","Order of St John"]
[264,"Medieval Cyprus","Medieval Cyprus"]
[265,"Vlach and Moldavian","Vlach and Moldavian"]
[266,"Albanian","Albanian"]
[267,"Ottoman Empire","Ottoman Empire"]
[268,"Besieged Byzantine","Besieged Byzantine"]
[269,"Islamic Persian","Islamic Persian"]
[270,"Ilkhanid Mongol","Ilkhanid Mongol"]
[271,"Steppe Mongol","Steppe Mongol"]
[272,"Jalayirid","Jalayirid"]
[273,"Timurid","Timurid"]
[274,"Black Sheep & White Sheep Turkoman","Black Sheep & White Sheep Turkoman"]
[275,"Delhi Sultanate","Delhi Sultanate"]
[276,"Vijayanagar Kingdom","Vijayanagar Kingdom"]
[277,"Indonesian and Malay","Indonesian and Malay"]
[278,"Siam","Siam"]
[279,"Yuan Chinese","Yuan Chinese"]
[280,"Later Samurai","Later Samurai"]
[281,"Ming Chinese","Ming Chinese"]
[282,"Yi Korean","Yi Korean"]
[283,"Olmec","Olmec"]
[284,"Maya","Maya"]
[285,"Zapotec and Mixtec","Zapotec and Mixtec"]
[286,"Toltec","Toltec"]
[287,"Chinantec","Chinantec"]
[288,"Tarascan","Tarascan"]
[289,"Aztec","Aztec"]
[290,"Texcala","Texcala"]
[291,"Inca","Inca"]
[292,"Chanca","Chanca"]
[293,"Mochica and Chimu","Mochica and Chimu"]
[294,"Tupi","Tupi"]
[295,"Mapuche","Mapuche"]
[296,"Chichimec","Chichimec"]
[297,"Pueblos","Pueblos"]
[298,"North American tribes","North American tribes"]
[299,"Mound Builder tribes","Mound Builder tribes"]
[300,"Polynesian and Melanesian","Polynesian and Melanesian"]

{"sheet":"Round 1","index":9,"n_rows":100,"n_cols":13,"rows_kept":100,"cut":false,"hidden":false,"merged":[]}
[]
["Round 1 Draw",null,{"$f":"Results!B3","v":"Kegworth Codgers 2024"}]
[null,null,{"$f":"Results!B4","v":"Roman Period"}]
[null,null,null,null,null,null,null,null,null,null,null,null,"VALID?"]
[null,{"$f":"Results!A8","v":486},{"$f":"Results!C8","v":"Alan"},{"$f":"Results!B8","v":"Cutner"},{"$f":"Results!D8","v":"Tradeston"},{"$f":"Results!G8","v":""},"- vs -",{"$f":"VLOOKUP(B5,Results!$A$8:$AG$104,9,)","v":0},{"$f":"VLOOKUP(H5,Results!A$8:$G$104,3,FALSE)","v":{"$error":"#N/A"}},{"$f":"VLOOKUP(H5,Results!$A$8:$G$104,2,FALSE)","v":{"$error":"#N/A"}},{"$f":"VLOOKUP(H5,Results!$A$8:$G$104,4,FALSE)","v":{"$error":"#N/A"}},{"$f":"VLOOKUP(H5,Results!$A$8:$G$104,7,FALSE)","v":{"$error":"#N/A"}},{"$f":"VLOOKUP(H5,$B$5:B5,1,FALSE)","v":{"$error":"#N/A"}}]
[null,{"$f":"Results!A9","v":1579},{"$f":"Results!C9","v":"Alistair"},{"$f":"Results!B9","v":"Wright"},{"$f":"Results!D9","v":"Millbrook"},{"$f":"Results!G9","v":""},"- vs -",{"$f":"VLOOKUP(B6,Results!$A$8:$AG$104,9,)","v":0},{"$f":"VLOOKUP(H6,Results!A$8:$G$104,3,FALSE)","v":{"$error":"#N/A"}},{"$f":"VLOOKUP(H6,Results!$A$8:$G$104,2,FALSE)","v":{"$error":"#N/A"}},{"$f":"VLOOKUP(H6,Results!$A$8:$G$104,4,FALSE)","v":{"$error":"#N/A"}},{"$f":"VLOOKUP(H6,Results!$A$8:$G$104,7,FALSE)","v":{"$error":"#N/A"}},{"$f":"VLOOKUP(H6,$B$5:B6,1,FALSE)","v":{"$error":"#N/A"}}]
[null,{"$f":"Results!A10","v":748},{"$f":"Results!C10","v":"Andrew"},{"$f":"Results!B10","v":"Whitby"},{"$f":"Results!D10","v":"Bristol"},{"$f":"Results!G10","v":""},"- vs -",{"$f":"VLOOKUP(B7,Results!$A$8:$AG$104,9,)","v":0},{"$f":"VLOOKUP(H7,Results!A$8:$G$104,3,FALSE)","v":{"$error":"#N/A"}},{"$f":"VLOOKUP(H7,Results!$A$8:$G$104,2,FALSE)","v":{"$error":"#N/A"}},{"$f":"VLOOKUP(H7,Results!$A$8:$G$104,4,FALSE)","v":{"$error":"#N/A"}},{"$f":"VLOOKUP(H7,Results!$A$8:$G$104,7,FALSE)","v":{"$error":"#N/A"}},{"$f":"VLOOKUP(H7,$B$5:B7,1,FALSE)","v":{"$error":"#N/A"}}]
[null,{"$f":"Results!A11","v":1598},{"$f":"Results!C11","v":"Andy"},{"$f":"Results!B11","v":"Fyfe"},{"$f":"Results!D11","v":"FDWG"},{"$f":"Results!G11","v":""},"- vs -",{"$f":"VLOOKUP(B8,Results!$A$8:$AG$104,9,)","v":0},{"$f":"VLOOKUP(H8,Results!A$8:$G$104,3,FALSE)","v":{"$error":"#N/A"}},{"$f":"VLOOKUP(H8,Results!$A$8:$G$104,2,FALSE)","v":{"$error":"#N/A"}},{"$f":"VLOOKUP(H8,Results!$A$8:$G$104,4,FALSE)","v":{"$error":"#N/A"}},{"$f":"VLOOKUP(H8,Results!$A$8:$G$104,7,FALSE)","v":{"$error":"#N/A"}},{"$f":"VLOOKUP(H8,$B$5:B8,1,FALSE)","v":{"$error":"#N/A"}}]
[null,{"$f":"Results!A12","v":714},{"$f":"Results!C12","v":"Andy"},{"$f":"Results!B12","v":"Gilbert"},{"$f":"Results!D12","v":"Pompey"},{"$f":"Results!G12","v":""},"- vs -",{"$f":"VLOOKUP(B9,Results!$A$8:$AG$104,9,)","v":0},{"$f":"VLOOKUP(H9,Results!A$8:$G$104,3,FALSE)","v":{"$error":"#N/A"}},{"$f":"VLOOKUP(H9,Results!$A$8:$G$104,2,FALSE)","v":{"$error":"#N/A"}},{"$f":"VLOOKUP(H9,Results!$A$8:$G$104,4,FALSE)","v":{"$error":"#N/A"}},{"$f":"VLOOKUP(H9,Results!$A$8:$G$104,7,FALSE)","v":{"$error":"#N/A"}},{"$f":"VLOOKUP(H9,$B$5:B9,1,FALSE)","v":{"$error":"#N/A"}}]
[null,{"$f":"Results!A13","v":1447},{"$f":"Results!C13","v":"Antony"},{"$f":"Results!B13","v":"Robinson"},{"$f":"Results!D13","v":"Durham"},{"$f":"Results!G13","v":""},"- vs -",{"$f":"VLOOKUP(B10,Results!$A$8:$AG$104,9,)","v":0},{"$f":"VLOOKUP(H10,Results!A$8:$G$104,3,FALSE)","v":{"$error":"#N/A"}},{"$f":"VLOOKUP(H10,Results!$A$8:$G$104,2,FALSE)","v":{"$error":"#N/A"}},{"$f":"VLOOKUP(H10,Results!$A$8:$G$104,4,FALSE)","v":{"$error":"#N/A"}},{"$f":"VLOOKUP(H10,Results!$A$8:$G$104,7,FALSE)","v":{"$error":"#N/A"}},{"$f":"VLOOKUP(H10,$B$5:B10,1,FALSE)","v":{"$error":"#N/A"}}]
[null,{"$f":"Results!A14","v":773},{"$f":"Results!C14","v":"Charles"},{"$f":"Results!B14","v":"Masefield"},{"$f":"Results!D14","v":"Oxford"},{"$f":"Results!G14","v":""},"- vs -",{"$f":"VLOOKUP(B11,Results!$A$8:$AG$104,9,)","v":0},{"$f":"VLOOKUP(H11,Results!A$8:$G$104,3,FALSE)","v":{"$error":"#N/A"}},{"$f":"VLOOKUP(H11,Results!$A$8:$G$104,2,FALSE)","v":{"$error":"#N/A"}},{"$f":"VLOOKUP(H11,Results!$A$8:$G$104,4,FALSE)","v":{"$error":"#N/A"}},{"$f":"VLOOKUP(H11,Results!$A$8:$G$104,7,FALSE)","v":{"$error":"#N/A"}},{"$f":"VLOOKUP(H11,$B$5:B11,1,FALSE)","v":{"$error":"#N/A"}}]
[null,{"$f":"Results!A15","v":1549},{"$f":"Results!C15","v":"Colin"},{"$f":"Results!B15","v":"Whittaker"},{"$f":"Results!D15","v":"Entoyment"},{"$f":"Results!G15","v":""},"- vs -",{"$f":"VLOOKUP(B12,Results!$A$8:$AG$104,9,)","v":0},{"$f":"VLOOKUP(H12,Results!A$8:$G$104,3,FALSE)","v":{"$error":"#N/A"}},{"$f":"VLOOKUP(H12,Results!$A$8:$G$104,2,FALSE)","v":{"$error":"#N/A"}},{"$f":"VLOOKUP(H12,Results!$A$8:$G$104,4,FALSE)","v":{"$error":"#N/A"}},{"$f":"VLOOKUP(H12,Results!$A$8:$G$104,7,FALSE)","v":{"$error":"#N/A"}},{"$f":"VLOOKUP(H12,$B$5:B12,1,FALSE)","v":{"$error":"#N/A"}}]
[null,{"$f":"Results!A16","v":1435},{"$f":"Results!C16","v":"Dave"},{"$f":"Results!B16","v":"Hutchby"},{"$f":"Results!D16","v":"Derby"},{"$f":"Results!G16","v":"Chinese Northern and Southern Dynasties"},"- vs -",{"$f":"VLOOKUP(B13,Results!$A$8:$AG$104,9,)","v":0},{"$f":"VLOOKUP(H13,Results!A$8:$G$104,3,FALSE)","v":{"$error":"#N/A"}},{"$f":"VLOOKUP(H13,Results!$A$8:$G$104,2,FALSE)","v":{"$error":"#N/A"}},{"$f":"VLOOKUP(H13,Results!$A$8:$G$104,4,FALSE)","v":{"$error":"#N/A"}},{"$f":"VLOOKUP(H13,Results!$A$8:$G$104,7,FALSE)","v":{"$error":"#N/A"}},{"$f":"VLOOKUP(H13,$B$5:B13,1,FALSE)","v":{"$error":"#N/A"}}]
[null,{"$f":"Results!A17","v":1017},{"$f":"Results!C17","v":"David"},{"$f":"Results!B17","v":"Roberts"},{"$f":"Results!D17","v":"Cambridge"},{"$f":"Results!G17","v":""},"- vs -",{"$f":"VLOOKUP(B14,Results!$A$8:$AG$104,9,)","v":0},{"$f":"VLOOKUP(H14,Results!A$8:$G$104,3,FALSE)","v":{"$error":"#N/A"}},{"$f":"VLOOKUP(H14,Results!$A$8:$G$104,2,FALSE)","v":{"$error":"#N/A"}},{"$f":"VLOOKUP(H14,Results!$A$8:$G$104,4,FALSE)","v":{"$error":"#N/A"}},{"$f":"VLOOKUP(H14,Results!$A$8:$G$104,7,FALSE)","v":{"$error":"#N/A"}},{"$f":"VLOOKUP(H14,$B$5:B14,1,FALSE)","v":{"$error":"#N/A"}}]
[null,{"$f":"Results!A18","v":1576},{"$f":"Results!C18","v":"David"},{"$f":"Results!B18","v":"Dryden"},{"$f":"Results!D18","v":"FDWC"},{"$f":"Results!G18","v":""},"- vs -",{"$f":"VLOOKUP(B15,Results!$A$8:$AG$104,9,)","v":0},{"$f":"VLOOKUP(H15,Results!A$8:$G$104,3,FALSE)","v":{"$error":"#N/A"}},{"$f":"VLOOKUP(H15,Results!$A$8:$G$104,2,FALSE)","v":{"$error":"#N/A"}},{"$f":"VLOOKUP(H15,Results!$A$8:$G$104,4,FALSE)","v":{"$error":"#N/A"}},{"$f":"VLOOKUP(H15,Results!$A$8:$G$104,7,FALSE)","v":{"$error":"#N/A"}},{"$f":"VLOOKUP(H15,$B$5:B15,1,FALSE)","v":{"$error":"#N/A"}}]
[null,{"$f":"Results!A19","v":1509},{"$f":"Results!C19","v":"Frazer"},{"$f":"Results!B19","v":"Watson"},{"$f":"Results!D19","v":"FDWG"},{"$f":"Results!G19","v":"Kingdom of Axum"},"- vs -",{"$f":"VLOOKUP(B16,Results!$A$8:$AG$104,9,)","v":0},{"$f":"VLOOKUP(H16,Results!A$8:$G$104,3,FALSE)","v":{"$error":"#N/A"}},{"$f":"VLOOKUP(H16,Results!$A$8:$G$104,2,FALSE)","v":{"$error":"#N/A"}},{"$f":"VLOOKUP(H16,Results!$A$8:$G$104,4,FALSE)","v":{"$error":"#N/A"}},{"$f":"VLOOKUP(H16,Results!$A$8:$G$104,7,FALSE)","v":{"$error":"#N/A"}},{"$f":"VLOOKUP(H16,$B$5:B16,1,FALSE)","v":{"$error":"#N/A"}}]
[null,{"$f":"Results!A20","v":715},{"$f":"Results!C20","v":"Gordon"},{"$f":"Results!B20","v":"Jamieson"},{"$f":"Results!D20","v":"CLWC"},{"$f":"Results!G20","v":""},"- vs -",{"$f":"VLOOKUP(B17,Results!$A$8:$AG$104,9,)","v":0},{"$f":"VLOOKUP(H17,Results!A$8:$G$104,3,FALSE)","v":{"$error":"#N/A"}},{"$f":"VLOOKUP(H17,Results!$A$8:$G$104,2,FALSE)","v":{"$error":"#N/A"}},{"$f":"VLOOKUP(H17,Results!$A$8:$G$104,4,FALSE)","v":{"$error":"#N/A"}},{"$f":"VLOOKUP(H17,Results!$A$8:$G$104,7,FALSE)","v":{"$error":"#N/A"}},{"$f":"VLOOKUP(H17,$B$5:B17,1,FALSE)","v":{"$error":"#N/A"}}]
[null,{"$f":"Results!A21","v":1131},{"$f":"Results!C21","v":"Gordon"},{"$f":"Results!B21","v":"Miller"},{"$f":"Results!D21","v":"FDWC"},{"$f":"Results!G21","v":""},"- vs -",{"$f":"VLOOKUP(B18,Results!$A$8:$AG$104,9,)","v":0},{"$f":"VLOOKUP(H18,Results!A$8:$G$104,3,FALSE)","v":{"$error":"#N/A"}},{"$f":"VLOOKUP(H18,Results!$A$8:$G$104,2,FALSE)","v":{"$error":"#N/A"}},{"$f":"VLOOKUP(H18,Results!$A$8:$G$104,4,FALSE)","v":{"$error":"#N/A"}},{"$f":"VLOOKUP(H18,Results!$A$8:$G$104,7,FALSE)","v":{"$error":"#N/A"}},{"$f":"VLOOKUP(H18,$B$5:B18,1,FALSE)","v":{"$error":"#N/A"}}]
[null,{"$f":"Results!A22","v":1483},{"$f":"Results!C22","v":"Ian"},{"$f":"Results!B22","v":"Sewell"},{"$f":"Results!D22","v":"WAR"},{"$f":"Results!G22","v":""},"- vs -",{"$f":"VLOOKUP(B19,Results!$A$8:$AG$104,9,)","v":0},{"$f":"VLOOKUP(H19,Results!A$8:$G$104,3,FALSE)","v":{"$error":"#N/A"}},{"$f":"VLOOKUP(H19,Results!$A$8:$G$104,2,FALSE)","v":{"$error":"#N/A"}},{"$f":"VLOOKUP(H19,Results!$A$8:$G$104,4,FALSE)","v":{"$error":"#N/A"}},{"$f":"VLOOKUP(H19,Results!$A$8:$G$104,7,FALSE)","v":{"$error":"#N/A"}},{"$f":"VLOOKUP(H19,$B$5:B19,1,FALSE)","v":{"$error":"#N/A"}}]
[null,{"$f":"Results!A23","v":1538},{"$f":"Results!C23","v":"James"},{"$f":"Results!B23","v":"Gibson"},{"$f":"Results!D23","v":"FDWG"},{"$f":"Results!G23","v":""},"- vs -",{"$f":"VLOOKUP(B20,Results!$A$8:$AG$104,9,)","v":0},{"$f":"VLOOKUP(H20,Results!A$8:$G$104,3,FALSE)","v":{"$error":"#N/A"}},{"$f":"VLOOKUP(H20,Results!$A$8:$G$104,2,FALSE)","v":{"$error":"#N/A"}},{"$f":"VLOOKUP(H20,Results!$A$8:$G$104,4,FALSE)","v":{"$error":"#N/A"}},{"$f":"VLOOKUP(H20,Results!$A$8:$G$104,7,FALSE)","v":{"$error":"#N/A"}},{"$f":"VLOOKUP(H20,$B$5:B20,1,FALSE)","v":{"$error":"#N/A"}}]
[null,{"$f":"Results!A24","v":485},{"$f":"Results!C24","v":"Jesse"},{"$f":"Results!B24","v":"Schoor"},{"$f":"Results!D24","v":"WAR"},{"$f":"Results!G24","v":""},"- vs -",{"$f":"VLOOKUP(B21,Results!$A$8:$AG$104,9,)","v":0},{"$f":"VLOOKUP(H21,Results!A$8:$G$104,3,FALSE)","v":{"$error":"#N/A"}},{"$f":"VLOOKUP(H21,Results!$A$8:$G$104,2,FALSE)","v":{"$error":"#N/A"}},{"$f":"VLOOKUP(H21,Results!$A$8:$G$104,4,FALSE)","v":{"$error":"#N/A"}},{"$f":"VLOOKUP(H21,Results!$A$8:$G$104,7,FALSE)","v":{"$error":"#N/A"}},{"$f":"VLOOKUP(H21,$B$5:B21,1,FALSE)","v":{"$error":"#N/A"}}]
[null,{"$f":"Results!A25","v":795},{"$f":"Results!C25","v":"Mark"},{"$f":"Results!B25","v":"Fry"},{"$f":"Results!D25","v":"Bristol"},{"$f":"Results!G25","v":""},"- vs -",{"$f":"VLOOKUP(B22,Results!$A$8:$AG$104,9,)","v":0},{"$f":"VLOOKUP(H22,Results!A$8:$G$104,3,FALSE)","v":{"$error":"#N/A"}},{"$f":"VLOOKUP(H22,Results!$A$8:$G$104,2,FALSE)","v":{"$error":"#N/A"}},{"$f":"VLOOKUP(H22,Results!$A$8:$G$104,4,FALSE)","v":{"$error":"#N/A"}},{"$f":"VLOOKUP(H22,Results!$A$8:$G$104,7,FALSE)","v":{"$error":"#N/A"}},{"$f":"VLOOKUP(H22,$B$5:B22,1,FALSE)","v":{"$error":"#N/A"}}]
[null,{"$f":"Results!A26","v":1807},{"$f":"Results!C26","v":"Mark"},{"$f":"Results!B26","v":"Gilby"},{"$f":"Results!D26","v":"CLWC"},{"$f":"Results!G26","v":""},"- vs -",{"$f":"VLOOKUP(B23,Results!$A$8:$AG$104,9,)","v":0},{"$f":"VLOOKUP(H23,Results!A$8:$G$104,3,FALSE)","v":{"$error":"#N/A"}},{"$f":"VLOOKUP(H23,Results!$A$8:$G$104,2,FALSE)","v":{"$error":"#N/A"}},{"$f":"VLOOKUP(H23,Results!$A$8:$G$104,4,FALSE)","v":{"$error":"#N/A"}},{"$f":"VLOOKUP(H23,Results!$A$8:$G$104,7,FALSE)","v":{"$error":"#N/A"}},{"$f":"VLOOKUP(H23,$B$5:B23,1,FALSE)","v":{"$error":"#N/A"}}]
[null,{"$f":"Results!A27","v":858},{"$f":"Results!C27","v":"Mike"},{"$f":"Results!B27","v":"Bennett"},{"$f":"Results!D27","v":"Carnforth"},{"$f":"Results!G27","v":""},"- vs -",{"$f":"VLOOKUP(B24,Results!$A$8:$AG$104,9,)","v":0},{"$f":"VLOOKUP(H24,Results!A$8:$G$104,3,FALSE)","v":{"$error":"#N/A"}},{"$f":"VLOOKUP(H24,Results!$A$8:$G$104,2,FALSE)","v":{"$error":"#N/A"}},{"$f":"VLOOKUP(H24,Results!$A$8:$G$104,4,FALSE)","v":{"$error":"#N/A"}},{"$f":"VLOOKUP(H24,Results!$A$8:$G$104,7,FALSE)","v":{"$error":"#N/A"}},{"$f":"VLOOKUP(H24,$B$5:B24,1,FALSE)","v":{"$error":"#N/A"}}]
[null,{"$f":"Results!A28","v":1015},{"$f":"Results!C28","v":"Nik"},{"$f":"Results!B28","v":"Sharp"},{"$f":"Results!D28","v":"Warlords"},{"$f":"Results!G28","v":""},"- vs -",{"$f":"VLOOKUP(B25,Results!$A$8:$AG$104,9,)","v":0},{"$f":"VLOOKUP(H25,Results!A$8:$G$104,3,FALSE)","v":{"$error":"#N/A"}},{"$f":"VLOOKUP(H25,Results!$A$8:$G$104,2,FALSE)","v":{"$error":"#N/A"}},{"$f":"VLOOKUP(H25,Results!$A$8:$G$104,4,FALSE)","v":{"$error":"#N/A"}},{"$f":"VLOOKUP(H25,Results!$A$8:$G$104,7,FALSE)","v":{"$error":"#N/A"}},{"$f":"VLOOKUP(H25,$B$5:B25,1,FALSE)","v":{"$error":"#N/A"}}]
[null,{"$f":"Results!A29","v":1308},{"$f":"Results!C29","v":"Paul"},{"$f":"Results!B29","v":"Dawson"},{"$f":"Results!D29","v":"York"},{"$f":"Results!G29","v":""},"- vs -",{"$f":"VLOOKUP(B26,Results!$A$8:$AG$104,9,)","v":0},{"$f":"VLOOKUP(H26,Results!A$8:$G$104,3,FALSE)","v":{"$error":"#N/A"}},{"$f":"VLOOKUP(H26,Results!$A$8:$G$104,2,FALSE)","v":{"$error":"#N/A"}},{"$f":"VLOOKUP(H26,Results!$A$8:$G$104,4,FALSE)","v":{"$error":"#N/A"}},{"$f":"VLOOKUP(H26,Results!$A$8:$G$104,7,FALSE)","v":{"$error":"#N/A"}},{"$f":"VLOOKUP(H26,$B$5:B26,1,FALSE)","v":{"$error":"#N/A"}}]
[null,{"$f":"Results!A30","v":1309},{"$f":"Results!C30","v":"Paul"},{"$f":"Results!B30","v":"Johnston"},{"$f":"Results!D30","v":"York"},{"$f":"Results!G30","v":""},"- vs -",{"$f":"VLOOKUP(B27,Results!$A$8:$AG$104,9,)","v":0},{"$f":"VLOOKUP(H27,Results!A$8:$G$104,3,FALSE)","v":{"$error":"#N/A"}},{"$f":"VLOOKUP(H27,Results!$A$8:$G$104,2,FALSE)","v":{"$error":"#N/A"}},{"$f":"VLOOKUP(H27,Results!$A$8:$G$104,4,FALSE)","v":{"$error":"#N/A"}},{"$f":"VLOOKUP(H27,Results!$A$8:$G$104,7,FALSE)","v":{"$error":"#N/A"}},{"$f":"VLOOKUP(H27,$B$5:B27,1,FALSE)","v":{"$error":"#N/A"}}]
[null,{"$f":"Results!A31","v":1239},{"$f":"Results!C31","v":"Paul"},{"$f":"Results!B31","v":"Frith"},{"$f":"Results!D31","v":"Dorset Nomads"},{"$f":"Results!G31","v":""},"- vs -",{"$f":"VLOOKUP(B28,Results!$A$8:$AG$104,9,)","v":0},{"$f":"VLOOKUP(H28,Results!A$8:$G$104,3,FALSE)","v":{"$error":"#N/A"}},{"$f":"VLOOKUP(H28,Results!$A$8:$G$104,2,FALSE)","v":{"$error":"#N/A"}},{"$f":"VLOOKUP(H28,Results!$A$8:$G$104,4,FALSE)","v":{"$error":"#N/A"}},{"$f":"VLOOKUP(H28,Results!$A$8:$G$104,7,FALSE)","v":{"$error":"#N/A"}},{"$f":"VLOOKUP(H28,$B$5:B28,1,FALSE)","v":{"$error":"#N/A"}}]
[null,{"$f":"Results!A32","v":1536},{"$f":"Results!C32","v":"Pete"},{"$f":"Results!B32","v":"Sanger"},{"$f":"Results!D32","v":"Pompey"},{"$f":"Results!G32","v":""},"- vs -",{"$f":"VLOOKUP(B29,Results!$A$8:$AG$104,9,)","v":0},{"$f":"VLOOKUP(H29,Results!A$8:$G$104,3,FALSE)","v":{"$error":"#N/A"}},{"$f":"VLOOKUP(H29,Results!$A$8:$G$104,2,FALSE)","v":{"$error":"#N/A"}},{"$f":"VLOOKUP(H29,Results!$A$8:$G$104,4,FALSE)","v":{"$error":"#N/A"}},{"$f":"VLOOKUP(H29,Results!$A$8:$G$104,7,FALSE)","v":{"$error":"#N/A"}},{"$f":"VLOOKUP(H29,$B$5:B29,1,FALSE)","v":{"$error":"#N/A"}}]
[null,{"$f":"Results!A33","v":772},{"$f":"Results!C33","v":"Richard"},{"$f":"Results!B33","v":"Young"},{"$f":"Results!D33","v":"SOA"},{"$f":"Results!G33","v":""},"- vs -",{"$f":"VLOOKUP(B30,Results!$A$8:$AG$104,9,)","v":0},{"$f":"VLOOKUP(H30,Results!A$8:$G$104,3,FALSE)","v":{"$error":"#N/A"}},{"$f":"VLOOKUP(H30,Results!$A$8:$G$104,2,FALSE)","v":{"$error":"#N/A"}},{"$f":"VLOOKUP(H30,Results!$A$8:$G$104,4,FALSE)","v":{"$error":"#N/A"}},{"$f":"VLOOKUP(H30,Results!$A$8:$G$104,7,FALSE)","v":{"$error":"#N/A"}},{"$f":"VLOOKUP(H30,$B$5:B30,1,FALSE)","v":{"$error":"#N/A"}}]
[null,{"$f":"Results!A34","v":1318},{"$f":"Results!C34","v":"Rob"},{"$f":"Results!B34","v":"Taylor"},{"$f":"Results!D34","v":"Westow"},{"$f":"Results!G34","v":""},"- vs -",{"$f":"VLOOKUP(B31,Results!$A$8:$AG$104,9,)","v":0},{"$f":"VLOOKUP(H31,Results!A$8:$G$104,3,FALSE)","v":{"$error":"#N/A"}},{"$f":"VLOOKUP(H31,Results!$A$8:$G$104,2,FALSE)","v":{"$error":"#N/A"}},{"$f":"VLOOKUP(H31,Results!$A$8:$G$104,4,FALSE)","v":{"$error":"#N/A"}},{"$f":"VLOOKUP(H31,Results!$A$8:$G$104,7,FALSE)","v":{"$error":"#N/A"}},{"$f":"VLOOKUP(H31,$B$5:B31,1,FALSE)","v":{"$error":"#N/A"}}]
[null,{"$f":"Results!A35","v":1222},{"$f":"Results!C35","v":"Robert"},{"$f":"Results!B35","v":"Middlemist"},{"$f":"Results!D35","v":"Durham"},{"$f":"Results!G35","v":""},"- vs -",{"$f":"VLOOKUP(B32,Results!$A$8:$AG$104,9,)","v":0},{"$f":"VLOOKUP(H32,Results!A$8:$G$104,3,FALSE)","v":{"$error":"#N/A"}},{"$f":"VLOOKUP(H32,Results!$A$8:$G$104,2,FALSE)","v":{"$error":"#N/A"}},{"$f":"VLOOKUP(H32,Results!$A$8:$G$104,4,FALSE)","v":{"$error":"#N/A"}},{"$f":"VLOOKUP(H32,Results!$A$8:$G$104,7,FALSE)","v":{"$error":"#N/A"}},{"$f":"VLOOKUP(H32,$B$5:B32,1,FALSE)","v":{"$error":"#N/A"}}]
[null,{"$f":"Results!A36","v":1008},{"$f":"Results!C36","v":"Robin"},{"$f":"Results!B36","v":"Jackson"},{"$f":"Results!D36","v":"God Knows"},{"$f":"Results!G36","v":""},"- vs -",{"$f":"VLOOKUP(B33,Results!$A$8:$AG$104,9,)","v":0},{"$f":"VLOOKUP(H33,Results!A$8:$G$104,3,FALSE)","v":{"$error":"#N/A"}},{"$f":"VLOOKUP(H33,Results!$A$8:$G$104,2,FALSE)","v":{"$error":"#N/A"}},{"$f":"VLOOKUP(H33,Results!$A$8:$G$104,4,FALSE)","v":{"$error":"#N/A"}},{"$f":"VLOOKUP(H33,Results!$A$8:$G$104,7,FALSE)","v":{"$error":"#N/A"}},{"$f":"VLOOKUP(H33,$B$5:B33,1,FALSE)","v":{"$error":"#N/A"}}]
[null,{"$f":"Results!A37","v":1418},{"$f":"Results!C37","v":"Stephen"},{"$f":"Results!B37","v":"Nice"},{"$f":"Results!D37","v":"WAR"},{"$f":"Results!G37","v":""},"- vs -",{"$f":"VLOOKUP(B34,Results!$A$8:$AG$104,9,)","v":0},{"$f":"VLOOKUP(H34,Results!A$8:$G$104,3,FALSE)","v":{"$error":"#N/A"}},{"$f":"VLOOKUP(H34,Results!$A$8:$G$104,2,FALSE)","v":{"$error":"#N/A"}},{"$f":"VLOOKUP(H34,Results!$A$8:$G$104,4,FALSE)","v":{"$error":"#N/A"}},{"$f":"VLOOKUP(H34,Results!$A$8:$G$104,7,FALSE)","v":{"$error":"#N/A"}},{"$f":"VLOOKUP(H34,$B$5:B34,1,FALSE)","v":{"$error":"#N/A"}}]
[null,{"$f":"Results!A38","v":712},{"$f":"Results!C38","v":"Tim"},{"$f":"Results!B38","v":"Porter"},{"$f":"Results!D38","v":"CLWC"},{"$f":"Results!G38","v":"Parthian"},"- vs -",{"$f":"VLOOKUP(B35,Results!$A$8:$AG$104,9,)","v":0},{"$f":"VLOOKUP(H35,Results!A$8:$G$104,3,FALSE)","v":{"$error":"#N/A"}},{"$f":"VLOOKUP(H35,Results!$A$8:$G$104,2,FALSE)","v":{"$error":"#N/A"}},{"$f":"VLOOKUP(H35,Results!$A$8:$G$104,4,FALSE)","v":{"$error":"#N/A"}},{"$f":"VLOOKUP(H35,Results!$A$8:$G$104,7,FALSE)","v":{"$error":"#N/A"}},{"$f":"VLOOKUP(H35,$B$5:B35,1,FALSE)","v":{"$error":"#N/A"}}]
[null,{"$f":"Results!A39","v":0},{"$f":"Results!C39","v":0},{"$f":"Results!B39","v":0},{"$f":"Results!D39","v":0},{"$f":"Results!G39","v":""},"- vs -",{"$f":"VLOOKUP(B36,Results!$A$8:$AG$104,9,)","v":{"$error":"#N/A"}},{"$f":"VLOOKUP(H36,Results!A$8:$G$104,3,FALSE)","v":{"$error":"#N/A"}},{"$f":"VLOOKUP(H36,Results!$A$8:$G$104,2,FALSE)","v":{"$error":"#N/A"}},{"$f":"VLOOKUP(H36,Results!$A$8:$G$104,4,FALSE)","v":{"$error":"#N/A"}},{"$f":"VLOOKUP(H36,Results!$A$8:$G$104,7,FALSE)","v":{"$error":"#N/A"}},{"$f":"VLOOKUP(H36,$B$5:B36,1,FALSE)","v":{"$error":"#N/A"}}]
[null,{"$f":"Results!A40","v":0},{"$f":"Results!C40","v":0},{"$f":"Results!B40","v":0},{"$f":"Results!D40","v":0},{"$f":"Results!G40","v":""},"- vs -",{"$f":"VLOOKUP(B37,Results!$A$8:$AG$104,9,)","v":{"$error":"#N/A"}},{"$f":"VLOOKUP(H37,Results!A$8:$G$104,3,FALSE)","v":{"$error":"#N/A"}},{"$f":"VLOOKUP(H37,Results!$A$8:$G$104,2,FALSE)","v":{"$error":"#N/A"}},{"$f":"VLOOKUP(H37,Results!$A$8:$G$104,4,FALSE)","v":{"$error":"#N/A"}},{"$f":"VLOOKUP(H37,Results!$A$8:$G$104,7,FALSE)","v":{"$error":"#N/A"}},{"$f":"VLOOKUP(H37,$B$4:B37,1,FALSE)","v":{"$error":"#N/A"}}]
[null,{"$f":"Results!A41","v":0},{"$f":"Results!C41","v":0},{"$f":"Results!B41","v":0},{"$f":"Results!D41","v":0},{"$f":"Results!G41","v":""},"- vs -",{"$f":"VLOOKUP(B38,Results!$A$8:$AG$104,9,)","v":{"$error":"#N/A"}},{"$f":"VLOOKUP(H38,Results!A$8:$G$104,3,FALSE)","v":{"$error":"#N/A"}},{"$f":"VLOOKUP(H38,Results!$A$8:$G$104,2,FALSE)","v":{"$error":"#N/A"}},{"$f":"VLOOKUP(H38,Results!$A$8:$G$104,4,FALSE)","v":{"$error":"#N/A"}},{"$f":"VLOOKUP(H38,Results!$A$8:$G$104,7,FALSE)","v":{"$error":"#N/A"}},{"$f":"VLOOKUP(H38,$B$4:B38,1,FALSE)","v":{"$error":"#N/A"}}]
[null,{"$f":"Results!A42","v":0},{"$f":"Results!C42","v":0},{"$f":"Results!B42","v":0},{"$f":"Results!D42","v":0},{"$f":"Results!G42","v":""},"- vs -",{"$f":"VLOOKUP(B39,Results!$A$8:$AG$104,9,)","v":{"$error":"#N/A"}},{"$f":"VLOOKUP(H39,Results!A$8:$G$104,3,FALSE)","v":{"$error":"#N/A"}},{"$f":"VLOOKUP(H39,Results!$A$8:$G$104,2,FALSE)","v":{"$error":"#N/A"}},{"$f":"VLOOKUP(H39,Results!$A$8:$G$104,4,FALSE)","v":{"$error":"#N/A"}},{"$f":"VLOOKUP(H39,Results!$A$8:$G$104,7,FALSE)","v":{"$error":"#N/A"}},{"$f":"VLOOKUP(H39,$B$4:B39,1,FALSE)","v":{"$error":"#N/A"}}]
[null,{"$f":"Results!A43","v":0},{"$f":"Results!C43","v":0},{"$f":"Results!B43","v":0},{"$f":"Results!D43","v":0},{"$f":"Results!G43","v":""},"- vs -",{"$f":"VLOOKUP(B40,Results!$A$8:$AG$104,9,)","v":{"$error":"#N/A"}},{"$f":"VLOOKUP(H40,Results!A$8:$G$104,3,FALSE)","v":{"$error":"#N/A"}},{"$f":"VLOOKUP(H40,Results!$A$8:$G$104,2,FALSE)","v":{"$error":"#N/A"}},{"$f":"VLOOKUP(H40,Results!$A$8:$G$104,4,FALSE)","v":{"$error":"#N/A"}},{"$f":"VLOOKUP(H40,Results!$A$8:$G$104,7,FALSE)","v":{"$error":"#N/A"}},{"$f":"VLOOKUP(H40,$B$4:B40,1,FALSE)","v":{"$error":"#N/A"}}]
[null,{"$f":"Results!A44","v":0},{"$f":"Results!C44","v":0},{"$f":"Results!B44","v":0},{"$f":"Results!D44","v":0},{"$f":"Results!G44","v":""},"- vs -",{"$f":"VLOOKUP(B41,Results!$A$8:$AG$104,9,)","v":{"$error":"#N/A"}},{"$f":"VLOOKUP(H41,Results!A$8:$G$104,3,FALSE)","v":{"$error":"#N/A"}},{"$f":"VLOOKUP(H41,Results!$A$8:$G$104,2,FALSE)","v":{"$error":"#N/A"}},{"$f":"VLOOKUP(H41,Results!$A$8:$G$104,4,FALSE)","v":{"$error":"#N/A"}},{"$f":"VLOOKUP(H41,Results!$A$8:$G$104,7,FALSE)","v":{"$error":"#N/A"}},{"$f":"VLOOKUP(H41,$B$4:B41,1,FALSE)","v":{"$error":"#N/A"}}]
[null,{"$f":"Results!A45","v":0},{"$f":"Results!C45","v":0},{"$f":"Results!B45","v":0},{"$f":"Results!D45","v":0},{"$f":"Results!G45","v":""},"- vs -",{"$f":"VLOOKUP(B42,Results!$A$8:$AG$104,9,)","v":{"$error":"#N/A"}},{"$f":"VLOOKUP(H42,Results!A$8:$G$104,3,FALSE)","v":{"$error":"#N/A"}},{"$f":"VLOOKUP(H42,Results!$A$8:$G$104,2,FALSE)","v":{"$error":"#N/A"}},{"$f":"VLOOKUP(H42,Results!$A$8:$G$104,4,FALSE)","v":{"$error":"#N/A"}},{"$f":"VLOOKUP(H42,Results!$A$8:$G$104,7,FALSE)","v":{"$error":"#N/A"}},{"$f":"VLOOKUP(H42,$B$4:B42,1,FALSE)","v":{"$error":"#N/A"}}]
[null,{"$f":"Results!A46","v":0},{"$f":"Results!C46","v":0},{"$f":"Results!B46","v":0},{"$f":"Results!D46","v":0},{"$f":"Results!G46","v":""},"- vs -",{"$f":"VLOOKUP(B43,Results!$A$8:$AG$104,9,)","v":{"$error":"#N/A"}},{"$f":"VLOOKUP(H43,Results!A$8:$G$104,3,FALSE)","v":{"$error":"#N/A"}},{"$f":"VLOOKUP(H43,Results!$A$8:$G$104,2,FALSE)","v":{"$error":"#N/A"}},{"$f":"VLOOKUP(H43,Results!$A$8:$G$104,4,FALSE)","v":{"$error":"#N/A"}},{"$f":"VLOOKUP(H43,Results!$A$8:$G$104,7,FALSE)","v":{"$error":"#N/A"}},{"$f":"VLOOKUP(H43,$B$4:B43,1,FALSE)","v":{"$error":"#N/A"}}]
[null,{"$f":"Results!A47","v":0},{"$f":"Results!C47","v":0},{"$f":"Results!B47","v":0},{"$f":"Results!D47","v":0},{"$f":"Results!G47","v":""},"- vs -",{"$f":"VLOOKUP(B44,Results!$A$8:$AG$104,9,)","v":{"$error":"#N/A"}},{"$f":"VLOOKUP(H44,Results!A$8:$G$104,3,FALSE)","v":{"$error":"#N/A"}},{"$f":"VLOOKUP(H44,Results!$A$8:$G$104,2,FALSE)","v":{"$error":"#N/A"}},{"$f":"VLOOKUP(H44,Results!$A$8:$G$104,4,FALSE)","v":{"$error":"#N/A"}},{"$f":"VLOOKUP(H44,Results!$A$8:$G$104,7,FALSE)","v":{"$error":"#N/A"}},{"$f":"VLOOKUP(H44,$B$4:B44,1,FALSE)","v":{"$error":"#N/A"}}]
[null,{"$f":"Results!A48","v":0},{"$f":"Results!C48","v":0},{"$f":"Results!B48","v":0},{"$f":"Results!D48","v":0},{"$f":"Results!G48","v":""},"- vs -",{"$f":"VLOOKUP(B45,Results!$A$8:$AG$104,9,)","v":{"$error":"#N/A"}},{"$f":"VLOOKUP(H45,Results!A$8:$G$104,3,FALSE)","v":{"$error":"#N/A"}},{"$f":"VLOOKUP(H45,Results!$A$8:$G$104,2,FALSE)","v":{"$error":"#N/A"}},{"$f":"VLOOKUP(H45,Results!$A$8:$G$104,4,FALSE)","v":{"$error":"#N/A"}},{"$f":"VLOOKUP(H45,Results!$A$8:$G$104,7,FALSE)","v":{"$error":"#N/A"}},{"$f":"VLOOKUP(H45,$B$4:B45,1,FALSE)","v":{"$error":"#N/A"}}]
[null,{"$f":"Results!A49","v":0},{"$f":"Results!C49","v":0},{"$f":"Results!B49","v":0},{"$f":"Results!D49","v":0},{"$f":"Results!G49","v":""},"- vs -",{"$f":"VLOOKUP(B46,Results!$A$8:$AG$104,9,)","v":{"$error":"#N/A"}},{"$f":"VLOOKUP(H46,Results!A$8:$G$104,3,FALSE)","v":{"$error":"#N/A"}},{"$f":"VLOOKUP(H46,Results!$A$8:$G$104,2,FALSE)","v":{"$error":"#N/A"}},{"$f":"VLOOKUP(H46,Results!$A$8:$G$104,4,FALSE)","v":{"$error":"#N/A"}},{"$f":"VLOOKUP(H46,Results!$A$8:$G$104,7,FALSE)","v":{"$error":"#N/A"}},{"$f":"VLOOKUP(H46,$B$4:B46,1,FALSE)","v":{"$error":"#N/A"}}]
[null,{"$f":"Results!A50","v":0},{"$f":"Results!C50","v":0},{"$f":"Results!B50","v":0},{"$f":"Results!D50","v":0},{"$f":"Results!G50","v":""},"- vs -",{"$f":"VLOOKUP(B47,Results!$A$8:$AG$104,9,)","v":{"$error":"#N/A"}},{"$f":"VLOOKUP(H47,Results!A$8:$G$104,3,FALSE)","v":{"$error":"#N/A"}},{"$f":"VLOOKUP(H47,Results!$A$8:$G$104,2,FALSE)","v":{"$error":"#N/A"}},{"$f":"VLOOKUP(H47,Results!$A$8:$G$104,4,FALSE)","v":{"$error":"#N/A"}},{"$f":"VLOOKUP(H47,Results!$A$8:$G$104,7,FALSE)","v":{"$error":"#N/A"}},{"$f":"VLOOKUP(H47,$B$4:B47,1,FALSE)","v":{"$error":"#N/A"}}]
[null,{"$f":"Results!A51","v":0},{"$f":"Results!C51","v":0},{"$f":"Results!B51","v":0},{"$f":"Results!D51","v":0},{"$f":"Results!G51","v":""},"- vs -",{"$f":"VLOOKUP(B48,Results!$A$8:$AG$104,9,)","v":{"$error":"#N/A"}},{"$f":"VLOOKUP(H48,Results!A$8:$G$104,3,FALSE)","v":{"$error":"#N/A"}},{"$f":"VLOOKUP(H48,Results!$A$8:$G$104,2,FALSE)","v":{"$error":"#N/A"}},{"$f":"VLOOKUP(H48,Results!$A$8:$G$104,4,FALSE)","v":{"$error":"#N/A"}},{"$f":"VLOOKUP(H48,Results!$A$8:$G$104,7,FALSE)","v":{"$error":"#N/A"}},{"$f":"VLOOKUP(H48,$B$4:B48,1,FALSE)","v":{"$error":"#N/A"}}]
[null,{"$f":"Results!A52","v":0},{"$f":"Results!C52","v":0},{"$f":"Results!B52","v":0},{"$f":"Results!D52","v":0},{"$f":"Results!G52","v":""},"- vs -",{"$f":"VLOOKUP(B49,Results!$A$8:$AG$104,9,)","v":{"$error":"#N/A"}},{"$f":"VLOOKUP(H49,Results!A$8:$G$104,3,FALSE)","v":{"$error":"#N/A"}},{"$f":"VLOOKUP(H49,Results!$A$8:$G$104,2,FALSE)","v":{"$error":"#N/A"}},{"$f":"VLOOKUP(H49,Results!$A$8:$G$104,4,FALSE)","v":{"$error":"#N/A"}},{"$f":"VLOOKUP(H49,Results!$A$8:$G$104,7,FALSE)","v":{"$error":"#N/A"}},{"$f":"VLOOKUP(H49,$B$4:B49,1,FALSE)","v":{"$error":"#N/A"}}]
[null,{"$f":"Results!A53","v":0},{"$f":"Results!C53","v":0},{"$f":"Results!B53","v":0},{"$f":"Results!D53","v":0},{"$f":"Results!G53","v":""},"- vs -",{"$f":"VLOOKUP(B50,Results!$A$8:$AG$104,9,)","v":{"$error":"#N/A"}},{"$f":"VLOOKUP(H50,Results!A$8:$G$104,3,FALSE)","v":{"$error":"#N/A"}},{"$f":"VLOOKUP(H50,Results!$A$8:$G$104,2,FALSE)","v":{"$error":"#N/A"}},{"$f":"VLOOKUP(H50,Results!$A$8:$G$104,4,FALSE)","v":{"$error":"#N/A"}},{"$f":"VLOOKUP(H50,Results!$A$8:$G$104,7,FALSE)","v":{"$error":"#N/A"}},{"$f":"VLOOKUP(H50,$B$4:B50,1,FALSE)","v":{"$error":"#N/A"}}]
[null,{"$f":"Results!A54","v":0},{"$f":"Results!C54","v":0},{"$f":"Results!B54","v":0},{"$f":"Results!D54","v":0},{"$f":"Results!G54","v":""},"- vs -",{"$f":"VLOOKUP(B51,Results!$A$8:$AG$104,9,)","v":{"$error":"#N/A"}},{"$f":"VLOOKUP(H51,Results!A$8:$G$104,3,FALSE)","v":{"$error":"#N/A"}},{"$f":"VLOOKUP(H51,Results!$A$8:$G$104,2,FALSE)","v":{"$error":"#N/A"}},{"$f":"VLOOKUP(H51,Results!$A$8:$G$104,4,FALSE)","v":{"$error":"#N/A"}},{"$f":"VLOOKUP(H51,Results!$A$8:$G$104,7,FALSE)","v":{"$error":"#N/A"}},{"$f":"VLOOKUP(H51,$B$4:B51,1,FALSE)","v":{"$error":"#N/A"}}]
[null,{"$f":"Results!A55","v":0},{"$f":"Results!C55","v":0},{"$f":"Results!B55","v":0},{"$f":"Results!D55","v":0},{"$f":"Results!G55","v":""},"- vs -",{"$f":"VLOOKUP(B52,Results!$A$8:$AG$104,9,)","v":{"$error":"#N/A"}},{"$f":"VLOOKUP(H52,Results!A$8:$G$104,3,FALSE)","v":{"$error":"#N/A"}},{"$f":"VLOOKUP(H52,Results!$A$8:$G$104,2,FALSE)","v":{"$error":"#N/A"}},{"$f":"VLOOKUP(H52,Results!$A$8:$G$104,4,FALSE)","v":{"$error":"#N/A"}},{"$f":"VLOOKUP(H52,Results!$A$8:$G$104,7,FALSE)","v":{"$error":"#N/A"}},{"$f":"VLOOKUP(H52,$B$4:B52,1,FALSE)","v":{"$error":"#N/A"}}]
[null,{"$f":"Results!A56","v":0},{"$f":"Results!C56","v":0},{"$f":"Results!B56","v":0},{"$f":"Results!D56","v":0},{"$f":"Results!G56","v":""},"- vs -",{"$f":"VLOOKUP(B53,Results!$A$8:$AG$104,9,)","v":{"$error":"#N/A"}},{"$f":"VLOOKUP(H53,Results!A$8:$G$104,3,FALSE)","v":{"$error":"#N/A"}},{"$f":"VLOOKUP(H53,Results!$A$8:$G$104,2,FALSE)","v":{"$error":"#N/A"}},{"$f":"VLOOKUP(H53,Results!$A$8:$G$104,4,FALSE)","v":{"$error":"#N/A"}},{"$f":"VLOOKUP(H53,Results!$A$8:$G$104,7,FALSE)","v":{"$error":"#N/A"}},{"$f":"VLOOKUP(H53,$B$4:B53,1,FALSE)","v":{"$error":"#N/A"}}]
[null,{"$f":"Results!A57","v":0},{"$f":"Results!C57","v":0},{"$f":"Results!B57","v":0},{"$f":"Results!D57","v":0},{"$f":"Results!G57","v":""},"- vs -",{"$f":"VLOOKUP(B54,Results!$A$8:$AG$104,9,)","v":{"$error":"#N/A"}},{"$f":"VLOOKUP(H54,Results!A$8:$G$104,3,FALSE)","v":{"$error":"#N/A"}},{"$f":"VLOOKUP(H54,Results!$A$8:$G$104,2,FALSE)","v":{"$error":"#N/A"}},{"$f":"VLOOKUP(H54,Results!$A$8:$G$104,4,FALSE)","v":{"$error":"#N/A"}},{"$f":"VLOOKUP(H54,Results!$A$8:$G$104,7,FALSE)","v":{"$error":"#N/A"}},{"$f":"VLOOKUP(H54,$B$4:B54,1,FALSE)","v":{"$error":"#N/A"}}]
[null,{"$f":"Results!A58","v":0},{"$f":"Results!C58","v":0},{"$f":"Results!B58","v":0},{"$f":"Results!D58","v":0},{"$f":"Results!G58","v":""},"- vs -",{"$f":"VLOOKUP(B55,Results!$A$8:$AG$104,9,)","v":{"$error":"#N/A"}},{"$f":"VLOOKUP(H55,Results!A$8:$G$104,3,FALSE)","v":{"$error":"#N/A"}},{"$f":"VLOOKUP(H55,Results!$A$8:$G$104,2,FALSE)","v":{"$error":"#N/A"}},{"$f":"VLOOKUP(H55,Results!$A$8:$G$104,4,FALSE)","v":{"$error":"#N/A"}},{"$f":"VLOOKUP(H55,Results!$A$8:$G$104,7,FALSE)","v":{"$error":"#N/A"}},{"$f":"VLOOKUP(H55,$B$4:B55,1,FALSE)","v":{"$error":"#N/A"}}]
[null,{"$f":"Results!A59","v":0},{"$f":"Results!C59","v":0},{"$f":"Results!B59","v":0},{"$f":"Results!D59","v":0},{"$f":"Results!G59","v":""},"- vs -",{"$f":"VLOOKUP(B56,Results!$A$8:$AG$104,9,)","v":{"$error":"#N/A"}},{"$f":"VLOOKUP(H56,Results!A$8:$G$104,3,FALSE)","v":{"$error":"#N/A"}},{"$f":"VLOOKUP(H56,Results!$A$8:$G$104,2,FALSE)","v":{"$error":"#N/A"}},{"$f":"VLOOKUP(H56,Results!$A$8:$G$104,4,FALSE)","v":{"$error":"#N/A"}},{"$f":"VLOOKUP(H56,Results!$A$8:$G$104,7,FALSE)","v":{"$error":"#N/A"}},{"$f":"VLOOKUP(H56,$B$4:B56,1,FALSE)","v":{"$error":"#N/A"}}]
[null,{"$f":"Results!A60","v":0},{"$f":"Results!C60","v":0},{"$f":"Results!B60","v":0},{"$f":"Results!D60","v":0},{"$f":"Results!G60","v":""},"- vs -",{"$f":"VLOOKUP(B57,Results!$A$8:$AG$104,9,)","v":{"$error":"#N/A"}},{"$f":"VLOOKUP(H57,Results!A$8:$G$104,3,FALSE)","v":{"$error":"#N/A"}},{"$f":"VLOOKUP(H57,Results!$A$8:$G$104,2,FALSE)","v":{"$error":"#N/A"}},{"$f":"VLOOKUP(H57,Results!$A$8:$G$104,4,FALSE)","v":{"$error":"#N/A"}},{"$f":"VLOOKUP(H57,Results!$A$8:$G$104,7,FALSE)","v":{"$error":"#N/A"}},{"$f":"VLOOKUP(H57,$B$4:B57,1,FALSE)","v":{"$error":"#N/A"}}]
[null,{"$f":"Results!A61","v":0},{"$f":"Results!C61","v":0},{"$f":"Results!B61","v":0},{"$f":"Results!D61","v":0},{"$f":"Results!G61","v":""},"- vs -",{"$f":"VLOOKUP(B58,Results!$A$8:$AG$104,9,)","v":{"$error":"#N/A"}},{"$f":"VLOOKUP(H58,Results!A$8:$G$104,3,FALSE)","v":{"$error":"#N/A"}},{"$f":"VLOOKUP(H58,Results!$A$8:$G$104,2,FALSE)","v":{"$error":"#N/A"}},{"$f":"VLOOKUP(H58,Results!$A$8:$G$104,4,FALSE)","v":{"$error":"#N/A"}},{"$f":"VLOOKUP(H58,Results!$A$8:$G$104,7,FALSE)","v":{"$error":"#N/A"}},{"$f":"VLOOKUP(H58,$B$4:B58,1,FALSE)","v":{"$error":"#N/A"}}]
[null,{"$f":"Results!A62","v":0},{"$f":"Results!C62","v":0},{"$f":"Results!B62","v":0},{"$f":"Results!D62","v":0},{"$f":"Results!G62","v":""},"- vs -",{"$f":"VLOOKUP(B59,Results!$A$8:$AG$104,9,)","v":{"$error":"#N/A"}},{"$f":"VLOOKUP(H59,Results!A$8:$G$104,3,FALSE)","v":{"$error":"#N/A"}},{"$f":"VLOOKUP(H59,Results!$A$8:$G$104,2,FALSE)","v":{"$error":"#N/A"}},{"$f":"VLOOKUP(H59,Results!$A$8:$G$104,4,FALSE)","v":{"$error":"#N/A"}},{"$f":"VLOOKUP(H59,Results!$A$8:$G$104,7,FALSE)","v":{"$error":"#N/A"}},{"$f":"VLOOKUP(H59,$B$4:B59,1,FALSE)","v":{"$error":"#N/A"}}]
[null,{"$f":"Results!A63","v":0},{"$f":"Results!C63","v":0},{"$f":"Results!B63","v":0},{"$f":"Results!D63","v":0},{"$f":"Results!G63","v":""},"- vs -",{"$f":"VLOOKUP(B60,Results!$A$8:$AG$104,9,)","v":{"$error":"#N/A"}},{"$f":"VLOOKUP(H60,Results!A$8:$G$104,3,FALSE)","v":{"$error":"#N/A"}},{"$f":"VLOOKUP(H60,Results!$A$8:$G$104,2,FALSE)","v":{"$error":"#N/A"}},{"$f":"VLOOKUP(H60,Results!$A$8:$G$104,4,FALSE)","v":{"$error":"#N/A"}},{"$f":"VLOOKUP(H60,Results!$A$8:$G$104,7,FALSE)","v":{"$error":"#N/A"}},{"$f":"VLOOKUP(H60,$B$4:B60,1,FALSE)","v":{"$error":"#N/A"}}]
[null,{"$f":"Results!A64","v":0},{"$f":"Results!C64","v":0},{"$f":"Results!B64","v":0},{"$f":"Results!D64","v":0},{"$f":"Results!G64","v":""},"- vs -",{"$f":"VLOOKUP(B61,Results!$A$8:$AG$104,9,)","v":{"$error":"#N/A"}},{"$f":"VLOOKUP(H61,Results!A$8:$G$104,3,FALSE)","v":{"$error":"#N/A"}},{"$f":"VLOOKUP(H61,Results!$A$8:$G$104,2,FALSE)","v":{"$error":"#N/A"}},{"$f":"VLOOKUP(H61,Results!$A$8:$G$104,4,FALSE)","v":{"$error":"#N/A"}},{"$f":"VLOOKUP(H61,Results!$A$8:$G$104,7,FALSE)","v":{"$error":"#N/A"}},{"$f":"VLOOKUP(H61,$B$4:B61,1,FALSE)","v":{"$error":"#N/A"}}]
[null,{"$f":"Results!A65","v":0},{"$f":"Results!C65","v":0},{"$f":"Results!B65","v":0},{"$f":"Results!D65","v":0},{"$f":"Results!G65","v":""},"- vs -",{"$f":"VLOOKUP(B62,Results!$A$8:$AG$104,9,)","v":{"$error":"#N/A"}},{"$f":"VLOOKUP(H62,Results!A$8:$G$104,3,FALSE)","v":{"$error":"#N/A"}},{"$f":"VLOOKUP(H62,Results!$A$8:$G$104,2,FALSE)","v":{"$error":"#N/A"}},{"$f":"VLOOKUP(H62,Results!$A$8:$G$104,4,FALSE)","v":{"$error":"#N/A"}},{"$f":"VLOOKUP(H62,Results!$A$8:$G$104,7,FALSE)","v":{"$error":"#N/A"}},{"$f":"VLOOKUP(H62,$B$4:B62,1,FALSE)","v":{"$error":"#N/A"}}]
[null,{"$f":"Results!A66","v":0},{"$f":"Results!C66","v":0},{"$f":"Results!B66","v":0},{"$f":"Results!D66","v":0},{"$f":"Results!G66","v":""},"- vs -",{"$f":"VLOOKUP(B63,Results!$A$8:$AG$104,9,)","v":{"$error":"#N/A"}},{"$f":"VLOOKUP(H63,Results!A$8:$G$104,3,FALSE)","v":{"$error":"#N/A"}},{"$f":"VLOOKUP(H63,Results!$A$8:$G$104,2,FALSE)","v":{"$error":"#N/A"}},{"$f":"VLOOKUP(H63,Results!$A$8:$G$104,4,FALSE)","v":{"$error":"#N/A"}},{"$f":"VLOOKUP(H63,Results!$A$8:$G$104,7,FALSE)","v":{"$error":"#N/A"}},{"$f":"VLOOKUP(H63,$B$4:B63,1,FALSE)","v":{"$error":"#N/A"}}]
[null,{"$f":"Results!A67","v":0},{"$f":"Results!C67","v":0},{"$f":"Results!B67","v":0},{"$f":"Results!D67","v":0},{"$f":"Results!G67","v":""},"- vs -",{"$f":"VLOOKUP(B64,Results!$A$8:$AG$104,9,)","v":{"$error":"#N/A"}},{"$f":"VLOOKUP(H64,Results!A$8:$G$104,3,FALSE)","v":{"$error":"#N/A"}},{"$f":"VLOOKUP(H64,Results!$A$8:$G$104,2,FALSE)","v":{"$error":"#N/A"}},{"$f":"VLOOKUP(H64,Results!$A$8:$G$104,4,FALSE)","v":{"$error":"#N/A"}},{"$f":"VLOOKUP(H64,Results!$A$8:$G$104,7,FALSE)","v":{"$error":"#N/A"}},{"$f":"VLOOKUP(H64,$B$4:B64,1,FALSE)","v":{"$error":"#N/A"}}]
[null,{"$f":"Results!A68","v":0},{"$f":"Results!C68","v":0},{"$f":"Results!B68","v":0},{"$f":"Results!D68","v":0},{"$f":"Results!G68","v":""},"- vs -",{"$f":"VLOOKUP(B65,Results!$A$8:$AG$104,9,)","v":{"$error":"#N/A"}},{"$f":"VLOOKUP(H65,Results!A$8:$G$104,3,FALSE)","v":{"$error":"#N/A"}},{"$f":"VLOOKUP(H65,Results!$A$8:$G$104,2,FALSE)","v":{"$error":"#N/A"}},{"$f":"VLOOKUP(H65,Results!$A$8:$G$104,4,FALSE)","v":{"$error":"#N/A"}},{"$f":"VLOOKUP(H65,Results!$A$8:$G$104,7,FALSE)","v":{"$error":"#N/A"}},{"$f":"VLOOKUP(H65,$B$4:B65,1,FALSE)","v":{"$error":"#N/A"}}]
[null,{"$f":"Results!A69","v":0},{"$f":"Results!C69","v":0},{"$f":"Results!B69","v":0},{"$f":"Results!D69","v":0},{"$f":"Results!G69","v":""},"- vs -",{"$f":"VLOOKUP(B66,Results!$A$8:$AG$104,9,)","v":{"$error":"#N/A"}},{"$f":"VLOOKUP(H66,Results!A$8:$G$104,3,FALSE)","v":{"$error":"#N/A"}},{"$f":"VLOOKUP(H66,Results!$A$8:$G$104,2,FALSE)","v":{"$error":"#N/A"}},{"$f":"VLOOKUP(H66,Results!$A$8:$G$104,4,FALSE)","v":{"$error":"#N/A"}},{"$f":"VLOOKUP(H66,Results!$A$8:$G$104,7,FALSE)","v":{"$error":"#N/A"}},{"$f":"VLOOKUP(H66,$B$4:B66,1,FALSE)","v":{"$error":"#N/A"}}]
[null,{"$f":"Results!A70","v":0},{"$f":"Results!C70","v":0},{"$f":"Results!B70","v":0},{"$f":"Results!D70","v":0},{"$f":"Results!G70","v":""},"- vs -",{"$f":"VLOOKUP(B67,Results!$A$8:$AG$104,9,)","v":{"$error":"#N/A"}},{"$f":"VLOOKUP(H67,Results!A$8:$G$104,3,FALSE)","v":{"$error":"#N/A"}},{"$f":"VLOOKUP(H67,Results!$A$8:$G$104,2,FALSE)","v":{"$error":"#N/A"}},{"$f":"VLOOKUP(H67,Results!$A$8:$G$104,4,FALSE)","v":{"$error":"#N/A"}},{"$f":"VLOOKUP(H67,Results!$A$8:$G$104,7,FALSE)","v":{"$error":"#N/A"}},{"$f":"VLOOKUP(H67,$B$4:B67,1,FALSE)","v":{"$error":"#N/A"}}]
[null,{"$f":"Results!A71","v":0},{"$f":"Results!C71","v":0},{"$f":"Results!B71","v":0},{"$f":"Results!D71","v":0},{"$f":"Results!G71","v":""},"- vs -",{"$f":"VLOOKUP(B68,Results!$A$8:$AG$104,9,)","v":{"$error":"#N/A"}},{"$f":"VLOOKUP(H68,Results!A$8:$G$104,3,FALSE)","v":{"$error":"#N/A"}},{"$f":"VLOOKUP(H68,Results!$A$8:$G$104,2,FALSE)","v":{"$error":"#N/A"}},{"$f":"VLOOKUP(H68,Results!$A$8:$G$104,4,FALSE)","v":{"$error":"#N/A"}},{"$f":"VLOOKUP(H68,Results!$A$8:$G$104,7,FALSE)","v":{"$error":"#N/A"}},{"$f":"VLOOKUP(H68,$B$4:B68,1,FALSE)","v":{"$error":"#N/A"}}]
[null,{"$f":"Results!A72","v":0},{"$f":"Results!C72","v":0},{"$f":"Results!B72","v":0},{"$f":"Results!D72","v":0},{"$f":"Results!G72","v":""},"- vs -",{"$f":"VLOOKUP(B69,Results!$A$8:$AG$104,9,)","v":{"$error":"#N/A"}},{"$f":"VLOOKUP(H69,Results!A$8:$G$104,3,FALSE)","v":{"$error":"#N/A"}},{"$f":"VLOOKUP(H69,Results!$A$8:$G$104,2,FALSE)","v":{"$error":"#N/A"}},{"$f":"VLOOKUP(H69,Results!$A$8:$G$104,4,FALSE)","v":{"$error":"#N/A"}},{"$f":"VLOOKUP(H69,Results!$A$8:$G$104,7,FALSE)","v":{"$error":"#N/A"}},{"$f":"VLOOKUP(H69,$B$4:B69,1,FALSE)","v":{"$error":"#N/A"}}]
[null,{"$f":"Results!A77","v":0},{"$f":"Results!C77","v":0},{"$f":"Results!B77","v":0},{"$f":"Results!D77","v":0},{"$f":"Results!G77","v":""},"- vs -",{"$f":"VLOOKUP(B70,Results!$A$8:$AG$104,9,)","v":{"$error":"#N/A"}},{"$f":"VLOOKUP(H70,Results!A$8:$G$104,3,FALSE)","v":{"$error":"#N/A"}},{"$f":"VLOOKUP(H70,Results!$A$8:$G$104,2,FALSE)","v":{"$error":"#N/A"}},{"$f":"VLOOKUP(H70,Results!$A$8:$G$104,4,FALSE)","v":{"$error":"#N/A"}},{"$f":"VLOOKUP(H70,Results!$A$8:$G$104,7,FALSE)","v":{"$error":"#N/A"}}]
[null,{"$f":"Results!A78","v":0},{"$f":"Results!C78","v":0},{"$f":"Results!B78","v":0},{"$f":"Results!D78","v":0},{"$f":"Results!G78","v":""},"- vs -",{"$f":"VLOOKUP(B71,Results!$A$8:$AG$104,9,)","v":{"$error":"#N/A"}},{"$f":"VLOOKUP(H71,Results!A$8:$G$104,3,FALSE)","v":{"$error":"#N/A"}},{"$f":"VLOOKUP(H71,Results!$A$8:$G$104,2,FALSE)","v":{"$error":"#N/A"}},{"$f":"VLOOKUP(H71,Results!$A$8:$G$104,4,FALSE)","v":{"$error":"#N/A"}},{"$f":"VLOOKUP(H71,Results!$A$8:$G$104,7,FALSE)","v":{"$error":"#N/A"}}]
[null,{"$f":"Results!A79","v":0},{"$f":"Results!C79","v":0},{"$f":"Results!B79","v":0},{"$f":"Results!D79","v":0},{"$f":"Results!G79","v":""},"- vs -",{"$f":"VLOOKUP(B72,Results!$A$8:$AG$104,9,)","v":{"$error":"#N/A"}},{"$f":"VLOOKUP(H72,Results!A$8:$G$104,3,FALSE)","v":{"$error":"#N/A"}},{"$f":"VLOOKUP(H72,Results!$A$8:$G$104,2,FALSE)","v":{"$error":"#N/A"}},{"$f":"VLOOKUP(H72,Results!$A$8:$G$104,4,FALSE)","v":{"$error":"#N/A"}},{"$f":"VLOOKUP(H72,Results!$A$8:$G$104,7,FALSE)","v":{"$error":"#N/A"}}]
[null,{"$f":"Results!A80","v":0},{"$f":"Results!C80","v":0},{"$f":"Results!B80","v":0},{"$f":"Results!D80","v":0},{"$f":"Results!G80","v":""},"- vs -",{"$f":"VLOOKUP(B73,Results!$A$8:$AG$104,9,)","v":{"$error":"#N/A"}},{"$f":"VLOOKUP(H73,Results!A$8:$G$104,3,FALSE)","v":{"$error":"#N/A"}},{"$f":"VLOOKUP(H73,Results!$A$8:$G$104,2,FALSE)","v":{"$error":"#N/A"}},{"$f":"VLOOKUP(H73,Results!$A$8:$G$104,4,FALSE)","v":{"$error":"#N/A"}},{"$f":"VLOOKUP(H73,Results!$A$8:$G$104,7,FALSE)","v":{"$error":"#N/A"}}]
[null,{"$f":"Results!A81","v":0},{"$f":"Results!C81","v":0},{"$f":"Results!B81","v":0},{"$f":"Results!D81","v":0},{"$f":"Results!G81","v":""},"- vs -",{"$f":"VLOOKUP(B74,Results!$A$8:$AG$104,9,)","v":{"$error":"#N/A"}},{"$f":"VLOOKUP(H74,Results!A$8:$G$104,3,FALSE)","v":{"$error":"#N/A"}},{"$f":"VLOOKUP(H74,Results!$A$8:$G$104,2,FALSE)","v":{"$error":"#N/A"}},{"$f":"VLOOKUP(H74,Results!$A$8:$G$104,4,FALSE)","v":{"$error":"#N/A"}},{"$f":"VLOOKUP(H74,Results!$A$8:$G$104,7,FALSE)","v":{"$error":"#N/A"}}]
[null,{"$f":"Results!A82","v":0},{"$f":"Results!C82","v":0},{"$f":"Results!B82","v":0},{"$f":"Results!D82","v":0},{"$f":"Results!G82","v":""},"- vs -",{"$f":"VLOOKUP(B75,Results!$A$8:$AG$104,9,)","v":{"$error":"#N/A"}},{"$f":"VLOOKUP(H75,Results!A$8:$G$104,3,FALSE)","v":{"$error":"#N/A"}},{"$f":"VLOOKUP(H75,Results!$A$8:$G$104,2,FALSE)","v":{"$error":"#N/A"}},{"$f":"VLOOKUP(H75,Results!$A$8:$G$104,4,FALSE)","v":{"$error":"#N/A"}},{"$f":"VLOOKUP(H75,Results!$A$8:$G$104,7,FALSE)","v":{"$error":"#N/A"}}]
[null,{"$f":"Results!A83","v":0},{"$f":"Results!C83","v":0},{"$f":"Results!B83","v":0},{"$f":"Results!D83","v":0},{"$f":"Results!G83","v":""},"- vs -",{"$f":"VLOOKUP(B76,Results!$A$8:$AG$104,9,)","v":{"$error":"#N/A"}},{"$f":"VLOOKUP(H76,Results!A$8:$G$104,3,FALSE)","v":{"$error":"#N/A"}},{"$f":"VLOOKUP(H76,Results!$A$8:$G$104,2,FALSE)","v":{"$error":"#N/A"}},{"$f":"VLOOKUP(H76,Results!$A$8:$G$104,4,FALSE)","v":{"$error":"#N/A"}},{"$f":"VLOOKUP(H76,Results!$A$8:$G$104,7,FALSE)","v":{"$error":"#N/A"}}]
[null,{"$f":"Results!A84","v":0},{"$f":"Results!C84","v":0},{"$f":"Results!B84","v":0},{"$f":"Results!D84","v":0},{"$f":"Results!G84","v":""},"- vs -",{"$f":"VLOOKUP(B77,Results!$A$8:$AG$104,9,)","v":{"$error":"#N/A"}},{"$f":"VLOOKUP(H77,Results!A$8:$G$104,3,FALSE)","v":{"$error":"#N/A"}},{"$f":"VLOOKUP(H77,Results!$A$8:$G$104,2,FALSE)","v":{"$error":"#N/A"}},{"$f":"VLOOKUP(H77,Results!$A$8:$G$104,4,FALSE)","v":{"$error":"#N/A"}},{"$f":"VLOOKUP(H77,Results!$A$8:$G$104,7,FALSE)","v":{"$error":"#N/A"}}]
[null,{"$f":"Results!A85","v":0},{"$f":"Results!C85","v":0},{"$f":"Results!B85","v":0},{"$f":"Results!D85","v":0},{"$f":"Results!G85","v":""},"- vs -",{"$f":"VLOOKUP(B78,Results!$A$8:$AG$104,9,)","v":{"$error":"#N/A"}},{"$f":"VLOOKUP(H78,Results!A$8:$G$104,3,FALSE)","v":{"$error":"#N/A"}},{"$f":"VLOOKUP(H78,Results!$A$8:$G$104,2,FALSE)","v":{"$error":"#N/A"}},{"$f":"VLOOKUP(H78,Results!$A$8:$G$104,4,FALSE)","v":{"$error":"#N/A"}},{"$f":"VLOOKUP(H78,Results!$A$8:$G$104,7,FALSE)","v":{"$error":"#N/A"}}]
[null,{"$f":"Results!A86","v":0},{"$f":"Results!C86","v":0},{"$f":"Results!B86","v":0},{"$f":"Results!D86","v":0},{"$f":"Results!G86","v":""},"- vs -",{"$f":"VLOOKUP(B79,Results!$A$8:$AG$104,9,)","v":{"$error":"#N/A"}},{"$f":"VLOOKUP(H79,Results!A$8:$G$104,3,FALSE)","v":{"$error":"#N/A"}},{"$f":"VLOOKUP(H79,Results!$A$8:$G$104,2,FALSE)","v":{"$error":"#N/A"}},{"$f":"VLOOKUP(H79,Results!$A$8:$G$104,4,FALSE)","v":{"$error":"#N/A"}},{"$f":"VLOOKUP(H79,Results!$A$8:$G$104,7,FALSE)","v":{"$error":"#N/A"}}]
[null,{"$f":"Results!A87","v":0},{"$f":"Results!C87","v":0},{"$f":"Results!B87","v":0},{"$f":"Results!D87","v":0},{"$f":"Results!G87","v":""},"- vs -",{"$f":"VLOOKUP(B80,Results!$A$8:$AG$104,9,)","v":{"$error":"#N/A"}},{"$f":"VLOOKUP(H80,Results!A$8:$G$104,3,FALSE)","v":{"$error":"#N/A"}},{"$f":"VLOOKUP(H80,Results!$A$8:$G$104,2,FALSE)","v":{"$error":"#N/A"}},{"$f":"VLOOKUP(H80,Results!$A$8:$G$104,4,FALSE)","v":{"$error":"#N/A"}},{"$f":"VLOOKUP(H80,Results!$A$8:$G$104,7,FALSE)","v":{"$error":"#N/A"}}]
[null,{"$f":"Results!A88","v":0},{"$f":"Results!C88","v":0},{"$f":"Results!B88","v":0},{"$f":"Results!D88","v":0},{"$f":"Results!G88","v":""},"- vs -",{"$f":"VLOOKUP(B81,Results!$A$8:$AG$104,9,)","v":{"$error":"#N/A"}},{"$f":"VLOOKUP(H81,Results!A$8:$G$104,3,FALSE)","v":{"$error":"#N/A"}},{"$f":"VLOOKUP(H81,Results!$A$8:$G$104,2,FALSE)","v":{"$error":"#N/A"}},{"$f":"VLOOKUP(H81,Results!$A$8:$G$104,4,FALSE)","v":{"$error":"#N/A"}},{"$f":"VLOOKUP(H81,Results!$A$8:$G$104,7,FALSE)","v":{"$error":"#N/A"}}]
[null,{"$f":"Results!A89","v":0},{"$f":"Results!C89","v":0},{"$f":"Results!B89","v":0},{"$f":"Results!D89","v":0},{"$f":"Results!G89","v":""},"- vs -",{"$f":"VLOOKUP(B82,Results!$A$8:$AG$104,9,)","v":{"$error":"#N/A"}},{"$f":"VLOOKUP(H82,Results!A$8:$G$104,3,FALSE)","v":{"$error":"#N/A"}},{"$f":"VLOOKUP(H82,Results!$A$8:$G$104,2,FALSE)","v":{"$error":"#N/A"}},{"$f":"VLOOKUP(H82,Results!$A$8:$G$104,4,FALSE)","v":{"$error":"#N/A"}},{"$f":"VLOOKUP(H82,Results!$A$8:$G$104,7,FALSE)","v":{"$error":"#N/A"}}]
[null,{"$f":"Results!A90","v":0},{"$f":"Results!C90","v":0},{"$f":"Results!B90","v":0},{"$f":"Results!D90","v":0},{"$f":"Results!G90","v":""},"- vs -",{"$f":"VLOOKUP(B83,Results!$A$8:$AG$104,9,)","v":{"$error":"#N/A"}},{"$f":"VLOOKUP(H83,Results!A$8:$G$104,3,FALSE)","v":{"$error":"#N/A"}},{"$f":"VLOOKUP(H83,Results!$A$8:$G$104,2,FALSE)","v":{"$error":"#N/A"}},{"$f":"VLOOKUP(H83,Results!$A$8:$G$104,4,FALSE)","v":{"$error":"#N/A"}},{"$f":"VLOOKUP(H83,Results!$A$8:$G$104,7,FALSE)","v":{"$error":"#N/A"}}]
[null,{"$f":"Results!A91","v":0},{"$f":"Results!C91","v":0},{"$f":"Results!B91","v":0},{"$f":"Results!D91","v":0},{"$f":"Results!G91","v":""},"- vs -",{"$f":"VLOOKUP(B84,Results!$A$8:$AG$104,9,)","v":{"$error":"#N/A"}},{"$f":"VLOOKUP(H84,Results!A$8:$G$104,3,FALSE)","v":{"$error":"#N/A"}},{"$f":"VLOOKUP(H84,Results!$A$8:$G$104,2,FALSE)","v":{"$error":"#N/A"}},{"$f":"VLOOKUP(H84,Results!$A$8:$G$104,4,FALSE)","v":{"$error":"#N/A"}},{"$f":"VLOOKUP(H84,Results!$A$8:$G$104,7,FALSE)","v":{"$error":"#N/A"}}]
[null,{"$f":"Results!A92","v":0},{"$f":"Results!C92","v":0},{"$f":"Results!B92","v":0},{"$f":"Results!D92","v":0},{"$f":"Results!G92","v":""},"- vs -",{"$f":"VLOOKUP(B85,Results!$A$8:$AG$104,9,)","v":{"$error":"#N/A"}},{"$f":"VLOOKUP(H85,Results!A$8:$G$104,3,FALSE)","v":{"$error":"#N/A"}},{"$f":"VLOOKUP(H85,Results!$A$8:$G$104,2,FALSE)","v":{"$error":"#N/A"}},{"$f":"VLOOKUP(H85,Results!$A$8:$G$104,4,FALSE)","v":{"$error":"#N/A"}},{"$f":"VLOOKUP(H85,Results!$A$8:$G$104,7,FALSE)","v":{"$error":"#N/A"}}]
[null,{"$f":"Results!A93","v":0},{"$f":"Results!C93","v":0},{"$f":"Results!B93","v":0},{"$f":"Results!D93","v":0},{"$f":"Results!G93","v":""},"- vs -",{"$f":"VLOOKUP(B86,Results!$A$8:$AG$104,9,)","v":{"$error":"#N/A"}},{"$f":"VLOOKUP(H86,Results!A$8:$G$104,3,FALSE)","v":{"$error":"#N/A"}},{"$f":"VLOOKUP(H86,Results!$A$8:$G$104,2,FALSE)","v":{"$error":"#N/A"}},{"$f":"VLOOKUP(H86,Results!$A$8:$G$104,4,FALSE)","v":{"$error":"#N/A"}},{"$f":"VLOOKUP(H86,Results!$A$8:$G$104,7,FALSE)","v":{"$error":"#N/A"}}]
[null,{"$f":"Results!A94","v":0},{"$f":"Results!C94","v":0},{"$f":"Results!B94","v":0},{"$f":"Results!D94","v":0},{"$f":"Results!G94","v":""},"- vs -",{"$f":"VLOOKUP(B87,Results!$A$8:$AG$104,9,)","v":{"$error":"#N/A"}},{"$f":"VLOOKUP(H87,Results!A$8:$G$104,3,FALSE)","v":{"$error":"#N/A"}},{"$f":"VLOOKUP(H87,Results!$A$8:$G$104,2,FALSE)","v":{"$error":"#N/A"}},{"$f":"VLOOKUP(H87,Results!$A$8:$G$104,4,FALSE)","v":{"$error":"#N/A"}},{"$f":"VLOOKUP(H87,Results!$A$8:$G$104,7,FALSE)","v":{"$error":"#N/A"}}]
[null,{"$f":"Results!A95","v":0},{"$f":"Results!C95","v":0},{"$f":"Results!B95","v":0},{"$f":"Results!D95","v":0},{"$f":"Results!G95","v":""},"- vs -",{"$f":"VLOOKUP(B88,Results!$A$8:$AG$104,9,)","v":{"$error":"#N/A"}},{"$f":"VLOOKUP(H88,Results!A$8:$G$104,3,FALSE)","v":{"$error":"#N/A"}},{"$f":"VLOOKUP(H88,Results!$A$8:$G$104,2,FALSE)","v":{"$error":"#N/A"}},{"$f":"VLOOKUP(H88,Results!$A$8:$G$104,4,FALSE)","v":{"$error":"#N/A"}},{"$f":"VLOOKUP(H88,Results!$A$8:$G$104,7,FALSE)","v":{"$error":"#N/A"}}]
[null,{"$f":"Results!A96","v":0},{"$f":"Results!C96","v":0},{"$f":"Results!B96","v":0},{"$f":"Results!D96","v":0},{"$f":"Results!G96","v":""},"- vs -",{"$f":"VLOOKUP(B89,Results!$A$8:$AG$104,9,)","v":{"$error":"#N/A"}},{"$f":"VLOOKUP(H89,Results!A$8:$G$104,3,FALSE)","v":{"$error":"#N/A"}},{"$f":"VLOOKUP(H89,Results!$A$8:$G$104,2,FALSE)","v":{"$error":"#N/A"}},{"$f":"VLOOKUP(H89,Results!$A$8:$G$104,4,FALSE)","v":{"$error":"#N/A"}},{"$f":"VLOOKUP(H89,Results!$A$8:$G$104,7,FALSE)","v":{"$error":"#N/A"}}]
[null,{"$f":"Results!A97","v":0},{"$f":"Results!C97","v":0},{"$f":"Results!B97","v":0},{"$f":"Results!D97","v":0},{"$f":"Results!G97","v":""},"- vs -",{"$f":"VLOOKUP(B90,Results!$A$8:$AG$104,9,)","v":{"$error":"#N/A"}},{"$f":"VLOOKUP(H90,Results!A$8:$G$104,3,FALSE)","v":{"$error":"#N/A"}},{"$f":"VLOOKUP(H90,Results!$A$8:$G$104,2,FALSE)","v":{"$error":"#N/A"}},{"$f":"VLOOKUP(H90,Results!$A$8:$G$104,4,FALSE)","v":{"$error":"#N/A"}},{"$f":"VLOOKUP(H90,Results!$A$8:$G$104,7,FALSE)","v":{"$error":"#N/A"}}]
[null,{"$f":"Results!A98","v":0},{"$f":"Results!C98","v":0},{"$f":"Results!B98","v":0},{"$f":"Results!D98","v":0},{"$f":"Results!G98","v":""},"- vs -",{"$f":"VLOOKUP(B91,Results!$A$8:$AG$104,9,)","v":{"$error":"#N/A"}},{"$f":"VLOOKUP(H91,Results!A$8:$G$104,3,FALSE)","v":{"$error":"#N/A"}},{"$f":"VLOOKUP(H91,Results!$A$8:$G$104,2,FALSE)","v":{"$error":"#N/A"}},{"$f":"VLOOKUP(H91,Results!$A$8:$G$104,4,FALSE)","v":{"$error":"#N/A"}},{"$f":"VLOOKUP(H91,Results!$A$8:$G$104,7,FALSE)","v":{"$error":"#N/A"}}]
[null,{"$f":"Results!A99","v":0},{"$f":"Results!C99","v":0},{"$f":"Results!B99","v":0},{"$f":"Results!D99","v":0},{"$f":"Results!G99","v":""},"- vs -",{"$f":"VLOOKUP(B92,Results!$A$8:$AG$104,9,)","v":{"$error":"#N/A"}},{"$f":"VLOOKUP(H92,Results!A$8:$G$104,3,FALSE)","v":{"$error":"#N/A"}},{"$f":"VLOOKUP(H92,Results!$A$8:$G$104,2,FALSE)","v":{"$error":"#N/A"}},{"$f":"VLOOKUP(H92,Results!$A$8:$G$104,4,FALSE)","v":{"$error":"#N/A"}},{"$f":"VLOOKUP(H92,Results!$A$8:$G$104,7,FALSE)","v":{"$error":"#N/A"}}]
[null,{"$f":"Results!A100","v":0},{"$f":"Results!C100","v":0},{"$f":"Results!B100","v":0},{"$f":"Results!D100","v":0},{"$f":"Results!G100","v":""},"- vs -",{"$f":"VLOOKUP(B93,Results!$A$8:$AG$104,9,)","v":{"$error":"#N/A"}},{"$f":"VLOOKUP(H93,Results!A$8:$G$104,3,FALSE)","v":{"$error":"#N/A"}},{"$f":"VLOOKUP(H93,Results!$A$8:$G$104,2,FALSE)","v":{"$error":"#N/A"}},{"$f":"VLOOKUP(H93,Results!$A$8:$G$104,4,FALSE)","v":{"$error":"#N/A"}},{"$f":"VLOOKUP(H93,Results!$A$8:$G$104,7,FALSE)","v":{"$error":"#N/A"}}]
[null,{"$f":"Results!A101","v":0},{"$f":"Results!C101","v":0},{"$f":"Results!B101","v":0},{"$f":"Results!D101","v":0},{"$f":"Results!G101","v":""},"- vs -",{"$f":"VLOOKUP(B94,Results!$A$8:$AG$104,9,)","v":{"$error":"#N/A"}},{"$f":"VLOOKUP(H94,Results!A$8:$G$104,3,FALSE)","v":{"$error":"#N/A"}},{"$f":"VLOOKUP(H94,Results!$A$8:$G$104,2,FALSE)","v":{"$error":"#N/A"}},{"$f":"VLOOKUP(H94,Results!$A$8:$G$104,4,FALSE)","v":{"$error":"#N/A"}},{"$f":"VLOOKUP(H94,Results!$A$8:$G$104,7,FALSE)","v":{"$error":"#N/A"}}]
[null,{"$f":"Results!A102","v":0},{"$f":"Results!C102","v":0},{"$f":"Results!B102","v":0},{"$f":"Results!D102","v":0},{"$f":"Results!G102","v":""},"- vs -",{"$f":"VLOOKUP(B95,Results!$A$8:$AG$104,9,)","v":{"$error":"#N/A"}},{"$f":"VLOOKUP(H95,Results!A$8:$G$104,3,FALSE)","v":{"$error":"#N/A"}},{"$f":"VLOOKUP(H95,Results!$A$8:$G$104,2,FALSE)","v":{"$error":"#N/A"}},{"$f":"VLOOKUP(H95,Results!$A$8:$G$104,4,FALSE)","v":{"$error":"#N/A"}},{"$f":"VLOOKUP(H95,Results!$A$8:$G$104,7,FALSE)","v":{"$error":"#N/A"}}]
[null,{"$f":"Results!A103","v":0},{"$f":"Results!C103","v":0},{"$f":"Results!B103","v":0},{"$f":"Results!D103","v":0},{"$f":"Results!G103","v":""},"- vs -",{"$f":"VLOOKUP(B96,Results!$A$8:$AG$104,9,)","v":{"$error":"#N/A"}},{"$f":"VLOOKUP(H96,Results!A$8:$G$104,3,FALSE)","v":{"$error":"#N/A"}},{"$f":"VLOOKUP(H96,Results!$A$8:$G$104,2,FALSE)","v":{"$error":"#N/A"}},{"$f":"VLOOKUP(H96,Results!$A$8:$G$104,4,FALSE)","v":{"$error":"#N/A"}},{"$f":"VLOOKUP(H96,Results!$A$8:$G$104,7,FALSE)","v":{"$error":"#N/A"}}]
[null,{"$f":"Results!A104","v":0},{"$f":"Results!C104","v":0},{"$f":"Results!B104","v":0},{"$f":"Results!D104","v":0},{"$f":"Results!G104","v":""},"- vs -",{"$f":"VLOOKUP(B97,Results!$A$8:$AG$104,9,)","v":{"$error":"#N/A"}},{"$f":"VLOOKUP(H97,Results!A$8:$G$104,3,FALSE)","v":{"$error":"#N/A"}},{"$f":"VLOOKUP(H97,Results!$A$8:$G$104,2,FALSE)","v":{"$error":"#N/A"}},{"$f":"VLOOKUP(H97,Results!$A$8:$G$104,4,FALSE)","v":{"$error":"#N/A"}},{"$f":"VLOOKUP(H97,Results!$A$8:$G$104,7,FALSE)","v":{"$error":"#N/A"}}]
[null,{"$f":"Results!A105","v":0},{"$f":"Results!C105","v":0},{"$f":"Results!B105","v":0},{"$f":"Results!D105","v":0},{"$f":"Results!G105","v":""},"- vs -",{"$f":"VLOOKUP(B98,Results!$A$8:$AG$104,9,)","v":{"$error":"#N/A"}},{"$f":"VLOOKUP(H98,Results!A$8:$G$104,3,FALSE)","v":{"$error":"#N/A"}},{"$f":"VLOOKUP(H98,Results!$A$8:$G$104,2,FALSE)","v":{"$error":"#N/A"}},{"$f":"VLOOKUP(H98,Results!$A$8:$G$104,4,FALSE)","v":{"$error":"#N/A"}},{"$f":"VLOOKUP(H98,Results!$A$8:$G$104,7,FALSE)","v":{"$error":"#N/A"}}]
[null,{"$f":"Results!A106","v":0},{"$f":"Results!C106","v":0},{"$f":"Results!B106","v":0},{"$f":"Results!D106","v":0},{"$f":"Results!G106","v":""},"- vs -",{"$f":"VLOOKUP(B99,Results!$A$8:$AG$104,9,)","v":{"$error":"#N/A"}},{"$f":"VLOOKUP(H99,Results!A$8:$G$104,3,FALSE)","v":{"$error":"#N/A"}},{"$f":"VLOOKUP(H99,Results!$A$8:$G$104,2,FALSE)","v":{"$error":"#N/A"}},{"$f":"VLOOKUP(H99,Results!$A$8:$G$104,4,FALSE)","v":{"$error":"#N/A"}},{"$f":"VLOOKUP(H99,Results!$A$8:$G$104,7,FALSE)","v":{"$error":"#N/A"}}]
[null,{"$f":"Results!A107","v":0},{"$f":"Results!C107","v":0},{"$f":"Results!B107","v":0},{"$f":"Results!D107","v":0},{"$f":"Results!G107","v":""},"- vs -",{"$f":"VLOOKUP(B100,Results!$A$8:$AG$104,9,)","v":{"$error":"#N/A"}},{"$f":"VLOOKUP(H100,Results!A$8:$G$104,3,FALSE)","v":{"$error":"#N/A"}},{"$f":"VLOOKUP(H100,Results!$A$8:$G$104,2,FALSE)","v":{"$error":"#N/A"}},{"$f":"VLOOKUP(H100,Results!$A$8:$G$104,4,FALSE)","v":{"$error":"#N/A"}},{"$f":"VLOOKUP(H100,Results!$A$8:$G$104,7,FALSE)","v":{"$error":"#N/A"}}]

{"sheet":"Round 2","index":10,"n_rows":123,"n_cols":13,"rows_kept":123,"cut":false,"hidden":false,"merged":[]}
[]
["Round 2 Draw",null,{"$f":"Results!B3","v":"Kegworth Codgers 2024"}]
["Table",null,{"$f":"Results!B4","v":"Roman Period"}]
[null,null,null,null,null,null,null,null,null,null,null,null,"VALID?"]
[null,{"$f":"Results!A8","v":486},{"$f":"Results!C8","v":"Alan"},{"$f":"Results!B8","v":"Cutner"},{"$f":"Results!D8","v":"Tradeston"},{"$f":"Results!G8","v":""},"- vs -",{"$f":"VLOOKUP(B5,Results!$A$8:$AG$104,16,FALSE)","v":0},{"$f":"VLOOKUP(H5,Results!A$8:$G$104,3,FALSE)","v":{"$error":"#N/A"}},{"$f":"VLOOKUP(H5,Results!$A$8:$G$104,2,FALSE)","v":{"$error":"#N/A"}},{"$f":"VLOOKUP(H5,Results!$A$8:$G$104,4,FALSE)","v":{"$error":"#N/A"}},{"$f":"VLOOKUP(H5,Results!$A$8:$G$104,7,FALSE)","v":{"$error":"#N/A"}},{"$f":"VLOOKUP(H5,$B$4:B5,1,FALSE)","v":{"$error":"#N/A"}}]
[null,{"$f":"Results!A9","v":1579},{"$f":"Results!C9","v":"Alistair"},{"$f":"Results!B9","v":"Wright"},{"$f":"Results!D9","v":"Millbrook"},{"$f":"Results!G9","v":""},"- vs -",{"$f":"VLOOKUP(B6,Results!$A$8:$AG$104,16,FALSE)","v":0},{"$f":"VLOOKUP(H6,Results!A$8:$G$104,3,FALSE)","v":{"$error":"#N/A"}},{"$f":"VLOOKUP(H6,Results!$A$8:$G$104,2,FALSE)","v":{"$error":"#N/A"}},{"$f":"VLOOKUP(H6,Results!$A$8:$G$104,4,FALSE)","v":{"$error":"#N/A"}},{"$f":"VLOOKUP(H6,Results!$A$8:$G$104,7,FALSE)","v":{"$error":"#N/A"}},{"$f":"VLOOKUP(H6,$B$4:B6,1,FALSE)","v":{"$error":"#N/A"}}]
[null,{"$f":"Results!A10","v":748},{"$f":"Results!C10","v":"Andrew"},{"$f":"Results!B10","v":"Whitby"},{"$f":"Results!D10","v":"Bristol"},{"$f":"Results!G10","v":""},"- vs -",{"$f":"VLOOKUP(B7,Results!$A$8:$AG$104,16,FALSE)","v":0},{"$f":"VLOOKUP(H7,Results!A$8:$G$104,3,FALSE)","v":{"$error":"#N/A"}},{"$f":"VLOOKUP(H7,Results!$A$8:$G$104,2,FALSE)","v":{"$error":"#N/A"}},{"$f":"VLOOKUP(H7,Results!$A$8:$G$104,4,FALSE)","v":{"$error":"#N/A"}},{"$f":"VLOOKUP(H7,Results!$A$8:$G$104,7,FALSE)","v":{"$error":"#N/A"}},{"$f":"VLOOKUP(H7,$B$4:B7,1,FALSE)","v":{"$error":"#N/A"}}]
[null,{"$f":"Results!A11","v":1598},{"$f":"Results!C11","v":"Andy"},{"$f":"Results!B11","v":"Fyfe"},{"$f":"Results!D11","v":"FDWG"},{"$f":"Results!G11","v":""},"- vs -",{"$f":"VLOOKUP(B8,Results!$A$8:$AG$104,16,FALSE)","v":0},{"$f":"VLOOKUP(H8,Results!A$8:$G$104,3,FALSE)","v":{"$error":"#N/A"}},{"$f":"VLOOKUP(H8,Results!$A$8:$G$104,2,FALSE)","v":{"$error":"#N/A"}},{"$f":"VLOOKUP(H8,Results!$A$8:$G$104,4,FALSE)","v":{"$error":"#N/A"}},{"$f":"VLOOKUP(H8,Results!$A$8:$G$104,7,FALSE)","v":{"$error":"#N/A"}},{"$f":"VLOOKUP(H8,$B$4:B8,1,FALSE)","v":{"$error":"#N/A"}}]
[null,{"$f":"Results!A12","v":714},{"$f":"Results!C12","v":"Andy"},{"$f":"Results!B12","v":"Gilbert"},{"$f":"Results!D12","v":"Pompey"},{"$f":"Results!G12","v":""},"- vs -",{"$f":"VLOOKUP(B9,Results!$A$8:$AG$104,16,FALSE)","v":0},{"$f":"VLOOKUP(H9,Results!A$8:$G$104,3,FALSE)","v":{"$error":"#N/A"}},{"$f":"VLOOKUP(H9,Results!$A$8:$G$104,2,FALSE)","v":{"$error":"#N/A"}},{"$f":"VLOOKUP(H9,Results!$A$8:$G$104,4,FALSE)","v":{"$error":"#N/A"}},{"$f":"VLOOKUP(H9,Results!$A$8:$G$104,7,FALSE)","v":{"$error":"#N/A"}},{"$f":"VLOOKUP(H9,$B$4:B9,1,FALSE)","v":{"$error":"#N/A"}}]
[null,{"$f":"Results!A13","v":1447},{"$f":"Results!C13","v":"Antony"},{"$f":"Results!B13","v":"Robinson"},{"$f":"Results!D13","v":"Durham"},{"$f":"Results!G13","v":""},"- vs -",{"$f":"VLOOKUP(B10,Results!$A$8:$AG$104,16,FALSE)","v":0},{"$f":"VLOOKUP(H10,Results!A$8:$G$104,3,FALSE)","v":{"$error":"#N/A"}},{"$f":"VLOOKUP(H10,Results!$A$8:$G$104,2,FALSE)","v":{"$error":"#N/A"}},{"$f":"VLOOKUP(H10,Results!$A$8:$G$104,4,FALSE)","v":{"$error":"#N/A"}},{"$f":"VLOOKUP(H10,Results!$A$8:$G$104,7,FALSE)","v":{"$error":"#N/A"}},{"$f":"VLOOKUP(H10,$B$4:B10,1,FALSE)","v":{"$error":"#N/A"}}]
[null,{"$f":"Results!A14","v":773},{"$f":"Results!C14","v":"Charles"},{"$f":"Results!B14","v":"Masefield"},{"$f":"Results!D14","v":"Oxford"},{"$f":"Results!G14","v":""},"- vs -",{"$f":"VLOOKUP(B11,Results!$A$8:$AG$104,16,FALSE)","v":0},{"$f":"VLOOKUP(H11,Results!A$8:$G$104,3,FALSE)","v":{"$error":"#N/A"}},{"$f":"VLOOKUP(H11,Results!$A$8:$G$104,2,FALSE)","v":{"$error":"#N/A"}},{"$f":"VLOOKUP(H11,Results!$A$8:$G$104,4,FALSE)","v":{"$error":"#N/A"}},{"$f":"VLOOKUP(H11,Results!$A$8:$G$104,7,FALSE)","v":{"$error":"#N/A"}},{"$f":"VLOOKUP(H11,$B$4:B11,1,FALSE)","v":{"$error":"#N/A"}}]
[null,{"$f":"Results!A15","v":1549},{"$f":"Results!C15","v":"Colin"},{"$f":"Results!B15","v":"Whittaker"},{"$f":"Results!D15","v":"Entoyment"},{"$f":"Results!G15","v":""},"- vs -",{"$f":"VLOOKUP(B12,Results!$A$8:$AG$104,16,FALSE)","v":0},{"$f":"VLOOKUP(H12,Results!A$8:$G$104,3,FALSE)","v":{"$error":"#N/A"}},{"$f":"VLOOKUP(H12,Results!$A$8:$G$104,2,FALSE)","v":{"$error":"#N/A"}},{"$f":"VLOOKUP(H12,Results!$A$8:$G$104,4,FALSE)","v":{"$error":"#N/A"}},{"$f":"VLOOKUP(H12,Results!$A$8:$G$104,7,FALSE)","v":{"$error":"#N/A"}},{"$f":"VLOOKUP(H12,$B$4:B12,1,FALSE)","v":{"$error":"#N/A"}}]
[null,{"$f":"Results!A16","v":1435},{"$f":"Results!C16","v":"Dave"},{"$f":"Results!B16","v":"Hutchby"},{"$f":"Results!D16","v":"Derby"},{"$f":"Results!G16","v":"Chinese Northern and Southern Dynasties"},"- vs -",{"$f":"VLOOKUP(B13,Results!$A$8:$AG$104,16,FALSE)","v":0},{"$f":"VLOOKUP(H13,Results!A$8:$G$104,3,FALSE)","v":{"$error":"#N/A"}},{"$f":"VLOOKUP(H13,Results!$A$8:$G$104,2,FALSE)","v":{"$error":"#N/A"}},{"$f":"VLOOKUP(H13,Results!$A$8:$G$104,4,FALSE)","v":{"$error":"#N/A"}},{"$f":"VLOOKUP(H13,Results!$A$8:$G$104,7,FALSE)","v":{"$error":"#N/A"}},{"$f":"VLOOKUP(H13,$B$4:B13,1,FALSE)","v":{"$error":"#N/A"}}]
[null,{"$f":"Results!A17","v":1017},{"$f":"Results!C17","v":"David"},{"$f":"Results!B17","v":"Roberts"},{"$f":"Results!D17","v":"Cambridge"},{"$f":"Results!G17","v":""},"- vs -",{"$f":"VLOOKUP(B14,Results!$A$8:$AG$104,16,FALSE)","v":0},{"$f":"VLOOKUP(H14,Results!A$8:$G$104,3,FALSE)","v":{"$error":"#N/A"}},{"$f":"VLOOKUP(H14,Results!$A$8:$G$104,2,FALSE)","v":{"$error":"#N/A"}},{"$f":"VLOOKUP(H14,Results!$A$8:$G$104,4,FALSE)","v":{"$error":"#N/A"}},{"$f":"VLOOKUP(H14,Results!$A$8:$G$104,7,FALSE)","v":{"$error":"#N/A"}},{"$f":"VLOOKUP(H14,$B$4:B14,1,FALSE)","v":{"$error":"#N/A"}}]
[null,{"$f":"Results!A18","v":1576},{"$f":"Results!C18","v":"David"},{"$f":"Results!B18","v":"Dryden"},{"$f":"Results!D18","v":"FDWC"},null,"- vs -",{"$f":"VLOOKUP(B15,Results!$A$8:$AG$104,16,FALSE)","v":0},{"$f":"VLOOKUP(H15,Results!A$8:$G$104,3,FALSE)","v":{"$error":"#N/A"}},{"$f":"VLOOKUP(H15,Results!$A$8:$G$104,2,FALSE)","v":{"$error":"#N/A"}},{"$f":"VLOOKUP(H15,Results!$A$8:$G$104,4,FALSE)","v":{"$error":"#N/A"}},{"$f":"VLOOKUP(H15,Results!$A$8:$G$104,7,FALSE)","v":{"$error":"#N/A"}},{"$f":"VLOOKUP(H15,$B$4:B15,1,FALSE)","v":{"$error":"#N/A"}}]
[null,{"$f":"Results!A19","v":1509},{"$f":"Results!C19","v":"Frazer"},{"$f":"Results!B19","v":"Watson"},{"$f":"Results!D19","v":"FDWG"},{"$f":"Results!G19","v":"Kingdom of Axum"},"- vs -",{"$f":"VLOOKUP(B16,Results!$A$8:$AG$104,16,FALSE)","v":0},{"$f":"VLOOKUP(H16,Results!A$8:$G$104,3,FALSE)","v":{"$error":"#N/A"}},{"$f":"VLOOKUP(H16,Results!$A$8:$G$104,2,FALSE)","v":{"$error":"#N/A"}},{"$f":"VLOOKUP(H16,Results!$A$8:$G$104,4,FALSE)","v":{"$error":"#N/A"}},{"$f":"VLOOKUP(H16,Results!$A$8:$G$104,7,FALSE)","v":{"$error":"#N/A"}},{"$f":"VLOOKUP(H16,$B$4:B16,1,FALSE)","v":{"$error":"#N/A"}}]
[null,{"$f":"Results!A20","v":715},{"$f":"Results!C20","v":"Gordon"},{"$f":"Results!B20","v":"Jamieson"},{"$f":"Results!D20","v":"CLWC"},{"$f":"Results!G20","v":""},"- vs -",{"$f":"VLOOKUP(B17,Results!$A$8:$AG$104,16,FALSE)","v":0},{"$f":"VLOOKUP(H17,Results!A$8:$G$104,3,FALSE)","v":{"$error":"#N/A"}},{"$f":"VLOOKUP(H17,Results!$A$8:$G$104,2,FALSE)","v":{"$error":"#N/A"}},{"$f":"VLOOKUP(H17,Results!$A$8:$G$104,4,FALSE)","v":{"$error":"#N/A"}},{"$f":"VLOOKUP(H17,Results!$A$8:$G$104,7,FALSE)","v":{"$error":"#N/A"}},{"$f":"VLOOKUP(H17,$B$4:B17,1,FALSE)","v":{"$error":"#N/A"}}]
[null,{"$f":"Results!A21","v":1131},{"$f":"Results!C21","v":"Gordon"},{"$f":"Results!B21","v":"Miller"},{"$f":"Results!D21","v":"FDWC"},{"$f":"Results!G21","v":""},"- vs -",{"$f":"VLOOKUP(B18,Results!$A$8:$AG$104,16,FALSE)","v":0},{"$f":"VLOOKUP(H18,Results!A$8:$G$104,3,FALSE)","v":{"$error":"#N/A"}},{"$f":"VLOOKUP(H18,Results!$A$8:$G$104,2,FALSE)","v":{"$error":"#N/A"}},{"$f":"VLOOKUP(H18,Results!$A$8:$G$104,4,FALSE)","v":{"$error":"#N/A"}},{"$f":"VLOOKUP(H18,Results!$A$8:$G$104,7,FALSE)","v":{"$error":"#N/A"}},{"$f":"VLOOKUP(H18,$B$4:B18,1,FALSE)","v":{"$error":"#N/A"}}]
[null,{"$f":"Results!A22","v":1483},{"$f":"Results!C22","v":"Ian"},{"$f":"Results!B22","v":"Sewell"},{"$f":"Results!D22","v":"WAR"},{"$f":"Results!G22","v":""},"- vs -",{"$f":"VLOOKUP(B19,Results!$A$8:$AG$104,16,FALSE)","v":0},{"$f":"VLOOKUP(H19,Results!A$8:$G$104,3,FALSE)","v":{"$error":"#N/A"}},{"$f":"VLOOKUP(H19,Results!$A$8:$G$104,2,FALSE)","v":{"$error":"#N/A"}},{"$f":"VLOOKUP(H19,Results!$A$8:$G$104,4,FALSE)","v":{"$error":"#N/A"}},{"$f":"VLOOKUP(H19,Results!$A$8:$G$104,7,FALSE)","v":{"$error":"#N/A"}},{"$f":"VLOOKUP(H19,$B$4:B19,1,FALSE)","v":{"$error":"#N/A"}}]
[null,{"$f":"Results!A23","v":1538},{"$f":"Results!C23","v":"James"},{"$f":"Results!B23","v":"Gibson"},{"$f":"Results!D23","v":"FDWG"},{"$f":"Results!G23","v":""},"- vs -",{"$f":"VLOOKUP(B20,Results!$A$8:$AG$104,16,FALSE)","v":0},{"$f":"VLOOKUP(H20,Results!A$8:$G$104,3,FALSE)","v":{"$error":"#N/A"}},{"$f":"VLOOKUP(H20,Results!$A$8:$G$104,2,FALSE)","v":{"$error":"#N/A"}},{"$f":"VLOOKUP(H20,Results!$A$8:$G$104,4,FALSE)","v":{"$error":"#N/A"}},{"$f":"VLOOKUP(H20,Results!$A$8:$G$104,7,FALSE)","v":{"$error":"#N/A"}},{"$f":"VLOOKUP(H20,$B$4:B20,1,FALSE)","v":{"$error":"#N/A"}}]
[null,{"$f":"Results!A24","v":485},{"$f":"Results!C24","v":"Jesse"},{"$f":"Results!B24","v":"Schoor"},{"$f":"Results!D24","v":"WAR"},{"$f":"Results!G24","v":""},"- vs -",{"$f":"VLOOKUP(B21,Results!$A$8:$AG$104,16,FALSE)","v":0},{"$f":"VLOOKUP(H21,Results!A$8:$G$104,3,FALSE)","v":{"$error":"#N/A"}},{"$f":"VLOOKUP(H21,Results!$A$8:$G$104,2,FALSE)","v":{"$error":"#N/A"}},{"$f":"VLOOKUP(H21,Results!$A$8:$G$104,4,FALSE)","v":{"$error":"#N/A"}},{"$f":"VLOOKUP(H21,Results!$A$8:$G$104,7,FALSE)","v":{"$error":"#N/A"}},{"$f":"VLOOKUP(H21,$B$4:B21,1,FALSE)","v":{"$error":"#N/A"}}]
[null,{"$f":"Results!A25","v":795},{"$f":"Results!C25","v":"Mark"},{"$f":"Results!B25","v":"Fry"},{"$f":"Results!D25","v":"Bristol"},{"$f":"Results!G25","v":""},"- vs -",{"$f":"VLOOKUP(B22,Results!$A$8:$AG$104,16,FALSE)","v":0},{"$f":"VLOOKUP(H22,Results!A$8:$G$104,3,FALSE)","v":{"$error":"#N/A"}},{"$f":"VLOOKUP(H22,Results!$A$8:$G$104,2,FALSE)","v":{"$error":"#N/A"}},{"$f":"VLOOKUP(H22,Results!$A$8:$G$104,4,FALSE)","v":{"$error":"#N/A"}},{"$f":"VLOOKUP(H22,Results!$A$8:$G$104,7,FALSE)","v":{"$error":"#N/A"}},{"$f":"VLOOKUP(H22,$B$4:B22,1,FALSE)","v":{"$error":"#N/A"}}]
[null,{"$f":"Results!A26","v":1807},{"$f":"Results!C26","v":"Mark"},{"$f":"Results!B26","v":"Gilby"},{"$f":"Results!D26","v":"CLWC"},{"$f":"Results!G26","v":""},"- vs -",{"$f":"VLOOKUP(B23,Results!$A$8:$AG$104,16,FALSE)","v":0},{"$f":"VLOOKUP(H23,Results!A$8:$G$104,3,FALSE)","v":{"$error":"#N/A"}},{"$f":"VLOOKUP(H23,Results!$A$8:$G$104,2,FALSE)","v":{"$error":"#N/A"}},{"$f":"VLOOKUP(H23,Results!$A$8:$G$104,4,FALSE)","v":{"$error":"#N/A"}},{"$f":"VLOOKUP(H23,Results!$A$8:$G$104,7,FALSE)","v":{"$error":"#N/A"}},{"$f":"VLOOKUP(H23,$B$4:B23,1,FALSE)","v":{"$error":"#N/A"}}]
[null,{"$f":"Results!A27","v":858},{"$f":"Results!C27","v":"Mike"},{"$f":"Results!B27","v":"Bennett"},{"$f":"Results!D27","v":"Carnforth"},{"$f":"Results!G27","v":""},"- vs -",{"$f":"VLOOKUP(B24,Results!$A$8:$AG$104,16,FALSE)","v":0},{"$f":"VLOOKUP(H24,Results!A$8:$G$104,3,FALSE)","v":{"$error":"#N/A"}},{"$f":"VLOOKUP(H24,Results!$A$8:$G$104,2,FALSE)","v":{"$error":"#N/A"}},{"$f":"VLOOKUP(H24,Results!$A$8:$G$104,4,FALSE)","v":{"$error":"#N/A"}},{"$f":"VLOOKUP(H24,Results!$A$8:$G$104,7,FALSE)","v":{"$error":"#N/A"}},{"$f":"VLOOKUP(H24,$B$4:B24,1,FALSE)","v":{"$error":"#N/A"}}]
[null,{"$f":"Results!A28","v":1015},{"$f":"Results!C28","v":"Nik"},{"$f":"Results!B28","v":"Sharp"},{"$f":"Results!D28","v":"Warlords"},{"$f":"Results!G28","v":""},"- vs -",{"$f":"VLOOKUP(B25,Results!$A$8:$AG$104,16,FALSE)","v":0},{"$f":"VLOOKUP(H25,Results!A$8:$G$104,3,FALSE)","v":{"$error":"#N/A"}},{"$f":"VLOOKUP(H25,Results!$A$8:$G$104,2,FALSE)","v":{"$error":"#N/A"}},{"$f":"VLOOKUP(H25,Results!$A$8:$G$104,4,FALSE)","v":{"$error":"#N/A"}},{"$f":"VLOOKUP(H25,Results!$A$8:$G$104,7,FALSE)","v":{"$error":"#N/A"}},{"$f":"VLOOKUP(H25,$B$4:B25,1,FALSE)","v":{"$error":"#N/A"}}]
[null,{"$f":"Results!A29","v":1308},{"$f":"Results!C29","v":"Paul"},{"$f":"Results!B29","v":"Dawson"},{"$f":"Results!D29","v":"York"},{"$f":"Results!G29","v":""},"- vs -",{"$f":"VLOOKUP(B26,Results!$A$8:$AG$104,16,FALSE)","v":0},{"$f":"VLOOKUP(H26,Results!A$8:$G$104,3,FALSE)","v":{"$error":"#N/A"}},{"$f":"VLOOKUP(H26,Results!$A$8:$G$104,2,FALSE)","v":{"$error":"#N/A"}},{"$f":"VLOOKUP(H26,Results!$A$8:$G$104,4,FALSE)","v":{"$error":"#N/A"}},{"$f":"VLOOKUP(H26,Results!$A$8:$G$104,7,FALSE)","v":{"$error":"#N/A"}},{"$f":"VLOOKUP(H26,$B$4:B26,1,FALSE)","v":{"$error":"#N/A"}}]
[null,{"$f":"Results!A30","v":1309},{"$f":"Results!C30","v":"Paul"},{"$f":"Results!B30","v":"Johnston"},{"$f":"Results!D30","v":"York"},{"$f":"Results!G30","v":""},"- vs -",{"$f":"VLOOKUP(B27,Results!$A$8:$AG$104,16,FALSE)","v":0},{"$f":"VLOOKUP(H27,Results!A$8:$G$104,3,FALSE)","v":{"$error":"#N/A"}},{"$f":"VLOOKUP(H27,Results!$A$8:$G$104,2,FALSE)","v":{"$error":"#N/A"}},{"$f":"VLOOKUP(H27,Results!$A$8:$G$104,4,FALSE)","v":{"$error":"#N/A"}},{"$f":"VLOOKUP(H27,Results!$A$8:$G$104,7,FALSE)","v":{"$error":"#N/A"}},{"$f":"VLOOKUP(H27,$B$4:B27,1,FALSE)","v":{"$error":"#N/A"}}]
[null,{"$f":"Results!A31","v":1239},{"$f":"Results!C31","v":"Paul"},{"$f":"Results!B31","v":"Frith"},{"$f":"Results!D31","v":"Dorset Nomads"},{"$f":"Results!G31","v":""},"- vs -",{"$f":"VLOOKUP(B28,Results!$A$8:$AG$104,16,FALSE)","v":0},{"$f":"VLOOKUP(H28,Results!A$8:$G$104,3,FALSE)","v":{"$error":"#N/A"}},{"$f":"VLOOKUP(H28,Results!$A$8:$G$104,2,FALSE)","v":{"$error":"#N/A"}},{"$f":"VLOOKUP(H28,Results!$A$8:$G$104,4,FALSE)","v":{"$error":"#N/A"}},{"$f":"VLOOKUP(H28,Results!$A$8:$G$104,7,FALSE)","v":{"$error":"#N/A"}},{"$f":"VLOOKUP(H28,$B$4:B28,1,FALSE)","v":{"$error":"#N/A"}}]
[null,{"$f":"Results!A32","v":1536},{"$f":"Results!C32","v":"Pete"},{"$f":"Results!B32","v":"Sanger"},{"$f":"Results!D32","v":"Pompey"},{"$f":"Results!G32","v":""},"- vs -",{"$f":"VLOOKUP(B29,Results!$A$8:$AG$104,16,FALSE)","v":0},{"$f":"VLOOKUP(H29,Results!A$8:$G$104,3,FALSE)","v":{"$error":"#N/A"}},{"$f":"VLOOKUP(H29,Results!$A$8:$G$104,2,FALSE)","v":{"$error":"#N/A"}},{"$f":"VLOOKUP(H29,Results!$A$8:$G$104,4,FALSE)","v":{"$error":"#N/A"}},{"$f":"VLOOKUP(H29,Results!$A$8:$G$104,7,FALSE)","v":{"$error":"#N/A"}},{"$f":"VLOOKUP(H29,$B$4:B29,1,FALSE)","v":{"$error":"#N/A"}}]
[null,{"$f":"Results!A33","v":772},{"$f":"Results!C33","v":"Richard"},{"$f":"Results!B33","v":"Young"},{"$f":"Results!D33","v":"SOA"},{"$f":"Results!G33","v":""},"- vs -",{"$f":"VLOOKUP(B30,Results!$A$8:$AG$104,16,FALSE)","v":0},{"$f":"VLOOKUP(H30,Results!A$8:$G$104,3,FALSE)","v":{"$error":"#N/A"}},{"$f":"VLOOKUP(H30,Results!$A$8:$G$104,2,FALSE)","v":{"$error":"#N/A"}},{"$f":"VLOOKUP(H30,Results!$A$8:$G$104,4,FALSE)","v":{"$error":"#N/A"}},{"$f":"VLOOKUP(H30,Results!$A$8:$G$104,7,FALSE)","v":{"$error":"#N/A"}},{"$f":"VLOOKUP(H30,$B$4:B30,1,FALSE)","v":{"$error":"#N/A"}}]
[null,{"$f":"Results!A34","v":1318},{"$f":"Results!C34","v":"Rob"},{"$f":"Results!B34","v":"Taylor"},{"$f":"Results!D34","v":"Westow"},{"$f":"Results!G34","v":""},"- vs -",{"$f":"VLOOKUP(B31,Results!$A$8:$AG$104,16,FALSE)","v":0},{"$f":"VLOOKUP(H31,Results!A$8:$G$104,3,FALSE)","v":{"$error":"#N/A"}},{"$f":"VLOOKUP(H31,Results!$A$8:$G$104,2,FALSE)","v":{"$error":"#N/A"}},{"$f":"VLOOKUP(H31,Results!$A$8:$G$104,4,FALSE)","v":{"$error":"#N/A"}},{"$f":"VLOOKUP(H31,Results!$A$8:$G$104,7,FALSE)","v":{"$error":"#N/A"}},{"$f":"VLOOKUP(H31,$B$4:B31,1,FALSE)","v":{"$error":"#N/A"}}]
[null,{"$f":"Results!A35","v":1222},{"$f":"Results!C35","v":"Robert"},{"$f":"Results!B35","v":"Middlemist"},{"$f":"Results!D35","v":"Durham"},{"$f":"Results!G35","v":""},"- vs -",{"$f":"VLOOKUP(B32,Results!$A$8:$AG$104,16,FALSE)","v":0},{"$f":"VLOOKUP(H32,Results!A$8:$G$104,3,FALSE)","v":{"$error":"#N/A"}},{"$f":"VLOOKUP(H32,Results!$A$8:$G$104,2,FALSE)","v":{"$error":"#N/A"}},{"$f":"VLOOKUP(H32,Results!$A$8:$G$104,4,FALSE)","v":{"$error":"#N/A"}},{"$f":"VLOOKUP(H32,Results!$A$8:$G$104,7,FALSE)","v":{"$error":"#N/A"}},{"$f":"VLOOKUP(H32,$B$4:B32,1,FALSE)","v":{"$error":"#N/A"}}]
[null,{"$f":"Results!A36","v":1008},{"$f":"Results!C36","v":"Robin"},{"$f":"Results!B36","v":"Jackson"},{"$f":"Results!D36","v":"God Knows"},{"$f":"Results!G36","v":""},"- vs -",{"$f":"VLOOKUP(B33,Results!$A$8:$AG$104,16,FALSE)","v":0},{"$f":"VLOOKUP(H33,Results!A$8:$G$104,3,FALSE)","v":{"$error":"#N/A"}},{"$f":"VLOOKUP(H33,Results!$A$8:$G$104,2,FALSE)","v":{"$error":"#N/A"}},{"$f":"VLOOKUP(H33,Results!$A$8:$G$104,4,FALSE)","v":{"$error":"#N/A"}},{"$f":"VLOOKUP(H33,Results!$A$8:$G$104,7,FALSE)","v":{"$error":"#N/A"}},{"$f":"VLOOKUP(H33,$B$4:B33,1,FALSE)","v":{"$error":"#N/A"}}]
[null,{"$f":"Results!A37","v":1418},{"$f":"Results!C37","v":"Stephen"},{"$f":"Results!B37","v":"Nice"},{"$f":"Results!D37","v":"WAR"},{"$f":"Results!G37","v":""},"- vs -",{"$f":"VLOOKUP(B34,Results!$A$8:$AG$104,16,FALSE)","v":0},{"$f":"VLOOKUP(H34,Results!A$8:$G$104,3,FALSE)","v":{"$error":"#N/A"}},{"$f":"VLOOKUP(H34,Results!$A$8:$G$104,2,FALSE)","v":{"$error":"#N/A"}},{"$f":"VLOOKUP(H34,Results!$A$8:$G$104,4,FALSE)","v":{"$error":"#N/A"}},{"$f":"VLOOKUP(H34,Results!$A$8:$G$104,7,FALSE)","v":{"$error":"#N/A"}},{"$f":"VLOOKUP(H34,$B$4:B34,1,FALSE)","v":{"$error":"#N/A"}}]
[null,{"$f":"Results!A38","v":712},{"$f":"Results!C38","v":"Tim"},{"$f":"Results!B38","v":"Porter"},{"$f":"Results!D38","v":"CLWC"},{"$f":"Results!G38","v":"Parthian"},"- vs -",{"$f":"VLOOKUP(B35,Results!$A$8:$AG$104,16,FALSE)","v":0},{"$f":"VLOOKUP(H35,Results!A$8:$G$104,3,FALSE)","v":{"$error":"#N/A"}},{"$f":"VLOOKUP(H35,Results!$A$8:$G$104,2,FALSE)","v":{"$error":"#N/A"}},{"$f":"VLOOKUP(H35,Results!$A$8:$G$104,4,FALSE)","v":{"$error":"#N/A"}},{"$f":"VLOOKUP(H35,Results!$A$8:$G$104,7,FALSE)","v":{"$error":"#N/A"}},{"$f":"VLOOKUP(H35,$B$4:B35,1,FALSE)","v":{"$error":"#N/A"}}]
[null,{"$f":"Results!A39","v":0},{"$f":"Results!C39","v":0},{"$f":"Results!B39","v":0},{"$f":"Results!D39","v":0},{"$f":"Results!G39","v":""},"- vs -",{"$f":"VLOOKUP(B36,Results!$A$8:$AG$104,16,FALSE)","v":{"$error":"#N/A"}},{"$f":"VLOOKUP(H36,Results!A$8:$G$104,3,FALSE)","v":{"$error":"#N/A"}},{"$f":"VLOOKUP(H36,Results!$A$8:$G$104,2,FALSE)","v":{"$error":"#N/A"}},{"$f":"VLOOKUP(H36,Results!$A$8:$G$104,4,FALSE)","v":{"$error":"#N/A"}},{"$f":"VLOOKUP(H36,Results!$A$8:$G$104,7,FALSE)","v":{"$error":"#N/A"}},{"$f":"VLOOKUP(H36,$B$4:B36,1,FALSE)","v":{"$error":"#N/A"}}]
[null,{"$f":"Results!A40","v":0},{"$f":"Results!C40","v":0},{"$f":"Results!B40","v":0},{"$f":"Results!D40","v":0},{"$f":"Results!G40","v":""},"- vs -",{"$f":"VLOOKUP(B37,Results!$A$8:$AG$104,16,FALSE)","v":{"$error":"#N/A"}},{"$f":"VLOOKUP(H37,Results!A$8:$G$104,3,FALSE)","v":{"$error":"#N/A"}},{"$f":"VLOOKUP(H37,Results!$A$8:$G$104,2,FALSE)","v":{"$error":"#N/A"}},{"$f":"VLOOKUP(H37,Results!$A$8:$G$104,4,FALSE)","v":{"$error":"#N/A"}},{"$f":"VLOOKUP(H37,Results!$A$8:$G$104,7,FALSE)","v":{"$error":"#N/A"}},{"$f":"VLOOKUP(H37,$B$4:B37,1,FALSE)","v":{"$error":"#N/A"}}]
[null,{"$f":"Results!A41","v":0},{"$f":"Results!C41","v":0},{"$f":"Results!B41","v":0},{"$f":"Results!D41","v":0},{"$f":"Results!G41","v":""},"- vs -",{"$f":"VLOOKUP(B38,Results!$A$8:$AG$104,16,FALSE)","v":{"$error":"#N/A"}},{"$f":"VLOOKUP(H38,Results!A$8:$G$104,3,FALSE)","v":{"$error":"#N/A"}},{"$f":"VLOOKUP(H38,Results!$A$8:$G$104,2,FALSE)","v":{"$error":"#N/A"}},{"$f":"VLOOKUP(H38,Results!$A$8:$G$104,4,FALSE)","v":{"$error":"#N/A"}},{"$f":"VLOOKUP(H38,Results!$A$8:$G$104,7,FALSE)","v":{"$error":"#N/A"}},{"$f":"VLOOKUP(H38,$B$4:B38,1,FALSE)","v":{"$error":"#N/A"}}]
[null,{"$f":"Results!A42","v":0},{"$f":"Results!C42","v":0},{"$f":"Results!B42","v":0},{"$f":"Results!D42","v":0},{"$f":"Results!G42","v":""},"- vs -",{"$f":"VLOOKUP(B39,Results!$A$8:$AG$104,16,FALSE)","v":{"$error":"#N/A"}},{"$f":"VLOOKUP(H39,Results!A$8:$G$104,3,FALSE)","v":{"$error":"#N/A"}},{"$f":"VLOOKUP(H39,Results!$A$8:$G$104,2,FALSE)","v":{"$error":"#N/A"}},{"$f":"VLOOKUP(H39,Results!$A$8:$G$104,4,FALSE)","v":{"$error":"#N/A"}},{"$f":"VLOOKUP(H39,Results!$A$8:$G$104,7,FALSE)","v":{"$error":"#N/A"}},{"$f":"VLOOKUP(H39,$B$4:B39,1,FALSE)","v":{"$error":"#N/A"}}]
[null,{"$f":"Results!A43","v":0},{"$f":"Results!C43","v":0},{"$f":"Results!B43","v":0},{"$f":"Results!D43","v":0},{"$f":"Results!G43","v":""},"- vs -",{"$f":"VLOOKUP(B40,Results!$A$8:$AG$104,16,FALSE)","v":{"$error":"#N/A"}},{"$f":"VLOOKUP(H40,Results!A$8:$G$104,3,FALSE)","v":{"$error":"#N/A"}},{"$f":"VLOOKUP(H40,Results!$A$8:$G$104,2,FALSE)","v":{"$error":"#N/A"}},{"$f":"VLOOKUP(H40,Results!$A$8:$G$104,4,FALSE)","v":{"$error":"#N/A"}},{"$f":"VLOOKUP(H40,Results!$A$8:$G$104,7,FALSE)","v":{"$error":"#N/A"}},{"$f":"VLOOKUP(H40,$B$4:B40,1,FALSE)","v":{"$error":"#N/A"}}]
[null,{"$f":"Results!A44","v":0},{"$f":"Results!C44","v":0},{"$f":"Results!B44","v":0},{"$f":"Results!D44","v":0},{"$f":"Results!G44","v":""},"- vs -",{"$f":"VLOOKUP(B41,Results!$A$8:$AG$104,16,FALSE)","v":{"$error":"#N/A"}},{"$f":"VLOOKUP(H41,Results!A$8:$G$104,3,FALSE)","v":{"$error":"#N/A"}},{"$f":"VLOOKUP(H41,Results!$A$8:$G$104,2,FALSE)","v":{"$error":"#N/A"}},{"$f":"VLOOKUP(H41,Results!$A$8:$G$104,4,FALSE)","v":{"$error":"#N/A"}},{"$f":"VLOOKUP(H41,Results!$A$8:$G$104,7,FALSE)","v":{"$error":"#N/A"}},{"$f":"VLOOKUP(H41,$B$4:B41,1,FALSE)","v":{"$error":"#N/A"}}]
[null,{"$f":"Results!A45","v":0},{"$f":"Results!C45","v":0},{"$f":"Results!B45","v":0},{"$f":"Results!D45","v":0},{"$f":"Results!G45","v":""},"- vs -",{"$f":"VLOOKUP(B42,Results!$A$8:$AG$104,16,FALSE)","v":{"$error":"#N/A"}},{"$f":"VLOOKUP(H42,Results!A$8:$G$104,3,FALSE)","v":{"$error":"#N/A"}},{"$f":"VLOOKUP(H42,Results!$A$8:$G$104,2,FALSE)","v":{"$error":"#N/A"}},{"$f":"VLOOKUP(H42,Results!$A$8:$G$104,4,FALSE)","v":{"$error":"#N/A"}},{"$f":"VLOOKUP(H42,Results!$A$8:$G$104,7,FALSE)","v":{"$error":"#N/A"}},{"$f":"VLOOKUP(H42,$B$4:B42,1,FALSE)","v":{"$error":"#N/A"}}]
[null,{"$f":"Results!A46","v":0},{"$f":"Results!C46","v":0},{"$f":"Results!B46","v":0},{"$f":"Results!D46","v":0},{"$f":"Results!G46","v":""},"- vs -",{"$f":"VLOOKUP(B43,Results!$A$8:$AG$104,16,FALSE)","v":{"$error":"#N/A"}},{"$f":"VLOOKUP(H43,Results!A$8:$G$104,3,FALSE)","v":{"$error":"#N/A"}},{"$f":"VLOOKUP(H43,Results!$A$8:$G$104,2,FALSE)","v":{"$error":"#N/A"}},{"$f":"VLOOKUP(H43,Results!$A$8:$G$104,4,FALSE)","v":{"$error":"#N/A"}},{"$f":"VLOOKUP(H43,Results!$A$8:$G$104,7,FALSE)","v":{"$error":"#N/A"}},{"$f":"VLOOKUP(H43,$B$4:B43,1,FALSE)","v":{"$error":"#N/A"}}]
[null,{"$f":"Results!A47","v":0},{"$f":"Results!C47","v":0},{"$f":"Results!B47","v":0},{"$f":"Results!D47","v":0},{"$f":"Results!G47","v":""},"- vs -",{"$f":"VLOOKUP(B44,Results!$A$8:$AG$104,16,FALSE)","v":{"$error":"#N/A"}},{"$f":"VLOOKUP(H44,Results!A$8:$G$104,3,FALSE)","v":{"$error":"#N/A"}},{"$f":"VLOOKUP(H44,Results!$A$8:$G$104,2,FALSE)","v":{"$error":"#N/A"}},{"$f":"VLOOKUP(H44,Results!$A$8:$G$104,4,FALSE)","v":{"$error":"#N/A"}},{"$f":"VLOOKUP(H44,Results!$A$8:$G$104,7,FALSE)","v":{"$error":"#N/A"}},{"$f":"VLOOKUP(H44,$B$4:B44,1,FALSE)","v":{"$error":"#N/A"}}]
[null,{"$f":"Results!A48","v":0},{"$f":"Results!C48","v":0},{"$f":"Results!B48","v":0},{"$f":"Results!D48","v":0},{"$f":"Results!G48","v":""},"- vs -",{"$f":"VLOOKUP(B45,Results!$A$8:$AG$104,16,FALSE)","v":{"$error":"#N/A"}},{"$f":"VLOOKUP(H45,Results!A$8:$G$104,3,FALSE)","v":{"$error":"#N/A"}},{"$f":"VLOOKUP(H45,Results!$A$8:$G$104,2,FALSE)","v":{"$error":"#N/A"}},{"$f":"VLOOKUP(H45,Results!$A$8:$G$104,4,FALSE)","v":{"$error":"#N/A"}},{"$f":"VLOOKUP(H45,Results!$A$8:$G$104,7,FALSE)","v":{"$error":"#N/A"}},{"$f":"VLOOKUP(H45,$B$4:B45,1,FALSE)","v":{"$error":"#N/A"}}]
[null,{"$f":"Results!A49","v":0},{"$f":"Results!C49","v":0},{"$f":"Results!B49","v":0},{"$f":"Results!D49","v":0},{"$f":"Results!G49","v":""},"- vs -",{"$f":"VLOOKUP(B46,Results!$A$8:$AG$104,16,FALSE)","v":{"$error":"#N/A"}},{"$f":"VLOOKUP(H46,Results!A$8:$G$104,3,FALSE)","v":{"$error":"#N/A"}},{"$f":"VLOOKUP(H46,Results!$A$8:$G$104,2,FALSE)","v":{"$error":"#N/A"}},{"$f":"VLOOKUP(H46,Results!$A$8:$G$104,4,FALSE)","v":{"$error":"#N/A"}},{"$f":"VLOOKUP(H46,Results!$A$8:$G$104,7,FALSE)","v":{"$error":"#N/A"}},{"$f":"VLOOKUP(H46,$B$4:B46,1,FALSE)","v":{"$error":"#N/A"}}]
[null,{"$f":"Results!A50","v":0},{"$f":"Results!C50","v":0},{"$f":"Results!B50","v":0},{"$f":"Results!D50","v":0},{"$f":"Results!G50","v":""},"- vs -",{"$f":"VLOOKUP(B47,Results!$A$8:$AG$104,16,FALSE)","v":{"$error":"#N/A"}},{"$f":"VLOOKUP(H47,Results!A$8:$G$104,3,FALSE)","v":{"$error":"#N/A"}},{"$f":"VLOOKUP(H47,Results!$A$8:$G$104,2,FALSE)","v":{"$error":"#N/A"}},{"$f":"VLOOKUP(H47,Results!$A$8:$G$104,4,FALSE)","v":{"$error":"#N/A"}},{"$f":"VLOOKUP(H47,Results!$A$8:$G$104,7,FALSE)","v":{"$error":"#N/A"}},{"$f":"VLOOKUP(H47,$B$4:B47,1,FALSE)","v":{"$error":"#N/A"}}]
[null,{"$f":"Results!A51","v":0},{"$f":"Results!C51","v":0},{"$f":"Results!B51","v":0},{"$f":"Results!D51","v":0},{"$f":"Results!G51","v":""},"- vs -",{"$f":"VLOOKUP(B48,Results!$A$8:$AG$104,16,FALSE)","v":{"$error":"#N/A"}},{"$f":"VLOOKUP(H48,Results!A$8:$G$104,3,FALSE)","v":{"$error":"#N/A"}},{"$f":"VLOOKUP(H48,Results!$A$8:$G$104,2,FALSE)","v":{"$error":"#N/A"}},{"$f":"VLOOKUP(H48,Results!$A$8:$G$104,4,FALSE)","v":{"$error":"#N/A"}},{"$f":"VLOOKUP(H48,Results!$A$8:$G$104,7,FALSE)","v":{"$error":"#N/A"}},{"$f":"VLOOKUP(H48,$B$4:B48,1,FALSE)","v":{"$error":"#N/A"}}]
[null,{"$f":"Results!A52","v":0},{"$f":"Results!C52","v":0},{"$f":"Results!B52","v":0},{"$f":"Results!D52","v":0},{"$f":"Results!G52","v":""},"- vs -",{"$f":"VLOOKUP(B49,Results!$A$8:$AG$104,16,FALSE)","v":{"$error":"#N/A"}},{"$f":"VLOOKUP(H49,Results!A$8:$G$104,3,FALSE)","v":{"$error":"#N/A"}},{"$f":"VLOOKUP(H49,Results!$A$8:$G$104,2,FALSE)","v":{"$error":"#N/A"}},{"$f":"VLOOKUP(H49,Results!$A$8:$G$104,4,FALSE)","v":{"$error":"#N/A"}},{"$f":"VLOOKUP(H49,Results!$A$8:$G$104,7,FALSE)","v":{"$error":"#N/A"}},{"$f":"VLOOKUP(H49,$B$4:B49,1,FALSE)","v":{"$error":"#N/A"}}]
[null,{"$f":"Results!A53","v":0},{"$f":"Results!C53","v":0},{"$f":"Results!B53","v":0},{"$f":"Results!D53","v":0},{"$f":"Results!G53","v":""},"- vs -",{"$f":"VLOOKUP(B50,Results!$A$8:$AG$104,16,FALSE)","v":{"$error":"#N/A"}},{"$f":"VLOOKUP(H50,Results!A$8:$G$104,3,FALSE)","v":{"$error":"#N/A"}},{"$f":"VLOOKUP(H50,Results!$A$8:$G$104,2,FALSE)","v":{"$error":"#N/A"}},{"$f":"VLOOKUP(H50,Results!$A$8:$G$104,4,FALSE)","v":{"$error":"#N/A"}},{"$f":"VLOOKUP(H50,Results!$A$8:$G$104,7,FALSE)","v":{"$error":"#N/A"}},{"$f":"VLOOKUP(H50,$B$4:B50,1,FALSE)","v":{"$error":"#N/A"}}]
[null,{"$f":"Results!A54","v":0},{"$f":"Results!C54","v":0},{"$f":"Results!B54","v":0},{"$f":"Results!D54","v":0},{"$f":"Results!G54","v":""},"- vs -",{"$f":"VLOOKUP(B51,Results!$A$8:$AG$104,16,FALSE)","v":{"$error":"#N/A"}},{"$f":"VLOOKUP(H51,Results!A$8:$G$104,3,FALSE)","v":{"$error":"#N/A"}},{"$f":"VLOOKUP(H51,Results!$A$8:$G$104,2,FALSE)","v":{"$error":"#N/A"}},{"$f":"VLOOKUP(H51,Results!$A$8:$G$104,4,FALSE)","v":{"$error":"#N/A"}},{"$f":"VLOOKUP(H51,Results!$A$8:$G$104,7,FALSE)","v":{"$error":"#N/A"}},{"$f":"VLOOKUP(H51,$B$4:B51,1,FALSE)","v":{"$error":"#N/A"}}]
[null,{"$f":"Results!A55","v":0},{"$f":"Results!C55","v":0},{"$f":"Results!B55","v":0},{"$f":"Results!D55","v":0},{"$f":"Results!G55","v":""},"- vs -",{"$f":"VLOOKUP(B52,Results!$A$8:$AG$104,16,FALSE)","v":{"$error":"#N/A"}},{"$f":"VLOOKUP(H52,Results!A$8:$G$104,3,FALSE)","v":{"$error":"#N/A"}},{"$f":"VLOOKUP(H52,Results!$A$8:$G$104,2,FALSE)","v":{"$error":"#N/A"}},{"$f":"VLOOKUP(H52,Results!$A$8:$G$104,4,FALSE)","v":{"$error":"#N/A"}},{"$f":"VLOOKUP(H52,Results!$A$8:$G$104,7,FALSE)","v":{"$error":"#N/A"}},{"$f":"VLOOKUP(H52,$B$4:B52,1,FALSE)","v":{"$error":"#N/A"}}]
[null,{"$f":"Results!A56","v":0},{"$f":"Results!C56","v":0},{"$f":"Results!B56","v":0},{"$f":"Results!D56","v":0},{"$f":"Results!G56","v":""},"- vs -",{"$f":"VLOOKUP(B53,Results!$A$8:$AG$104,16,FALSE)","v":{"$error":"#N/A"}},{"$f":"VLOOKUP(H53,Results!A$8:$G$104,3,FALSE)","v":{"$error":"#N/A"}},{"$f":"VLOOKUP(H53,Results!$A$8:$G$104,2,FALSE)","v":{"$error":"#N/A"}},{"$f":"VLOOKUP(H53,Results!$A$8:$G$104,4,FALSE)","v":{"$error":"#N/A"}},{"$f":"VLOOKUP(H53,Results!$A$8:$G$104,7,FALSE)","v":{"$error":"#N/A"}},{"$f":"VLOOKUP(H53,$B$4:B53,1,FALSE)","v":{"$error":"#N/A"}}]
[null,{"$f":"Results!A57","v":0},{"$f":"Results!C57","v":0},{"$f":"Results!B57","v":0},{"$f":"Results!D57","v":0},{"$f":"Results!G57","v":""},"- vs -",{"$f":"VLOOKUP(B54,Results!$A$8:$AG$104,16,FALSE)","v":{"$error":"#N/A"}},{"$f":"VLOOKUP(H54,Results!A$8:$G$104,3,FALSE)","v":{"$error":"#N/A"}},{"$f":"VLOOKUP(H54,Results!$A$8:$G$104,2,FALSE)","v":{"$error":"#N/A"}},{"$f":"VLOOKUP(H54,Results!$A$8:$G$104,4,FALSE)","v":{"$error":"#N/A"}},{"$f":"VLOOKUP(H54,Results!$A$8:$G$104,7,FALSE)","v":{"$error":"#N/A"}},{"$f":"VLOOKUP(H54,$B$4:B54,1,FALSE)","v":{"$error":"#N/A"}}]
[null,{"$f":"Results!A58","v":0},{"$f":"Results!C58","v":0},{"$f":"Results!B58","v":0},{"$f":"Results!D58","v":0},{"$f":"Results!G58","v":""},"- vs -",{"$f":"VLOOKUP(B55,Results!$A$8:$AG$104,16,FALSE)","v":{"$error":"#N/A"}},{"$f":"VLOOKUP(H55,Results!A$8:$G$104,3,FALSE)","v":{"$error":"#N/A"}},{"$f":"VLOOKUP(H55,Results!$A$8:$G$104,2,FALSE)","v":{"$error":"#N/A"}},{"$f":"VLOOKUP(H55,Results!$A$8:$G$104,4,FALSE)","v":{"$error":"#N/A"}},{"$f":"VLOOKUP(H55,Results!$A$8:$G$104,7,FALSE)","v":{"$error":"#N/A"}},{"$f":"VLOOKUP(H55,$B$4:B55,1,FALSE)","v":{"$error":"#N/A"}}]
[null,{"$f":"Results!A59","v":0},{"$f":"Results!C59","v":0},{"$f":"Results!B59","v":0},{"$f":"Results!D59","v":0},{"$f":"Results!G59","v":""},"- vs -",{"$f":"VLOOKUP(B56,Results!$A$8:$AG$104,16,FALSE)","v":{"$error":"#N/A"}},{"$f":"VLOOKUP(H56,Results!A$8:$G$104,3,FALSE)","v":{"$error":"#N/A"}},{"$f":"VLOOKUP(H56,Results!$A$8:$G$104,2,FALSE)","v":{"$error":"#N/A"}},{"$f":"VLOOKUP(H56,Results!$A$8:$G$104,4,FALSE)","v":{"$error":"#N/A"}},{"$f":"VLOOKUP(H56,Results!$A$8:$G$104,7,FALSE)","v":{"$error":"#N/A"}},{"$f":"VLOOKUP(H56,$B$4:B56,1,FALSE)","v":{"$error":"#N/A"}}]
[null,{"$f":"Results!A60","v":0},{"$f":"Results!C60","v":0},{"$f":"Results!B60","v":0},{"$f":"Results!D60","v":0},{"$f":"Results!G60","v":""},"- vs -",{"$f":"VLOOKUP(B57,Results!$A$8:$AG$104,16,FALSE)","v":{"$error":"#N/A"}},{"$f":"VLOOKUP(H57,Results!A$8:$G$104,3,FALSE)","v":{"$error":"#N/A"}},{"$f":"VLOOKUP(H57,Results!$A$8:$G$104,2,FALSE)","v":{"$error":"#N/A"}},{"$f":"VLOOKUP(H57,Results!$A$8:$G$104,4,FALSE)","v":{"$error":"#N/A"}},{"$f":"VLOOKUP(H57,Results!$A$8:$G$104,7,FALSE)","v":{"$error":"#N/A"}},{"$f":"VLOOKUP(H57,$B$4:B57,1,FALSE)","v":{"$error":"#N/A"}}]
[null,{"$f":"Results!A61","v":0},{"$f":"Results!C61","v":0},{"$f":"Results!B61","v":0},{"$f":"Results!D61","v":0},{"$f":"Results!G61","v":""},"- vs -",{"$f":"VLOOKUP(B58,Results!$A$8:$AG$104,16,FALSE)","v":{"$error":"#N/A"}},{"$f":"VLOOKUP(H58,Results!A$8:$G$104,3,FALSE)","v":{"$error":"#N/A"}},{"$f":"VLOOKUP(H58,Results!$A$8:$G$104,2,FALSE)","v":{"$error":"#N/A"}},{"$f":"VLOOKUP(H58,Results!$A$8:$G$104,4,FALSE)","v":{"$error":"#N/A"}},{"$f":"VLOOKUP(H58,Results!$A$8:$G$104,7,FALSE)","v":{"$error":"#N/A"}},{"$f":"VLOOKUP(H58,$B$4:B58,1,FALSE)","v":{"$error":"#N/A"}}]
[null,{"$f":"Results!A62","v":0},{"$f":"Results!C62","v":0},{"$f":"Results!B62","v":0},{"$f":"Results!D62","v":0},{"$f":"Results!G62","v":""},"- vs -",{"$f":"VLOOKUP(B59,Results!$A$8:$AG$104,16,FALSE)","v":{"$error":"#N/A"}},{"$f":"VLOOKUP(H59,Results!A$8:$G$104,3,FALSE)","v":{"$error":"#N/A"}},{"$f":"VLOOKUP(H59,Results!$A$8:$G$104,2,FALSE)","v":{"$error":"#N/A"}},{"$f":"VLOOKUP(H59,Results!$A$8:$G$104,4,FALSE)","v":{"$error":"#N/A"}},{"$f":"VLOOKUP(H59,Results!$A$8:$G$104,7,FALSE)","v":{"$error":"#N/A"}},{"$f":"VLOOKUP(H59,$B$4:B59,1,FALSE)","v":{"$error":"#N/A"}}]
[null,{"$f":"Results!A63","v":0},{"$f":"Results!C63","v":0},{"$f":"Results!B63","v":0},{"$f":"Results!D63","v":0},{"$f":"Results!G63","v":""},"- vs -",{"$f":"VLOOKUP(B60,Results!$A$8:$AG$104,16,FALSE)","v":{"$error":"#N/A"}},{"$f":"VLOOKUP(H60,Results!A$8:$G$104,3,FALSE)","v":{"$error":"#N/A"}},{"$f":"VLOOKUP(H60,Results!$A$8:$G$104,2,FALSE)","v":{"$error":"#N/A"}},{"$f":"VLOOKUP(H60,Results!$A$8:$G$104,4,FALSE)","v":{"$error":"#N/A"}},{"$f":"VLOOKUP(H60,Results!$A$8:$G$104,7,FALSE)","v":{"$error":"#N/A"}},{"$f":"VLOOKUP(H60,$B$4:B60,1,FALSE)","v":{"$error":"#N/A"}}]
[null,{"$f":"Results!A64","v":0},{"$f":"Results!C64","v":0},{"$f":"Results!B64","v":0},{"$f":"Results!D64","v":0},{"$f":"Results!G64","v":""},"- vs -",{"$f":"VLOOKUP(B61,Results!$A$8:$AG$104,16,FALSE)","v":{"$error":"#N/A"}},{"$f":"VLOOKUP(H61,Results!A$8:$G$104,3,FALSE)","v":{"$error":"#N/A"}},{"$f":"VLOOKUP(H61,Results!$A$8:$G$104,2,FALSE)","v":{"$error":"#N/A"}},{"$f":"VLOOKUP(H61,Results!$A$8:$G$104,4,FALSE)","v":{"$error":"#N/A"}},{"$f":"VLOOKUP(H61,Results!$A$8:$G$104,7,FALSE)","v":{"$error":"#N/A"}},{"$f":"VLOOKUP(H61,$B$4:B61,1,FALSE)","v":{"$error":"#N/A"}}]
[null,{"$f":"Results!A65","v":0},{"$f":"Results!C65","v":0},{"$f":"Results!B65","v":0},{"$f":"Results!D65","v":0},{"$f":"Results!G65","v":""},"- vs -",{"$f":"VLOOKUP(B62,Results!$A$8:$AG$104,16,FALSE)","v":{"$error":"#N/A"}},{"$f":"VLOOKUP(H62,Results!A$8:$G$104,3,FALSE)","v":{"$error":"#N/A"}},{"$f":"VLOOKUP(H62,Results!$A$8:$G$104,2,FALSE)","v":{"$error":"#N/A"}},{"$f":"VLOOKUP(H62,Results!$A$8:$G$104,4,FALSE)","v":{"$error":"#N/A"}},{"$f":"VLOOKUP(H62,Results!$A$8:$G$104,7,FALSE)","v":{"$error":"#N/A"}},{"$f":"VLOOKUP(H62,$B$4:B62,1,FALSE)","v":{"$error":"#N/A"}}]
[null,{"$f":"Results!A66","v":0},{"$f":"Results!C66","v":0},{"$f":"Results!B66","v":0},{"$f":"Results!D66","v":0},{"$f":"Results!G66","v":""},"- vs -",{"$f":"VLOOKUP(B63,Results!$A$8:$AG$104,16,FALSE)","v":{"$error":"#N/A"}},{"$f":"VLOOKUP(H63,Results!A$8:$G$104,3,FALSE)","v":{"$error":"#N/A"}},{"$f":"VLOOKUP(H63,Results!$A$8:$G$104,2,FALSE)","v":{"$error":"#N/A"}},{"$f":"VLOOKUP(H63,Results!$A$8:$G$104,4,FALSE)","v":{"$error":"#N/A"}},{"$f":"VLOOKUP(H63,Results!$A$8:$G$104,7,FALSE)","v":{"$error":"#N/A"}},{"$f":"VLOOKUP(H63,$B$4:B63,1,FALSE)","v":{"$error":"#N/A"}}]
[null,{"$f":"Results!A67","v":0},{"$f":"Results!C67","v":0},{"$f":"Results!B67","v":0},{"$f":"Results!D67","v":0},{"$f":"Results!G67","v":""},"- vs -",{"$f":"VLOOKUP(B64,Results!$A$8:$AG$104,16,FALSE)","v":{"$error":"#N/A"}},{"$f":"VLOOKUP(H64,Results!A$8:$G$104,3,FALSE)","v":{"$error":"#N/A"}},{"$f":"VLOOKUP(H64,Results!$A$8:$G$104,2,FALSE)","v":{"$error":"#N/A"}},{"$f":"VLOOKUP(H64,Results!$A$8:$G$104,4,FALSE)","v":{"$error":"#N/A"}},{"$f":"VLOOKUP(H64,Results!$A$8:$G$104,7,FALSE)","v":{"$error":"#N/A"}}]
[null,{"$f":"Results!A68","v":0},{"$f":"Results!C68","v":0},{"$f":"Results!B68","v":0},{"$f":"Results!D68","v":0},{"$f":"Results!G68","v":""},"- vs -",{"$f":"VLOOKUP(B65,Results!$A$8:$AG$104,16,FALSE)","v":{"$error":"#N/A"}},{"$f":"VLOOKUP(H65,Results!A$8:$G$104,3,FALSE)","v":{"$error":"#N/A"}},{"$f":"VLOOKUP(H65,Results!$A$8:$G$104,2,FALSE)","v":{"$error":"#N/A"}},{"$f":"VLOOKUP(H65,Results!$A$8:$G$104,4,FALSE)","v":{"$error":"#N/A"}},{"$f":"VLOOKUP(H65,Results!$A$8:$G$104,7,FALSE)","v":{"$error":"#N/A"}}]
[null,{"$f":"Results!A69","v":0},{"$f":"Results!C69","v":0},{"$f":"Results!B69","v":0},{"$f":"Results!D69","v":0},{"$f":"Results!G69","v":""},"- vs -",{"$f":"VLOOKUP(B66,Results!$A$8:$AG$104,16,FALSE)","v":{"$error":"#N/A"}},{"$f":"VLOOKUP(H66,Results!A$8:$G$104,3,FALSE)","v":{"$error":"#N/A"}},{"$f":"VLOOKUP(H66,Results!$A$8:$G$104,2,FALSE)","v":{"$error":"#N/A"}},{"$f":"VLOOKUP(H66,Results!$A$8:$G$104,4,FALSE)","v":{"$error":"#N/A"}},{"$f":"VLOOKUP(H66,Results!$A$8:$G$104,7,FALSE)","v":{"$error":"#N/A"}}]
[null,{"$f":"Results!A70","v":0},{"$f":"Results!C70","v":0},{"$f":"Results!B70","v":0},{"$f":"Results!D70","v":0},{"$f":"Results!G70","v":""},"- vs -",{"$f":"VLOOKUP(B67,Results!$A$8:$AG$104,16,FALSE)","v":{"$error":"#N/A"}},{"$f":"VLOOKUP(H67,Results!A$8:$G$104,3,FALSE)","v":{"$error":"#N/A"}},{"$f":"VLOOKUP(H67,Results!$A$8:$G$104,2,FALSE)","v":{"$error":"#N/A"}},{"$f":"VLOOKUP(H67,Results!$A$8:$G$104,4,FALSE)","v":{"$error":"#N/A"}},{"$f":"VLOOKUP(H67,Results!$A$8:$G$104,7,FALSE)","v":{"$error":"#N/A"}}]
[null,{"$f":"Results!A71","v":0},{"$f":"Results!C71","v":0},{"$f":"Results!B71","v":0},{"$f":"Results!D71","v":0},{"$f":"Results!G71","v":""},"- vs -",{"$f":"VLOOKUP(B68,Results!$A$8:$AG$104,16,FALSE)","v":{"$error":"#N/A"}},{"$f":"VLOOKUP(H68,Results!A$8:$G$104,3,FALSE)","v":{"$error":"#N/A"}},{"$f":"VLOOKUP(H68,Results!$A$8:$G$104,2,FALSE)","v":{"$error":"#N/A"}},{"$f":"VLOOKUP(H68,Results!$A$8:$G$104,4,FALSE)","v":{"$error":"#N/A"}},{"$f":"VLOOKUP(H68,Results!$A$8:$G$104,7,FALSE)","v":{"$error":"#N/A"}}]
[null,{"$f":"Results!A72","v":0},{"$f":"Results!C72","v":0},{"$f":"Results!B72","v":0},{"$f":"Results!D72","v":0},{"$f":"Results!G72","v":""},"- vs -",{"$f":"VLOOKUP(B69,Results!$A$8:$AG$104,16,FALSE)","v":{"$error":"#N/A"}},{"$f":"VLOOKUP(H69,Results!A$8:$G$104,3,FALSE)","v":{"$error":"#N/A"}},{"$f":"VLOOKUP(H69,Results!$A$8:$G$104,2,FALSE)","v":{"$error":"#N/A"}},{"$f":"VLOOKUP(H69,Results!$A$8:$G$104,4,FALSE)","v":{"$error":"#N/A"}},{"$f":"VLOOKUP(H69,Results!$A$8:$G$104,7,FALSE)","v":{"$error":"#N/A"}}]
[null,{"$f":"Results!A73","v":0},{"$f":"Results!C73","v":0},{"$f":"Results!B73","v":0},{"$f":"Results!D73","v":0},{"$f":"Results!G73","v":""},"- vs -",{"$f":"VLOOKUP(B70,Results!$A$8:$AG$104,16,FALSE)","v":{"$error":"#N/A"}},{"$f":"VLOOKUP(H70,Results!A$8:$G$104,3,FALSE)","v":{"$error":"#N/A"}},{"$f":"VLOOKUP(H70,Results!$A$8:$G$104,2,FALSE)","v":{"$error":"#N/A"}},{"$f":"VLOOKUP(H70,Results!$A$8:$G$104,4,FALSE)","v":{"$error":"#N/A"}},{"$f":"VLOOKUP(H70,Results!$A$8:$G$104,7,FALSE)","v":{"$error":"#N/A"}}]
[null,{"$f":"Results!A74","v":0},{"$f":"Results!C74","v":0},{"$f":"Results!B74","v":0},{"$f":"Results!D74","v":0},{"$f":"Results!G74","v":""},"- vs -",{"$f":"VLOOKUP(B71,Results!$A$8:$AG$104,16,FALSE)","v":{"$error":"#N/A"}},{"$f":"VLOOKUP(H71,Results!A$8:$G$104,3,FALSE)","v":{"$error":"#N/A"}},{"$f":"VLOOKUP(H71,Results!$A$8:$G$104,2,FALSE)","v":{"$error":"#N/A"}},{"$f":"VLOOKUP(H71,Results!$A$8:$G$104,4,FALSE)","v":{"$error":"#N/A"}},{"$f":"VLOOKUP(H71,Results!$A$8:$G$104,7,FALSE)","v":{"$error":"#N/A"}}]
[null,{"$f":"Results!A75","v":0},{"$f":"Results!C75","v":0},{"$f":"Results!B75","v":0},{"$f":"Results!D75","v":0},{"$f":"Results!G75","v":""},"- vs -",{"$f":"VLOOKUP(B72,Results!$A$8:$AG$104,16,FALSE)","v":{"$error":"#N/A"}},{"$f":"VLOOKUP(H72,Results!A$8:$G$104,3,FALSE)","v":{"$error":"#N/A"}},{"$f":"VLOOKUP(H72,Results!$A$8:$G$104,2,FALSE)","v":{"$error":"#N/A"}},{"$f":"VLOOKUP(H72,Results!$A$8:$G$104,4,FALSE)","v":{"$error":"#N/A"}},{"$f":"VLOOKUP(H72,Results!$A$8:$G$104,7,FALSE)","v":{"$error":"#N/A"}}]
[null,{"$f":"Results!A76","v":0},{"$f":"Results!C76","v":0},{"$f":"Results!B76","v":0},{"$f":"Results!D76","v":0},{"$f":"Results!G76","v":""},"- vs -",{"$f":"VLOOKUP(B73,Results!$A$8:$AG$104,16,FALSE)","v":{"$error":"#N/A"}},{"$f":"VLOOKUP(H73,Results!A$8:$G$104,3,FALSE)","v":{"$error":"#N/A"}},{"$f":"VLOOKUP(H73,Results!$A$8:$G$104,2,FALSE)","v":{"$error":"#N/A"}},{"$f":"VLOOKUP(H73,Results!$A$8:$G$104,4,FALSE)","v":{"$error":"#N/A"}},{"$f":"VLOOKUP(H73,Results!$A$8:$G$104,7,FALSE)","v":{"$error":"#N/A"}}]
[null,{"$f":"Results!A77","v":0},{"$f":"Results!C77","v":0},{"$f":"Results!B77","v":0},{"$f":"Results!D77","v":0},{"$f":"Results!G77","v":""},"- vs -",{"$f":"VLOOKUP(B74,Results!$A$8:$AG$104,16,FALSE)","v":{"$error":"#N/A"}},{"$f":"VLOOKUP(H74,Results!A$8:$G$104,3,FALSE)","v":{"$error":"#N/A"}},{"$f":"VLOOKUP(H74,Results!$A$8:$G$104,2,FALSE)","v":{"$error":"#N/A"}},{"$f":"VLOOKUP(H74,Results!$A$8:$G$104,4,FALSE)","v":{"$error":"#N/A"}},{"$f":"VLOOKUP(H74,Results!$A$8:$G$104,7,FALSE)","v":{"$error":"#N/A"}}]
[null,{"$f":"Results!A78","v":0},{"$f":"Results!C78","v":0},{"$f":"Results!B78","v":0},{"$f":"Results!D78","v":0},{"$f":"Results!G78","v":""},"- vs -",{"$f":"VLOOKUP(B75,Results!$A$8:$AG$104,16,FALSE)","v":{"$error":"#N/A"}},{"$f":"VLOOKUP(H75,Results!A$8:$G$104,3,FALSE)","v":{"$error":"#N/A"}},{"$f":"VLOOKUP(H75,Results!$A$8:$G$104,2,FALSE)","v":{"$error":"#N/A"}},{"$f":"VLOOKUP(H75,Results!$A$8:$G$104,4,FALSE)","v":{"$error":"#N/A"}},{"$f":"VLOOKUP(H75,Results!$A$8:$G$104,7,FALSE)","v":{"$error":"#N/A"}}]
[null,{"$f":"Results!A79","v":0},{"$f":"Results!C79","v":0},{"$f":"Results!B79","v":0},{"$f":"Results!D79","v":0},{"$f":"Results!G79","v":""},"- vs -",{"$f":"VLOOKUP(B76,Results!$A$8:$AG$104,16,FALSE)","v":{"$error":"#N/A"}},{"$f":"VLOOKUP(H76,Results!A$8:$G$104,3,FALSE)","v":{"$error":"#N/A"}},{"$f":"VLOOKUP(H76,Results!$A$8:$G$104,2,FALSE)","v":{"$error":"#N/A"}},{"$f":"VLOOKUP(H76,Results!$A$8:$G$104,4,FALSE)","v":{"$error":"#N/A"}},{"$f":"VLOOKUP(H76,Results!$A$8:$G$104,7,FALSE)","v":{"$error":"#N/A"}}]
[null,{"$f":"Results!A80","v":0},{"$f":"Results!C80","v":0},{"$f":"Results!B80","v":0},{"$f":"Results!D80","v":0},{"$f":"Results!G80","v":""},"- vs -",{"$f":"VLOOKUP(B77,Results!$A$8:$AG$104,16,FALSE)","v":{"$error":"#N/A"}},{"$f":"VLOOKUP(H77,Results!A$8:$G$104,3,FALSE)","v":{"$error":"#N/A"}},{"$f":"VLOOKUP(H77,Results!$A$8:$G$104,2,FALSE)","v":{"$error":"#N/A"}},{"$f":"VLOOKUP(H77,Results!$A$8:$G$104,4,FALSE)","v":{"$error":"#N/A"}},{"$f":"VLOOKUP(H77,Results!$A$8:$G$104,7,FALSE)","v":{"$error":"#N/A"}}]
[null,{"$f":"Results!A81","v":0},{"$f":"Results!C81","v":0},{"$f":"Results!B81","v":0},{"$f":"Results!D81","v":0},{"$f":"Results!G81","v":""},"- vs -",{"$f":"VLOOKUP(B78,Results!$A$8:$AG$104,16,FALSE)","v":{"$error":"#N/A"}},{"$f":"VLOOKUP(H78,Results!A$8:$G$104,3,FALSE)","v":{"$error":"#N/A"}},{"$f":"VLOOKUP(H78,Results!$A$8:$G$104,2,FALSE)","v":{"$error":"#N/A"}},{"$f":"VLOOKUP(H78,Results!$A$8:$G$104,4,FALSE)","v":{"$error":"#N/A"}},{"$f":"VLOOKUP(H78,Results!$A$8:$G$104,7,FALSE)","v":{"$error":"#N/A"}}]
[null,{"$f":"Results!A82","v":0},{"$f":"Results!C82","v":0},{"$f":"Results!B82","v":0},{"$f":"Results!D82","v":0},{"$f":"Results!G82","v":""},"- vs -",{"$f":"VLOOKUP(B79,Results!$A$8:$AG$104,16,FALSE)","v":{"$error":"#N/A"}},{"$f":"VLOOKUP(H79,Results!A$8:$G$104,3,FALSE)","v":{"$error":"#N/A"}},{"$f":"VLOOKUP(H79,Results!$A$8:$G$104,2,FALSE)","v":{"$error":"#N/A"}},{"$f":"VLOOKUP(H79,Results!$A$8:$G$104,4,FALSE)","v":{"$error":"#N/A"}},{"$f":"VLOOKUP(H79,Results!$A$8:$G$104,7,FALSE)","v":{"$error":"#N/A"}}]
[null,{"$f":"Results!A83","v":0},{"$f":"Results!C83","v":0},{"$f":"Results!B83","v":0},{"$f":"Results!D83","v":0},{"$f":"Results!G83","v":""},"- vs -",{"$f":"VLOOKUP(B80,Results!$A$8:$AG$104,16,FALSE)","v":{"$error":"#N/A"}},{"$f":"VLOOKUP(H80,Results!A$8:$G$104,3,FALSE)","v":{"$error":"#N/A"}},{"$f":"VLOOKUP(H80,Results!$A$8:$G$104,2,FALSE)","v":{"$error":"#N/A"}},{"$f":"VLOOKUP(H80,Results!$A$8:$G$104,4,FALSE)","v":{"$error":"#N/A"}},{"$f":"VLOOKUP(H80,Results!$A$8:$G$104,7,FALSE)","v":{"$error":"#N/A"}}]
[null,{"$f":"Results!A84","v":0},{"$f":"Results!C84","v":0},{"$f":"Results!B84","v":0},{"$f":"Results!D84","v":0},{"$f":"Results!G84","v":""},"- vs -",{"$f":"VLOOKUP(B81,Results!$A$8:$AG$104,16,FALSE)","v":{"$error":"#N/A"}},{"$f":"VLOOKUP(H81,Results!A$8:$G$104,3,FALSE)","v":{"$error":"#N/A"}},{"$f":"VLOOKUP(H81,Results!$A$8:$G$104,2,FALSE)","v":{"$error":"#N/A"}},{"$f":"VLOOKUP(H81,Results!$A$8:$G$104,4,FALSE)","v":{"$error":"#N/A"}},{"$f":"VLOOKUP(H81,Results!$A$8:$G$104,7,FALSE)","v":{"$error":"#N/A"}}]
[null,{"$f":"Results!A85","v":0},{"$f":"Results!C85","v":0},{"$f":"Results!B85","v":0},{"$f":"Results!D85","v":0},{"$f":"Results!G85","v":""},"- vs -",{"$f":"VLOOKUP(B82,Results!$A$8:$AG$104,16,FALSE)","v":{"$error":"#N/A"}},{"$f":"VLOOKUP(H82,Results!A$8:$G$104,3,FALSE)","v":{"$error":"#N/A"}},{"$f":"VLOOKUP(H82,Results!$A$8:$G$104,2,FALSE)","v":{"$error":"#N/A"}},{"$f":"VLOOKUP(H82,Results!$A$8:$G$104,4,FALSE)","v":{"$error":"#N/A"}},{"$f":"VLOOKUP(H82,Results!$A$8:$G$104,7,FALSE)","v":{"$error":"#N/A"}}]
[null,{"$f":"Results!A86","v":0},{"$f":"Results!C86","v":0},{"$f":"Results!B86","v":0},{"$f":"Results!D86","v":0},{"$f":"Results!G86","v":""},"- vs -",{"$f":"VLOOKUP(B83,Results!$A$8:$AG$104,16,FALSE)","v":{"$error":"#N/A"}},{"$f":"VLOOKUP(H83,Results!A$8:$G$104,3,FALSE)","v":{"$error":"#N/A"}},{"$f":"VLOOKUP(H83,Results!$A$8:$G$104,2,FALSE)","v":{"$error":"#N/A"}},{"$f":"VLOOKUP(H83,Results!$A$8:$G$104,4,FALSE)","v":{"$error":"#N/A"}},{"$f":"VLOOKUP(H83,Results!$A$8:$G$104,7,FALSE)","v":{"$error":"#N/A"}}]
[null,{"$f":"Results!A87","v":0},{"$f":"Results!C87","v":0},{"$f":"Results!B87","v":0},{"$f":"Results!D87","v":0},{"$f":"Results!G87","v":""},"- vs -",{"$f":"VLOOKUP(B84,Results!$A$8:$AG$104,16,FALSE)","v":{"$error":"#N/A"}},{"$f":"VLOOKUP(H84,Results!A$8:$G$104,3,FALSE)","v":{"$error":"#N/A"}},{"$f":"VLOOKUP(H84,Results!$A$8:$G$104,2,FALSE)","v":{"$error":"#N/A"}},{"$f":"VLOOKUP(H84,Results!$A$8:$G$104,4,FALSE)","v":{"$error":"#N/A"}},{"$f":"VLOOKUP(H84,Results!$A$8:$G$104,7,FALSE)","v":{"$error":"#N/A"}}]
[null,{"$f":"Results!A88","v":0},{"$f":"Results!C88","v":0},{"$f":"Results!B88","v":0},{"$f":"Results!D88","v":0},{"$f":"Results!G88","v":""},"- vs -",{"$f":"VLOOKUP(B85,Results!$A$8:$AG$104,16,FALSE)","v":{"$error":"#N/A"}},{"$f":"VLOOKUP(H85,Results!A$8:$G$104,3,FALSE)","v":{"$error":"#N/A"}},{"$f":"VLOOKUP(H85,Results!$A$8:$G$104,2,FALSE)","v":{"$error":"#N/A"}},{"$f":"VLOOKUP(H85,Results!$A$8:$G$104,4,FALSE)","v":{"$error":"#N/A"}},{"$f":"VLOOKUP(H85,Results!$A$8:$G$104,7,FALSE)","v":{"$error":"#N/A"}}]
[null,{"$f":"Results!A89","v":0},{"$f":"Results!C89","v":0},{"$f":"Results!B89","v":0},{"$f":"Results!D89","v":0},{"$f":"Results!G89","v":""},"- vs -",{"$f":"VLOOKUP(B86,Results!$A$8:$AG$104,16,FALSE)","v":{"$error":"#N/A"}},{"$f":"VLOOKUP(H86,Results!A$8:$G$104,3,FALSE)","v":{"$error":"#N/A"}},{"$f":"VLOOKUP(H86,Results!$A$8:$G$104,2,FALSE)","v":{"$error":"#N/A"}},{"$f":"VLOOKUP(H86,Results!$A$8:$G$104,4,FALSE)","v":{"$error":"#N/A"}},{"$f":"VLOOKUP(H86,Results!$A$8:$G$104,7,FALSE)","v":{"$error":"#N/A"}}]
[null,{"$f":"Results!A90","v":0},{"$f":"Results!C90","v":0},{"$f":"Results!B90","v":0},{"$f":"Results!D90","v":0},{"$f":"Results!G90","v":""},"- vs -",{"$f":"VLOOKUP(B87,Results!$A$8:$AG$104,16,FALSE)","v":{"$error":"#N/A"}},{"$f":"VLOOKUP(H87,Results!A$8:$G$104,3,FALSE)","v":{"$error":"#N/A"}},{"$f":"VLOOKUP(H87,Results!$A$8:$G$104,2,FALSE)","v":{"$error":"#N/A"}},{"$f":"VLOOKUP(H87,Results!$A$8:$G$104,4,FALSE)","v":{"$error":"#N/A"}},{"$f":"VLOOKUP(H87,Results!$A$8:$G$104,7,FALSE)","v":{"$error":"#N/A"}}]
[null,{"$f":"Results!A91","v":0},{"$f":"Results!C91","v":0},{"$f":"Results!B91","v":0},{"$f":"Results!D91","v":0},{"$f":"Results!G91","v":""},"- vs -",{"$f":"VLOOKUP(B88,Results!$A$8:$AG$104,16,FALSE)","v":{"$error":"#N/A"}},{"$f":"VLOOKUP(H88,Results!A$8:$G$104,3,FALSE)","v":{"$error":"#N/A"}},{"$f":"VLOOKUP(H88,Results!$A$8:$G$104,2,FALSE)","v":{"$error":"#N/A"}},{"$f":"VLOOKUP(H88,Results!$A$8:$G$104,4,FALSE)","v":{"$error":"#N/A"}},{"$f":"VLOOKUP(H88,Results!$A$8:$G$104,7,FALSE)","v":{"$error":"#N/A"}}]
[null,{"$f":"Results!A92","v":0},{"$f":"Results!C92","v":0},{"$f":"Results!B92","v":0},{"$f":"Results!D92","v":0},{"$f":"Results!G92","v":""},"- vs -",{"$f":"VLOOKUP(B89,Results!$A$8:$AG$104,16,FALSE)","v":{"$error":"#N/A"}},{"$f":"VLOOKUP(H89,Results!A$8:$G$104,3,FALSE)","v":{"$error":"#N/A"}},{"$f":"VLOOKUP(H89,Results!$A$8:$G$104,2,FALSE)","v":{"$error":"#N/A"}},{"$f":"VLOOKUP(H89,Results!$A$8:$G$104,4,FALSE)","v":{"$error":"#N/A"}},{"$f":"VLOOKUP(H89,Results!$A$8:$G$104,7,FALSE)","v":{"$error":"#N/A"}}]
[null,{"$f":"Results!A93","v":0},{"$f":"Results!C93","v":0},{"$f":"Results!B93","v":0},{"$f":"Results!D93","v":0},{"$f":"Results!G93","v":""},"- vs -",{"$f":"VLOOKUP(B90,Results!$A$8:$AG$104,16,FALSE)","v":{"$error":"#N/A"}},{"$f":"VLOOKUP(H90,Results!A$8:$G$104,3,FALSE)","v":{"$error":"#N/A"}},{"$f":"VLOOKUP(H90,Results!$A$8:$G$104,2,FALSE)","v":{"$error":"#N/A"}},{"$f":"VLOOKUP(H90,Results!$A$8:$G$104,4,FALSE)","v":{"$error":"#N/A"}},{"$f":"VLOOKUP(H90,Results!$A$8:$G$104,7,FALSE)","v":{"$error":"#N/A"}}]
[null,{"$f":"Results!A94","v":0},{"$f":"Results!C94","v":0},{"$f":"Results!B94","v":0},{"$f":"Results!D94","v":0},{"$f":"Results!G94","v":""},"- vs -",{"$f":"VLOOKUP(B91,Results!$A$8:$AG$104,16,FALSE)","v":{"$error":"#N/A"}},{"$f":"VLOOKUP(H91,Results!A$8:$G$104,3,FALSE)","v":{"$error":"#N/A"}},{"$f":"VLOOKUP(H91,Results!$A$8:$G$104,2,FALSE)","v":{"$error":"#N/A"}},{"$f":"VLOOKUP(H91,Results!$A$8:$G$104,4,FALSE)","v":{"$error":"#N/A"}},{"$f":"VLOOKUP(H91,Results!$A$8:$G$104,7,FALSE)","v":{"$error":"#N/A"}}]
[null,{"$f":"Results!A95","v":0},{"$f":"Results!C95","v":0},{"$f":"Results!B95","v":0},{"$f":"Results!D95","v":0},{"$f":"Results!G95","v":""},"- vs -",{"$f":"VLOOKUP(B92,Results!$A$8:$AG$104,16,FALSE)","v":{"$error":"#N/A"}},{"$f":"VLOOKUP(H92,Results!A$8:$G$104,3,FALSE)","v":{"$error":"#N/A"}},{"$f":"VLOOKUP(H92,Results!$A$8:$G$104,2,FALSE)","v":{"$error":"#N/A"}},{"$f":"VLOOKUP(H92,Results!$A$8:$G$104,4,FALSE)","v":{"$error":"#N/A"}},{"$f":"VLOOKUP(H92,Results!$A$8:$G$104,7,FALSE)","v":{"$error":"#N/A"}}]
[null,{"$f":"Results!A96","v":0},{"$f":"Results!C96","v":0},{"$f":"Results!B96","v":0},{"$f":"Results!D96","v":0},{"$f":"Results!G96","v":""},"- vs -",{"$f":"VLOOKUP(B93,Results!$A$8:$AG$104,16,FALSE)","v":{"$error":"#N/A"}},{"$f":"VLOOKUP(H93,Results!A$8:$G$104,3,FALSE)","v":{"$error":"#N/A"}},{"$f":"VLOOKUP(H93,Results!$A$8:$G$104,2,FALSE)","v":{"$error":"#N/A"}},{"$f":"VLOOKUP(H93,Results!$A$8:$G$104,4,FALSE)","v":{"$error":"#N/A"}},{"$f":"VLOOKUP(H93,Results!$A$8:$G$104,7,FALSE)","v":{"$error":"#N/A"}}]
[null,{"$f":"Results!A97","v":0},{"$f":"Results!C97","v":0},{"$f":"Results!B97","v":0},{"$f":"Results!D97","v":0},{"$f":"Results!G97","v":""},"- vs -",{"$f":"VLOOKUP(B94,Results!$A$8:$AG$104,16,FALSE)","v":{"$error":"#N/A"}},{"$f":"VLOOKUP(H94,Results!A$8:$G$104,3,FALSE)","v":{"$error":"#N/A"}},{"$f":"VLOOKUP(H94,Results!$A$8:$G$104,2,FALSE)","v":{"$error":"#N/A"}},{"$f":"VLOOKUP(H94,Results!$A$8:$G$104,4,FALSE)","v":{"$error":"#N/A"}},{"$f":"VLOOKUP(H94,Results!$A$8:$G$104,7,FALSE)","v":{"$error":"#N/A"}}]
[null,{"$f":"Results!A98","v":0},{"$f":"Results!C98","v":0},{"$f":"Results!B98","v":0},{"$f":"Results!D98","v":0},{"$f":"Results!G98","v":""},"- vs -",{"$f":"VLOOKUP(B95,Results!$A$8:$AG$104,16,FALSE)","v":{"$error":"#N/A"}},{"$f":"VLOOKUP(H95,Results!A$8:$G$104,3,FALSE)","v":{"$error":"#N/A"}},{"$f":"VLOOKUP(H95,Results!$A$8:$G$104,2,FALSE)","v":{"$error":"#N/A"}},{"$f":"VLOOKUP(H95,Results!$A$8:$G$104,4,FALSE)","v":{"$error":"#N/A"}},{"$f":"VLOOKUP(H95,Results!$A$8:$G$104,7,FALSE)","v":{"$error":"#N/A"}}]
[null,{"$f":"Results!A99","v":0},{"$f":"Results!C99","v":0},{"$f":"Results!B99","v":0},{"$f":"Results!D99","v":0},{"$f":"Results!G99","v":""},"- vs -",{"$f":"VLOOKUP(B96,Results!$A$8:$AG$104,16,FALSE)","v":{"$error":"#N/A"}},{"$f":"VLOOKUP(H96,Results!A$8:$G$104,3,FALSE)","v":{"$error":"#N/A"}},{"$f":"VLOOKUP(H96,Results!$A$8:$G$104,2,FALSE)","v":{"$error":"#N/A"}},{"$f":"VLOOKUP(H96,Results!$A$8:$G$104,4,FALSE)","v":{"$error":"#N/A"}},{"$f":"VLOOKUP(H96,Results!$A$8:$G$104,7,FALSE)","v":{"$error":"#N/A"}}]
[null,{"$f":"Results!A100","v":0},{"$f":"Results!C100","v":0},{"$f":"Results!B100","v":0},{"$f":"Results!D100","v":0},{"$f":"Results!G100","v":""},"- vs -",{"$f":"VLOOKUP(B97,Results!$A$8:$AG$104,16,FALSE)","v":{"$error":"#N/A"}},{"$f":"VLOOKUP(H97,Results!A$8:$G$104,3,FALSE)","v":{"$error":"#N/A"}},{"$f":"VLOOKUP(H97,Results!$A$8:$G$104,2,FALSE)","v":{"$error":"#N/A"}},{"$f":"VLOOKUP(H97,Results!$A$8:$G$104,4,FALSE)","v":{"$error":"#N/A"}},{"$f":"VLOOKUP(H97,Results!$A$8:$G$104,7,FALSE)","v":{"$error":"#N/A"}}]
[null,{"$f":"Results!A101","v":0},{"$f":"Results!C101","v":0},{"$f":"Results!B101","v":0},{"$f":"Results!D101","v":0},{"$f":"Results!G101","v":""},"- vs -",{"$f":"VLOOKUP(B98,Results!$A$8:$AG$104,16,FALSE)","v":{"$error":"#N/A"}},{"$f":"VLOOKUP(H98,Results!A$8:$G$104,3,FALSE)","v":{"$error":"#N/A"}},{"$f":"VLOOKUP(H98,Results!$A$8:$G$104,2,FALSE)","v":{"$error":"#N/A"}},{"$f":"VLOOKUP(H98,Results!$A$8:$G$104,4,FALSE)","v":{"$error":"#N/A"}},{"$f":"VLOOKUP(H98,Results!$A$8:$G$104,7,FALSE)","v":{"$error":"#N/A"}}]
[null,{"$f":"Results!A102","v":0},{"$f":"Results!C102","v":0},{"$f":"Results!B102","v":0},{"$f":"Results!D102","v":0},{"$f":"Results!G102","v":""},"- vs -",{"$f":"VLOOKUP(B99,Results!$A$8:$AG$104,16,FALSE)","v":{"$error":"#N/A"}},{"$f":"VLOOKUP(H99,Results!A$8:$G$104,3,FALSE)","v":{"$error":"#N/A"}},{"$f":"VLOOKUP(H99,Results!$A$8:$G$104,2,FALSE)","v":{"$error":"#N/A"}},{"$f":"VLOOKUP(H99,Results!$A$8:$G$104,4,FALSE)","v":{"$error":"#N/A"}},{"$f":"VLOOKUP(H99,Results!$A$8:$G$104,7,FALSE)","v":{"$error":"#N/A"}}]
[null,{"$f":"Results!A103","v":0},{"$f":"Results!C103","v":0},{"$f":"Results!B103","v":0},{"$f":"Results!D103","v":0},{"$f":"Results!G103","v":""},"- vs -",{"$f":"VLOOKUP(B100,Results!$A$8:$AG$104,16,FALSE)","v":{"$error":"#N/A"}},{"$f":"VLOOKUP(H100,Results!A$8:$G$104,3,FALSE)","v":{"$error":"#N/A"}},{"$f":"VLOOKUP(H100,Results!$A$8:$G$104,2,FALSE)","v":{"$error":"#N/A"}},{"$f":"VLOOKUP(H100,Results!$A$8:$G$104,4,FALSE)","v":{"$error":"#N/A"}},{"$f":"VLOOKUP(H100,Results!$A$8:$G$104,7,FALSE)","v":{"$error":"#N/A"}}]
[null,{"$f":"Results!A104","v":0},{"$f":"Results!C104","v":0},{"$f":"Results!B104","v":0},{"$f":"Results!D104","v":0},{"$f":"Results!G104","v":""},"- vs -",{"$f":"VLOOKUP(B101,Results!$A$8:$AG$104,16,FALSE)","v":{"$error":"#N/A"}},{"$f":"VLOOKUP(H101,Results!A$8:$G$104,3,FALSE)","v":{"$error":"#N/A"}},{"$f":"VLOOKUP(H101,Results!$A$8:$G$104,2,FALSE)","v":{"$error":"#N/A"}},{"$f":"VLOOKUP(H101,Results!$A$8:$G$104,4,FALSE)","v":{"$error":"#N/A"}},{"$f":"VLOOKUP(H101,Results!$A$8:$G$104,7,FALSE)","v":{"$error":"#N/A"}}]
[null,{"$f":"Results!A105","v":0},{"$f":"Results!C105","v":0},{"$f":"Results!B105","v":0},{"$f":"Results!D105","v":0},{"$f":"Results!G105","v":""},"- vs -",{"$f":"VLOOKUP(B102,Results!$A$8:$AG$104,16,FALSE)","v":{"$error":"#N/A"}},{"$f":"VLOOKUP(H102,Results!A$8:$G$104,3,FALSE)","v":{"$error":"#N/A"}},{"$f":"VLOOKUP(H102,Results!$A$8:$G$104,2,FALSE)","v":{"$error":"#N/A"}},{"$f":"VLOOKUP(H102,Results!$A$8:$G$104,4,FALSE)","v":{"$error":"#N/A"}},{"$f":"VLOOKUP(H102,Results!$A$8:$G$104,7,FALSE)","v":{"$error":"#N/A"}}]
[null,{"$f":"Results!A106","v":0},{"$f":"Results!C106","v":0},{"$f":"Results!B106","v":0},{"$f":"Results!D106","v":0},{"$f":"Results!G106","v":""},"- vs -",{"$f":"VLOOKUP(B103,Results!$A$8:$AG$104,16,FALSE)","v":{"$error":"#N/A"}},{"$f":"VLOOKUP(H103,Results!A$8:$G$104,3,FALSE)","v":{"$error":"#N/A"}},{"$f":"VLOOKUP(H103,Results!$A$8:$G$104,2,FALSE)","v":{"$error":"#N/A"}},{"$f":"VLOOKUP(H103,Results!$A$8:$G$104,4,FALSE)","v":{"$error":"#N/A"}},{"$f":"VLOOKUP(H103,Results!$A$8:$G$104,7,FALSE)","v":{"$error":"#N/A"}}]
[null,{"$f":"Results!A107","v":0},{"$f":"Results!C107","v":0},{"$f":"Results!B107","v":0},{"$f":"Results!D107","v":0},{"$f":"Results!G107","v":""},"- vs -",{"$f":"VLOOKUP(B104,Results!$A$8:$AG$104,16,FALSE)","v":{"$error":"#N/A"}},{"$f":"VLOOKUP(H104,Results!A$8:$G$104,3,FALSE)","v":{"$error":"#N/A"}},{"$f":"VLOOKUP(H104,Results!$A$8:$G$104,2,FALSE)","v":{"$error":"#N/A"}},{"$f":"VLOOKUP(H104,Results!$A$8:$G$104,4,FALSE)","v":{"$error":"#N/A"}},{"$f":"VLOOKUP(H104,Results!$A$8:$G$104,7,FALSE)","v":{"$error":"#N/A"}}]
[]
[null,1538,"Jim","Gibson","Scotland","Warring States","- vs -",1418,"Stephen","Nice","WAR","Classical Indian"]
[null,1015,"Nik","Sharp","Warlords","Assyrian Empire and Sargonid","- vs -",712,"Tim","Porter","CLWC","Hittite"]
[null,1017,"David","Roberts","Cambridge","Syria, Canaan and Ugarit","- vs -",1509,"Frazer","Watson","Scotland","Maya"]
[null,1161,"Graeme","Carroll","Durham","Classical Indian","- vs -",1309,"Paul","Johnston","York","North American tribes"]
[null,1811,"Steve","Tresadern","Arsenal","Lydian","- vs -",1318,"Rob","Taylor","Halifax","Achaemenid Persian"]
[null,711,"Harrison","Pearce","MKWS","Assyrian","- vs -",397,"Hubert","Bretagne","France","Aztec"]
[null,1447,"Antony","Robinson","Durham","Classical Indian","- vs -",1220,"Marco","Baroni","York","Aztec"]
[null,1308,"Paul","Dawson","York","Assyrian","- vs -",1618,"Jens","Harbarth","Germany","Zhou and Spring and Autumn Chinese"]
[null,1444,"Kevin","Olier","France","Assyrian Empire and Sargonid","- vs -",1222,"Bob","Middlemist","Durham","Assyrian Empire and Sargonid"]
[null,714,"Andy","Gilbert","Pompey","Libyan Egyptian","- vs -",1583,"Philip","Powell","WAR","Tupi"]
[null,1602,"Uwe","Urbitch","Germany","Zhou and Spring and Autumn Chinese","- vs -",1468,"Andy","Ellis","Leeds","Ancient Bedouin"]
[null,1810,"Steve","Hammond","Arsenal","New Kingdom Egyptian","- vs -",1721,"Lance","Flint","Farnboro","Inca"]
[null,1598,"Andy","Fyfe","Scotland","Classical Indian","- vs -",1008,"Robin","Jackson",0,"Elamite"]
[null,1536,"Pete","Sanger","Pompey","Assyrian Empire and Sargonid","- vs -",710,"Dave","Saunders","CLWC","Aztec"]
[null,485,"Jesse","Schoor","WAR","Medes","- vs -",1489,"Kevin","Ellis","Leeds","Early Macedonian"]
[null,713,"Darrell","Pearce","MKWS","New Kingdom Egyptian","- vs -",874,"Simon","Ellis","WAR","Later Achaemenid Persian"]
[null,1797,"Dave","Putt","PAW","Achaemenid Persian","- vs -",1483,"Ian","Sewell","WAR","Early Carthaginian"]
[null,261,"Lionel","Morvan","France","Lydian","- vs -",795,"Mark","Fry","Bristol","Zhou and Spring and Autumn Chinese"]

{"sheet":"Round 3","index":11,"n_rows":123,"n_cols":13,"rows_kept":123,"cut":false,"hidden":false,"merged":[]}
[]
["Round 3 Draw",null,null,{"$f":"Results!B3","v":"Kegworth Codgers 2024"}]
[null,null,null,{"$f":"Results!B4","v":"Roman Period"}]
[null,null,null,null,null,null,null,null,null,null,null,null,"VALID?"]
[null,{"$f":"Results!A8","v":486},{"$f":"Results!C8","v":"Alan"},{"$f":"Results!B8","v":"Cutner"},{"$f":"Results!D8","v":"Tradeston"},{"$f":"Results!G8","v":""},"- vs -",{"$f":"VLOOKUP(B5,Results!$A$8:$AG$60,23,FALSE)","v":0},{"$f":"VLOOKUP(H5,Results!A$8:$G$60,3,FALSE)","v":{"$error":"#N/A"}},{"$f":"VLOOKUP(H5,Results!$A$8:$G$60,2,FALSE)","v":{"$error":"#N/A"}},{"$f":"VLOOKUP(H5,Results!$A$8:$G$60,4,FALSE)","v":{"$error":"#N/A"}},{"$f":"VLOOKUP(H5,Results!$A$8:$G$60,7,FALSE)","v":{"$error":"#N/A"}},{"$f":"VLOOKUP(H5,$B$4:B5,1,FALSE)","v":{"$error":"#N/A"}}]
[null,{"$f":"Results!A9","v":1579},{"$f":"Results!C9","v":"Alistair"},{"$f":"Results!B9","v":"Wright"},{"$f":"Results!D9","v":"Millbrook"},{"$f":"Results!G9","v":""},"- vs -",{"$f":"VLOOKUP(B6,Results!$A$8:$AG$60,23,FALSE)","v":0},{"$f":"VLOOKUP(H6,Results!A$8:$G$60,3,FALSE)","v":{"$error":"#N/A"}},{"$f":"VLOOKUP(H6,Results!$A$8:$G$60,2,FALSE)","v":{"$error":"#N/A"}},{"$f":"VLOOKUP(H6,Results!$A$8:$G$60,4,FALSE)","v":{"$error":"#N/A"}},{"$f":"VLOOKUP(H6,Results!$A$8:$G$60,7,FALSE)","v":{"$error":"#N/A"}},{"$f":"VLOOKUP(H6,$B$4:B6,1,FALSE)","v":{"$error":"#N/A"}}]
[null,{"$f":"Results!A10","v":748},{"$f":"Results!C10","v":"Andrew"},{"$f":"Results!B10","v":"Whitby"},{"$f":"Results!D10","v":"Bristol"},{"$f":"Results!G10","v":""},"- vs -",{"$f":"VLOOKUP(B7,Results!$A$8:$AG$60,23,FALSE)","v":0},{"$f":"VLOOKUP(H7,Results!A$8:$G$60,3,FALSE)","v":{"$error":"#N/A"}},{"$f":"VLOOKUP(H7,Results!$A$8:$G$60,2,FALSE)","v":{"$error":"#N/A"}},{"$f":"VLOOKUP(H7,Results!$A$8:$G$60,4,FALSE)","v":{"$error":"#N/A"}},{"$f":"VLOOKUP(H7,Results!$A$8:$G$60,7,FALSE)","v":{"$error":"#N/A"}},{"$f":"VLOOKUP(H7,$B$4:B7,1,FALSE)","v":{"$error":"#N/A"}}]
[null,{"$f":"Results!A11","v":1598},{"$f":"Results!C11","v":"Andy"},{"$f":"Results!B11","v":"Fyfe"},{"$f":"Results!D11","v":"FDWG"},{"$f":"Results!G11","v":""},"- vs -",{"$f":"VLOOKUP(B8,Results!$A$8:$AG$60,23,FALSE)","v":0},{"$f":"VLOOKUP(H8,Results!A$8:$G$60,3,FALSE)","v":{"$error":"#N/A"}},{"$f":"VLOOKUP(H8,Results!$A$8:$G$60,2,FALSE)","v":{"$error":"#N/A"}},{"$f":"VLOOKUP(H8,Results!$A$8:$G$60,4,FALSE)","v":{"$error":"#N/A"}},{"$f":"VLOOKUP(H8,Results!$A$8:$G$60,7,FALSE)","v":{"$error":"#N/A"}},{"$f":"VLOOKUP(H8,$B$4:B8,1,FALSE)","v":{"$error":"#N/A"}}]
[null,{"$f":"Results!A12","v":714},{"$f":"Results!C12","v":"Andy"},{"$f":"Results!B12","v":"Gilbert"},{"$f":"Results!D12","v":"Pompey"},{"$f":"Results!G12","v":""},"- vs -",{"$f":"VLOOKUP(B9,Results!$A$8:$AG$60,23,FALSE)","v":0},{"$f":"VLOOKUP(H9,Results!A$8:$G$60,3,FALSE)","v":{"$error":"#N/A"}},{"$f":"VLOOKUP(H9,Results!$A$8:$G$60,2,FALSE)","v":{"$error":"#N/A"}},{"$f":"VLOOKUP(H9,Results!$A$8:$G$60,4,FALSE)","v":{"$error":"#N/A"}},{"$f":"VLOOKUP(H9,Results!$A$8:$G$60,7,FALSE)","v":{"$error":"#N/A"}},{"$f":"VLOOKUP(H9,$B$4:B9,1,FALSE)","v":{"$error":"#N/A"}}]
[null,{"$f":"Results!A13","v":1447},{"$f":"Results!C13","v":"Antony"},{"$f":"Results!B13","v":"Robinson"},{"$f":"Results!D13","v":"Durham"},{"$f":"Results!G13","v":""},"- vs -",{"$f":"VLOOKUP(B10,Results!$A$8:$AG$60,23,FALSE)","v":0},{"$f":"VLOOKUP(H10,Results!A$8:$G$60,3,FALSE)","v":{"$error":"#N/A"}},{"$f":"VLOOKUP(H10,Results!$A$8:$G$60,2,FALSE)","v":{"$error":"#N/A"}},{"$f":"VLOOKUP(H10,Results!$A$8:$G$60,4,FALSE)","v":{"$error":"#N/A"}},{"$f":"VLOOKUP(H10,Results!$A$8:$G$60,7,FALSE)","v":{"$error":"#N/A"}},{"$f":"VLOOKUP(H10,$B$4:B10,1,FALSE)","v":{"$error":"#N/A"}}]
[null,{"$f":"Results!A14","v":773},{"$f":"Results!C14","v":"Charles"},{"$f":"Results!B14","v":"Masefield"},{"$f":"Results!D14","v":"Oxford"},{"$f":"Results!G14","v":""},"- vs -",{"$f":"VLOOKUP(B11,Results!$A$8:$AG$60,23,FALSE)","v":0},{"$f":"VLOOKUP(H11,Results!A$8:$G$60,3,FALSE)","v":{"$error":"#N/A"}},{"$f":"VLOOKUP(H11,Results!$A$8:$G$60,2,FALSE)","v":{"$error":"#N/A"}},{"$f":"VLOOKUP(H11,Results!$A$8:$G$60,4,FALSE)","v":{"$error":"#N/A"}},{"$f":"VLOOKUP(H11,Results!$A$8:$G$60,7,FALSE)","v":{"$error":"#N/A"}},{"$f":"VLOOKUP(H11,$B$4:B11,1,FALSE)","v":{"$error":"#N/A"}}]
[null,{"$f":"Results!A15","v":1549},{"$f":"Results!C15","v":"Colin"},{"$f":"Results!B15","v":"Whittaker"},{"$f":"Results!D15","v":"Entoyment"},{"$f":"Results!G15","v":""},"- vs -",{"$f":"VLOOKUP(B12,Results!$A$8:$AG$60,23,FALSE)","v":0},{"$f":"VLOOKUP(H12,Results!A$8:$G$60,3,FALSE)","v":{"$error":"#N/A"}},{"$f":"VLOOKUP(H12,Results!$A$8:$G$60,2,FALSE)","v":{"$error":"#N/A"}},{"$f":"VLOOKUP(H12,Results!$A$8:$G$60,4,FALSE)","v":{"$error":"#N/A"}},{"$f":"VLOOKUP(H12,Results!$A$8:$G$60,7,FALSE)","v":{"$error":"#N/A"}},{"$f":"VLOOKUP(H12,$B$4:B12,1,FALSE)","v":{"$error":"#N/A"}}]
[null,{"$f":"Results!A16","v":1435},{"$f":"Results!C16","v":"Dave"},{"$f":"Results!B16","v":"Hutchby"},{"$f":"Results!D16","v":"Derby"},{"$f":"Results!G16","v":"Chinese Northern and Southern Dynasties"},"- vs -",{"$f":"VLOOKUP(B13,Results!$A$8:$AG$60,23,FALSE)","v":0},{"$f":"VLOOKUP(H13,Results!A$8:$G$60,3,FALSE)","v":{"$error":"#N/A"}},{"$f":"VLOOKUP(H13,Results!$A$8:$G$60,2,FALSE)","v":{"$error":"#N/A"}},{"$f":"VLOOKUP(H13,Results!$A$8:$G$60,4,FALSE)","v":{"$error":"#N/A"}},{"$f":"VLOOKUP(H13,Results!$A$8:$G$60,7,FALSE)","v":{"$error":"#N/A"}},{"$f":"VLOOKUP(H13,$B$4:B13,1,FALSE)","v":{"$error":"#N/A"}}]
[null,{"$f":"Results!A17","v":1017},{"$f":"Results!C17","v":"David"},{"$f":"Results!B17","v":"Roberts"},{"$f":"Results!D17","v":"Cambridge"},{"$f":"Results!G17","v":""},"- vs -",{"$f":"VLOOKUP(B14,Results!$A$8:$AG$60,23,FALSE)","v":0},{"$f":"VLOOKUP(H14,Results!A$8:$G$60,3,FALSE)","v":{"$error":"#N/A"}},{"$f":"VLOOKUP(H14,Results!$A$8:$G$60,2,FALSE)","v":{"$error":"#N/A"}},{"$f":"VLOOKUP(H14,Results!$A$8:$G$60,4,FALSE)","v":{"$error":"#N/A"}},{"$f":"VLOOKUP(H14,Results!$A$8:$G$60,7,FALSE)","v":{"$error":"#N/A"}},{"$f":"VLOOKUP(H14,$B$4:B14,1,FALSE)","v":{"$error":"#N/A"}}]
[null,{"$f":"Results!A18","v":1576},{"$f":"Results!C18","v":"David"},{"$f":"Results!B18","v":"Dryden"},{"$f":"Results!D18","v":"FDWC"},{"$f":"Results!G18","v":""},"- vs -",{"$f":"VLOOKUP(B15,Results!$A$8:$AG$60,23,FALSE)","v":0},{"$f":"VLOOKUP(H15,Results!A$8:$G$60,3,FALSE)","v":{"$error":"#N/A"}},{"$f":"VLOOKUP(H15,Results!$A$8:$G$60,2,FALSE)","v":{"$error":"#N/A"}},{"$f":"VLOOKUP(H15,Results!$A$8:$G$60,4,FALSE)","v":{"$error":"#N/A"}},{"$f":"VLOOKUP(H15,Results!$A$8:$G$60,7,FALSE)","v":{"$error":"#N/A"}},{"$f":"VLOOKUP(H15,$B$4:B15,1,FALSE)","v":{"$error":"#N/A"}}]
[null,{"$f":"Results!A19","v":1509},{"$f":"Results!C19","v":"Frazer"},{"$f":"Results!B19","v":"Watson"},{"$f":"Results!D19","v":"FDWG"},{"$f":"Results!G19","v":"Kingdom of Axum"},"- vs -",{"$f":"VLOOKUP(B16,Results!$A$8:$AG$60,23,FALSE)","v":0},{"$f":"VLOOKUP(H16,Results!A$8:$G$60,3,FALSE)","v":{"$error":"#N/A"}},{"$f":"VLOOKUP(H16,Results!$A$8:$G$60,2,FALSE)","v":{"$error":"#N/A"}},{"$f":"VLOOKUP(H16,Results!$A$8:$G$60,4,FALSE)","v":{"$error":"#N/A"}},{"$f":"VLOOKUP(H16,Results!$A$8:$G$60,7,FALSE)","v":{"$error":"#N/A"}},{"$f":"VLOOKUP(H16,$B$4:B16,1,FALSE)","v":{"$error":"#N/A"}}]
[null,{"$f":"Results!A20","v":715},{"$f":"Results!C20","v":"Gordon"},{"$f":"Results!B20","v":"Jamieson"},{"$f":"Results!D20","v":"CLWC"},{"$f":"Results!G20","v":""},"- vs -",{"$f":"VLOOKUP(B17,Results!$A$8:$AG$60,23,FALSE)","v":0},{"$f":"VLOOKUP(H17,Results!A$8:$G$60,3,FALSE)","v":{"$error":"#N/A"}},{"$f":"VLOOKUP(H17,Results!$A$8:$G$60,2,FALSE)","v":{"$error":"#N/A"}},{"$f":"VLOOKUP(H17,Results!$A$8:$G$60,4,FALSE)","v":{"$error":"#N/A"}},{"$f":"VLOOKUP(H17,Results!$A$8:$G$60,7,FALSE)","v":{"$error":"#N/A"}},{"$f":"VLOOKUP(H17,$B$4:B17,1,FALSE)","v":{"$error":"#N/A"}}]
[null,{"$f":"Results!A21","v":1131},{"$f":"Results!C21","v":"Gordon"},{"$f":"Results!B21","v":"Miller"},{"$f":"Results!D21","v":"FDWC"},{"$f":"Results!G21","v":""},"- vs -",{"$f":"VLOOKUP(B18,Results!$A$8:$AG$60,23,FALSE)","v":0},{"$f":"VLOOKUP(H18,Results!A$8:$G$60,3,FALSE)","v":{"$error":"#N/A"}},{"$f":"VLOOKUP(H18,Results!$A$8:$G$60,2,FALSE)","v":{"$error":"#N/A"}},{"$f":"VLOOKUP(H18,Results!$A$8:$G$60,4,FALSE)","v":{"$error":"#N/A"}},{"$f":"VLOOKUP(H18,Results!$A$8:$G$60,7,FALSE)","v":{"$error":"#N/A"}},{"$f":"VLOOKUP(H18,$B$4:B18,1,FALSE)","v":{"$error":"#N/A"}}]
[null,{"$f":"Results!A22","v":1483},{"$f":"Results!C22","v":"Ian"},{"$f":"Results!B22","v":"Sewell"},{"$f":"Results!D22","v":"WAR"},{"$f":"Results!G22","v":""},"- vs -",{"$f":"VLOOKUP(B19,Results!$A$8:$AG$60,23,FALSE)","v":0},{"$f":"VLOOKUP(H19,Results!A$8:$G$60,3,FALSE)","v":{"$error":"#N/A"}},{"$f":"VLOOKUP(H19,Results!$A$8:$G$60,2,FALSE)","v":{"$error":"#N/A"}},{"$f":"VLOOKUP(H19,Results!$A$8:$G$60,4,FALSE)","v":{"$error":"#N/A"}},{"$f":"VLOOKUP(H19,Results!$A$8:$G$60,7,FALSE)","v":{"$error":"#N/A"}},{"$f":"VLOOKUP(H19,$B$4:B19,1,FALSE)","v":{"$error":"#N/A"}}]
[null,{"$f":"Results!A23","v":1538},{"$f":"Results!C23","v":"James"},{"$f":"Results!B23","v":"Gibson"},{"$f":"Results!D23","v":"FDWG"},{"$f":"Results!G23","v":""},"- vs -",{"$f":"VLOOKUP(B20,Results!$A$8:$AG$60,23,FALSE)","v":0},{"$f":"VLOOKUP(H20,Results!A$8:$G$60,3,FALSE)","v":{"$error":"#N/A"}},{"$f":"VLOOKUP(H20,Results!$A$8:$G$60,2,FALSE)","v":{"$error":"#N/A"}},{"$f":"VLOOKUP(H20,Results!$A$8:$G$60,4,FALSE)","v":{"$error":"#N/A"}},{"$f":"VLOOKUP(H20,Results!$A$8:$G$60,7,FALSE)","v":{"$error":"#N/A"}},{"$f":"VLOOKUP(H20,$B$4:B20,1,FALSE)","v":{"$error":"#N/A"}}]
[null,{"$f":"Results!A24","v":485},{"$f":"Results!C24","v":"Jesse"},{"$f":"Results!B24","v":"Schoor"},{"$f":"Results!D24","v":"WAR"},{"$f":"Results!G24","v":""},"- vs -",{"$f":"VLOOKUP(B21,Results!$A$8:$AG$60,23,FALSE)","v":0},{"$f":"VLOOKUP(H21,Results!A$8:$G$60,3,FALSE)","v":{"$error":"#N/A"}},{"$f":"VLOOKUP(H21,Results!$A$8:$G$60,2,FALSE)","v":{"$error":"#N/A"}},{"$f":"VLOOKUP(H21,Results!$A$8:$G$60,4,FALSE)","v":{"$error":"#N/A"}},{"$f":"VLOOKUP(H21,Results!$A$8:$G$60,7,FALSE)","v":{"$error":"#N/A"}},{"$f":"VLOOKUP(H21,$B$4:B21,1,FALSE)","v":{"$error":"#N/A"}}]
[null,{"$f":"Results!A25","v":795},{"$f":"Results!C25","v":"Mark"},{"$f":"Results!B25","v":"Fry"},{"$f":"Results!D25","v":"Bristol"},{"$f":"Results!G25","v":""},"- vs -",{"$f":"VLOOKUP(B22,Results!$A$8:$AG$60,23,FALSE)","v":0},{"$f":"VLOOKUP(H22,Results!A$8:$G$60,3,FALSE)","v":{"$error":"#N/A"}},{"$f":"VLOOKUP(H22,Results!$A$8:$G$60,2,FALSE)","v":{"$error":"#N/A"}},{"$f":"VLOOKUP(H22,Results!$A$8:$G$60,4,FALSE)","v":{"$error":"#N/A"}},{"$f":"VLOOKUP(H22,Results!$A$8:$G$60,7,FALSE)","v":{"$error":"#N/A"}},{"$f":"VLOOKUP(H22,$B$4:B22,1,FALSE)","v":{"$error":"#N/A"}}]
[null,{"$f":"Results!A26","v":1807},{"$f":"Results!C26","v":"Mark"},{"$f":"Results!B26","v":"Gilby"},{"$f":"Results!D26","v":"CLWC"},{"$f":"Results!G26","v":""},"- vs -",{"$f":"VLOOKUP(B23,Results!$A$8:$AG$60,23,FALSE)","v":0},{"$f":"VLOOKUP(H23,Results!A$8:$G$60,3,FALSE)","v":{"$error":"#N/A"}},{"$f":"VLOOKUP(H23,Results!$A$8:$G$60,2,FALSE)","v":{"$error":"#N/A"}},{"$f":"VLOOKUP(H23,Results!$A$8:$G$60,4,FALSE)","v":{"$error":"#N/A"}},{"$f":"VLOOKUP(H23,Results!$A$8:$G$60,7,FALSE)","v":{"$error":"#N/A"}},{"$f":"VLOOKUP(H23,$B$4:B23,1,FALSE)","v":{"$error":"#N/A"}}]
[null,{"$f":"Results!A27","v":858},{"$f":"Results!C27","v":"Mike"},{"$f":"Results!B27","v":"Bennett"},{"$f":"Results!D27","v":"Carnforth"},{"$f":"Results!G27","v":""},"- vs -",{"$f":"VLOOKUP(B24,Results!$A$8:$AG$60,23,FALSE)","v":0},{"$f":"VLOOKUP(H24,Results!A$8:$G$60,3,FALSE)","v":{"$error":"#N/A"}},{"$f":"VLOOKUP(H24,Results!$A$8:$G$60,2,FALSE)","v":{"$error":"#N/A"}},{"$f":"VLOOKUP(H24,Results!$A$8:$G$60,4,FALSE)","v":{"$error":"#N/A"}},{"$f":"VLOOKUP(H24,Results!$A$8:$G$60,7,FALSE)","v":{"$error":"#N/A"}},{"$f":"VLOOKUP(H24,$B$4:B24,1,FALSE)","v":{"$error":"#N/A"}}]
[null,{"$f":"Results!A28","v":1015},{"$f":"Results!C28","v":"Nik"},{"$f":"Results!B28","v":"Sharp"},{"$f":"Results!D28","v":"Warlords"},{"$f":"Results!G28","v":""},"- vs -",{"$f":"VLOOKUP(B25,Results!$A$8:$AG$60,23,FALSE)","v":0},{"$f":"VLOOKUP(H25,Results!A$8:$G$60,3,FALSE)","v":{"$error":"#N/A"}},{"$f":"VLOOKUP(H25,Results!$A$8:$G$60,2,FALSE)","v":{"$error":"#N/A"}},{"$f":"VLOOKUP(H25,Results!$A$8:$G$60,4,FALSE)","v":{"$error":"#N/A"}},{"$f":"VLOOKUP(H25,Results!$A$8:$G$60,7,FALSE)","v":{"$error":"#N/A"}},{"$f":"VLOOKUP(H25,$B$4:B25,1,FALSE)","v":{"$error":"#N/A"}}]
[null,{"$f":"Results!A29","v":1308},{"$f":"Results!C29","v":"Paul"},{"$f":"Results!B29","v":"Dawson"},{"$f":"Results!D29","v":"York"},{"$f":"Results!G29","v":""},"- vs -",{"$f":"VLOOKUP(B26,Results!$A$8:$AG$60,23,FALSE)","v":0},{"$f":"VLOOKUP(H26,Results!A$8:$G$60,3,FALSE)","v":{"$error":"#N/A"}},{"$f":"VLOOKUP(H26,Results!$A$8:$G$60,2,FALSE)","v":{"$error":"#N/A"}},{"$f":"VLOOKUP(H26,Results!$A$8:$G$60,4,FALSE)","v":{"$error":"#N/A"}},{"$f":"VLOOKUP(H26,Results!$A$8:$G$60,7,FALSE)","v":{"$error":"#N/A"}},{"$f":"VLOOKUP(H26,$B$4:B26,1,FALSE)","v":{"$error":"#N/A"}}]
[null,{"$f":"Results!A30","v":1309},{"$f":"Results!C30","v":"Paul"},{"$f":"Results!B30","v":"Johnston"},{"$f":"Results!D30","v":"York"},{"$f":"Results!G30","v":""},"- vs -",{"$f":"VLOOKUP(B27,Results!$A$8:$AG$60,23,FALSE)","v":0},{"$f":"VLOOKUP(H27,Results!A$8:$G$60,3,FALSE)","v":{"$error":"#N/A"}},{"$f":"VLOOKUP(H27,Results!$A$8:$G$60,2,FALSE)","v":{"$error":"#N/A"}},{"$f":"VLOOKUP(H27,Results!$A$8:$G$60,4,FALSE)","v":{"$error":"#N/A"}},{"$f":"VLOOKUP(H27,Results!$A$8:$G$60,7,FALSE)","v":{"$error":"#N/A"}},{"$f":"VLOOKUP(H27,$B$4:B27,1,FALSE)","v":{"$error":"#N/A"}}]
[null,{"$f":"Results!A31","v":1239},{"$f":"Results!C31","v":"Paul"},{"$f":"Results!B31","v":"Frith"},{"$f":"Results!D31","v":"Dorset Nomads"},{"$f":"Results!G31","v":""},"- vs -",{"$f":"VLOOKUP(B28,Results!$A$8:$AG$60,23,FALSE)","v":0},{"$f":"VLOOKUP(H28,Results!A$8:$G$60,3,FALSE)","v":{"$error":"#N/A"}},{"$f":"VLOOKUP(H28,Results!$A$8:$G$60,2,FALSE)","v":{"$error":"#N/A"}},{"$f":"VLOOKUP(H28,Results!$A$8:$G$60,4,FALSE)","v":{"$error":"#N/A"}},{"$f":"VLOOKUP(H28,Results!$A$8:$G$60,7,FALSE)","v":{"$error":"#N/A"}},{"$f":"VLOOKUP(H28,$B$4:B28,1,FALSE)","v":{"$error":"#N/A"}}]
[null,{"$f":"Results!A32","v":1536},{"$f":"Results!C32","v":"Pete"},{"$f":"Results!B32","v":"Sanger"},{"$f":"Results!D32","v":"Pompey"},{"$f":"Results!G32","v":""},"- vs -",{"$f":"VLOOKUP(B29,Results!$A$8:$AG$60,23,FALSE)","v":0},{"$f":"VLOOKUP(H29,Results!A$8:$G$60,3,FALSE)","v":{"$error":"#N/A"}},{"$f":"VLOOKUP(H29,Results!$A$8:$G$60,2,FALSE)","v":{"$error":"#N/A"}},{"$f":"VLOOKUP(H29,Results!$A$8:$G$60,4,FALSE)","v":{"$error":"#N/A"}},{"$f":"VLOOKUP(H29,Results!$A$8:$G$60,7,FALSE)","v":{"$error":"#N/A"}},{"$f":"VLOOKUP(H29,$B$4:B29,1,FALSE)","v":{"$error":"#N/A"}}]
[null,{"$f":"Results!A33","v":772},{"$f":"Results!C33","v":"Richard"},{"$f":"Results!B33","v":"Young"},{"$f":"Results!D33","v":"SOA"},{"$f":"Results!G33","v":""},"- vs -",{"$f":"VLOOKUP(B30,Results!$A$8:$AG$60,23,FALSE)","v":0},{"$f":"VLOOKUP(H30,Results!A$8:$G$60,3,FALSE)","v":{"$error":"#N/A"}},{"$f":"VLOOKUP(H30,Results!$A$8:$G$60,2,FALSE)","v":{"$error":"#N/A"}},{"$f":"VLOOKUP(H30,Results!$A$8:$G$60,4,FALSE)","v":{"$error":"#N/A"}},{"$f":"VLOOKUP(H30,Results!$A$8:$G$60,7,FALSE)","v":{"$error":"#N/A"}},{"$f":"VLOOKUP(H30,$B$4:B30,1,FALSE)","v":{"$error":"#N/A"}}]
[null,{"$f":"Results!A34","v":1318},{"$f":"Results!C34","v":"Rob"},{"$f":"Results!B34","v":"Taylor"},{"$f":"Results!D34","v":"Westow"},{"$f":"Results!G34","v":""},"- vs -",{"$f":"VLOOKUP(B31,Results!$A$8:$AG$60,23,FALSE)","v":0},{"$f":"VLOOKUP(H31,Results!A$8:$G$60,3,FALSE)","v":{"$error":"#N/A"}},{"$f":"VLOOKUP(H31,Results!$A$8:$G$60,2,FALSE)","v":{"$error":"#N/A"}},{"$f":"VLOOKUP(H31,Results!$A$8:$G$60,4,FALSE)","v":{"$error":"#N/A"}},{"$f":"VLOOKUP(H31,Results!$A$8:$G$60,7,FALSE)","v":{"$error":"#N/A"}},{"$f":"VLOOKUP(H31,$B$4:B31,1,FALSE)","v":{"$error":"#N/A"}}]
[null,{"$f":"Results!A35","v":1222},{"$f":"Results!C35","v":"Robert"},{"$f":"Results!B35","v":"Middlemist"},{"$f":"Results!D35","v":"Durham"},{"$f":"Results!G35","v":""},"- vs -",{"$f":"VLOOKUP(B32,Results!$A$8:$AG$60,23,FALSE)","v":0},{"$f":"VLOOKUP(H32,Results!A$8:$G$60,3,FALSE)","v":{"$error":"#N/A"}},{"$f":"VLOOKUP(H32,Results!$A$8:$G$60,2,FALSE)","v":{"$error":"#N/A"}},{"$f":"VLOOKUP(H32,Results!$A$8:$G$60,4,FALSE)","v":{"$error":"#N/A"}},{"$f":"VLOOKUP(H32,Results!$A$8:$G$60,7,FALSE)","v":{"$error":"#N/A"}},{"$f":"VLOOKUP(H32,$B$4:B32,1,FALSE)","v":{"$error":"#N/A"}}]
[null,{"$f":"Results!A36","v":1008},{"$f":"Results!C36","v":"Robin"},{"$f":"Results!B36","v":"Jackson"},{"$f":"Results!D36","v":"God Knows"},{"$f":"Results!G36","v":""},"- vs -",{"$f":"VLOOKUP(B33,Results!$A$8:$AG$60,23,FALSE)","v":0},{"$f":"VLOOKUP(H33,Results!A$8:$G$60,3,FALSE)","v":{"$error":"#N/A"}},{"$f":"VLOOKUP(H33,Results!$A$8:$G$60,2,FALSE)","v":{"$error":"#N/A"}},{"$f":"VLOOKUP(H33,Results!$A$8:$G$60,4,FALSE)","v":{"$error":"#N/A"}},{"$f":"VLOOKUP(H33,Results!$A$8:$G$60,7,FALSE)","v":{"$error":"#N/A"}},{"$f":"VLOOKUP(H33,$B$4:B33,1,FALSE)","v":{"$error":"#N/A"}}]
[null,{"$f":"Results!A37","v":1418},{"$f":"Results!C37","v":"Stephen"},{"$f":"Results!B37","v":"Nice"},{"$f":"Results!D37","v":"WAR"},{"$f":"Results!G37","v":""},"- vs -",{"$f":"VLOOKUP(B34,Results!$A$8:$AG$60,23,FALSE)","v":0},{"$f":"VLOOKUP(H34,Results!A$8:$G$60,3,FALSE)","v":{"$error":"#N/A"}},{"$f":"VLOOKUP(H34,Results!$A$8:$G$60,2,FALSE)","v":{"$error":"#N/A"}},{"$f":"VLOOKUP(H34,Results!$A$8:$G$60,4,FALSE)","v":{"$error":"#N/A"}},{"$f":"VLOOKUP(H34,Results!$A$8:$G$60,7,FALSE)","v":{"$error":"#N/A"}},{"$f":"VLOOKUP(H34,$B$4:B34,1,FALSE)","v":{"$error":"#N/A"}}]
[null,{"$f":"Results!A38","v":712},{"$f":"Results!C38","v":"Tim"},{"$f":"Results!B38","v":"Porter"},{"$f":"Results!D38","v":"CLWC"},{"$f":"Results!G38","v":"Parthian"},"- vs -",{"$f":"VLOOKUP(B35,Results!$A$8:$AG$60,23,FALSE)","v":0},{"$f":"VLOOKUP(H35,Results!A$8:$G$60,3,FALSE)","v":{"$error":"#N/A"}},{"$f":"VLOOKUP(H35,Results!$A$8:$G$60,2,FALSE)","v":{"$error":"#N/A"}},{"$f":"VLOOKUP(H35,Results!$A$8:$G$60,4,FALSE)","v":{"$error":"#N/A"}},{"$f":"VLOOKUP(H35,Results!$A$8:$G$60,7,FALSE)","v":{"$error":"#N/A"}},{"$f":"VLOOKUP(H35,$B$4:B35,1,FALSE)","v":{"$error":"#N/A"}}]
[null,{"$f":"Results!A39","v":0},{"$f":"Results!C39","v":0},{"$f":"Results!B39","v":0},{"$f":"Results!D39","v":0},{"$f":"Results!G39","v":""},"- vs -",{"$f":"VLOOKUP(B36,Results!$A$8:$AG$60,23,FALSE)","v":{"$error":"#N/A"}},{"$f":"VLOOKUP(H36,Results!A$8:$G$60,3,FALSE)","v":{"$error":"#N/A"}},{"$f":"VLOOKUP(H36,Results!$A$8:$G$60,2,FALSE)","v":{"$error":"#N/A"}},{"$f":"VLOOKUP(H36,Results!$A$8:$G$60,4,FALSE)","v":{"$error":"#N/A"}},{"$f":"VLOOKUP(H36,Results!$A$8:$G$60,7,FALSE)","v":{"$error":"#N/A"}},{"$f":"VLOOKUP(H36,$B$4:B36,1,FALSE)","v":{"$error":"#N/A"}}]
[null,{"$f":"Results!A40","v":0},{"$f":"Results!C40","v":0},{"$f":"Results!B40","v":0},{"$f":"Results!D40","v":0},{"$f":"Results!G40","v":""},"- vs -",{"$f":"VLOOKUP(B37,Results!$A$8:$AG$60,23,FALSE)","v":{"$error":"#N/A"}},{"$f":"VLOOKUP(H37,Results!A$8:$G$60,3,FALSE)","v":{"$error":"#N/A"}},{"$f":"VLOOKUP(H37,Results!$A$8:$G$60,2,FALSE)","v":{"$error":"#N/A"}},{"$f":"VLOOKUP(H37,Results!$A$8:$G$60,4,FALSE)","v":{"$error":"#N/A"}},{"$f":"VLOOKUP(H37,Results!$A$8:$G$60,7,FALSE)","v":{"$error":"#N/A"}},{"$f":"VLOOKUP(H37,$B$4:B37,1,FALSE)","v":{"$error":"#N/A"}}]
[null,{"$f":"Results!A41","v":0},{"$f":"Results!C41","v":0},{"$f":"Results!B41","v":0},{"$f":"Results!D41","v":0},{"$f":"Results!G41","v":""},"- vs -",{"$f":"VLOOKUP(B38,Results!$A$8:$AG$60,23,FALSE)","v":{"$error":"#N/A"}},{"$f":"VLOOKUP(H38,Results!A$8:$G$60,3,FALSE)","v":{"$error":"#N/A"}},{"$f":"VLOOKUP(H38,Results!$A$8:$G$60,2,FALSE)","v":{"$error":"#N/A"}},{"$f":"VLOOKUP(H38,Results!$A$8:$G$60,4,FALSE)","v":{"$error":"#N/A"}},{"$f":"VLOOKUP(H38,Results!$A$8:$G$60,7,FALSE)","v":{"$error":"#N/A"}},{"$f":"VLOOKUP(H38,$B$4:B38,1,FALSE)","v":{"$error":"#N/A"}}]
[null,{"$f":"Results!A42","v":0},{"$f":"Results!C42","v":0},{"$f":"Results!B42","v":0},{"$f":"Results!D42","v":0},{"$f":"Results!G42","v":""},"- vs -",{"$f":"VLOOKUP(B39,Results!$A$8:$AG$60,23,FALSE)","v":{"$error":"#N/A"}},{"$f":"VLOOKUP(H39,Results!A$8:$G$60,3,FALSE)","v":{"$error":"#N/A"}},{"$f":"VLOOKUP(H39,Results!$A$8:$G$60,2,FALSE)","v":{"$error":"#N/A"}},{"$f":"VLOOKUP(H39,Results!$A$8:$G$60,4,FALSE)","v":{"$error":"#N/A"}},{"$f":"VLOOKUP(H39,Results!$A$8:$G$60,7,FALSE)","v":{"$error":"#N/A"}},{"$f":"VLOOKUP(H39,$B$4:B39,1,FALSE)","v":{"$error":"#N/A"}}]
[null,{"$f":"Results!A43","v":0},{"$f":"Results!C43","v":0},{"$f":"Results!B43","v":0},{"$f":"Results!D43","v":0},{"$f":"Results!G43","v":""},"- vs -",{"$f":"VLOOKUP(B40,Results!$A$8:$AG$60,23,FALSE)","v":{"$error":"#N/A"}},{"$f":"VLOOKUP(H40,Results!A$8:$G$60,3,FALSE)","v":{"$error":"#N/A"}},{"$f":"VLOOKUP(H40,Results!$A$8:$G$60,2,FALSE)","v":{"$error":"#N/A"}},{"$f":"VLOOKUP(H40,Results!$A$8:$G$60,4,FALSE)","v":{"$error":"#N/A"}},{"$f":"VLOOKUP(H40,Results!$A$8:$G$60,7,FALSE)","v":{"$error":"#N/A"}},{"$f":"VLOOKUP(H40,$B$4:B40,1,FALSE)","v":{"$error":"#N/A"}}]
[null,{"$f":"Results!A44","v":0},{"$f":"Results!C44","v":0},{"$f":"Results!B44","v":0},{"$f":"Results!D44","v":0},{"$f":"Results!G44","v":""},"- vs -",{"$f":"VLOOKUP(B41,Results!$A$8:$AG$60,23,FALSE)","v":{"$error":"#N/A"}},{"$f":"VLOOKUP(H41,Results!A$8:$G$60,3,FALSE)","v":{"$error":"#N/A"}},{"$f":"VLOOKUP(H41,Results!$A$8:$G$60,2,FALSE)","v":{"$error":"#N/A"}},{"$f":"VLOOKUP(H41,Results!$A$8:$G$60,4,FALSE)","v":{"$error":"#N/A"}},{"$f":"VLOOKUP(H41,Results!$A$8:$G$60,7,FALSE)","v":{"$error":"#N/A"}},{"$f":"VLOOKUP(H41,$B$4:B41,1,FALSE)","v":{"$error":"#N/A"}}]
[null,{"$f":"Results!A45","v":0},{"$f":"Results!C45","v":0},{"$f":"Results!B45","v":0},{"$f":"Results!D45","v":0},{"$f":"Results!G45","v":""},"- vs -",{"$f":"VLOOKUP(B42,Results!$A$8:$AG$60,23,FALSE)","v":{"$error":"#N/A"}},{"$f":"VLOOKUP(H42,Results!A$8:$G$60,3,FALSE)","v":{"$error":"#N/A"}},{"$f":"VLOOKUP(H42,Results!$A$8:$G$60,2,FALSE)","v":{"$error":"#N/A"}},{"$f":"VLOOKUP(H42,Results!$A$8:$G$60,4,FALSE)","v":{"$error":"#N/A"}},{"$f":"VLOOKUP(H42,Results!$A$8:$G$60,7,FALSE)","v":{"$error":"#N/A"}},{"$f":"VLOOKUP(H42,$B$4:B42,1,FALSE)","v":{"$error":"#N/A"}}]
[null,{"$f":"Results!A46","v":0},{"$f":"Results!C46","v":0},{"$f":"Results!B46","v":0},{"$f":"Results!D46","v":0},{"$f":"Results!G46","v":""},"- vs -",{"$f":"VLOOKUP(B43,Results!$A$8:$AG$60,23,FALSE)","v":{"$error":"#N/A"}},{"$f":"VLOOKUP(H43,Results!A$8:$G$60,3,FALSE)","v":{"$error":"#N/A"}},{"$f":"VLOOKUP(H43,Results!$A$8:$G$60,2,FALSE)","v":{"$error":"#N/A"}},{"$f":"VLOOKUP(H43,Results!$A$8:$G$60,4,FALSE)","v":{"$error":"#N/A"}},{"$f":"VLOOKUP(H43,Results!$A$8:$G$60,7,FALSE)","v":{"$error":"#N/A"}},{"$f":"VLOOKUP(H43,$B$4:B43,1,FALSE)","v":{"$error":"#N/A"}}]
[null,{"$f":"Results!A47","v":0},{"$f":"Results!C47","v":0},{"$f":"Results!B47","v":0},{"$f":"Results!D47","v":0},{"$f":"Results!G47","v":""},"- vs -",{"$f":"VLOOKUP(B44,Results!$A$8:$AG$60,23,FALSE)","v":{"$error":"#N/A"}},{"$f":"VLOOKUP(H44,Results!A$8:$G$60,3,FALSE)","v":{"$error":"#N/A"}},{"$f":"VLOOKUP(H44,Results!$A$8:$G$60,2,FALSE)","v":{"$error":"#N/A"}},{"$f":"VLOOKUP(H44,Results!$A$8:$G$60,4,FALSE)","v":{"$error":"#N/A"}},{"$f":"VLOOKUP(H44,Results!$A$8:$G$60,7,FALSE)","v":{"$error":"#N/A"}},{"$f":"VLOOKUP(H44,$B$4:B44,1,FALSE)","v":{"$error":"#N/A"}}]
[null,{"$f":"Results!A48","v":0},{"$f":"Results!C48","v":0},{"$f":"Results!B48","v":0},{"$f":"Results!D48","v":0},{"$f":"Results!G48","v":""},"- vs -",{"$f":"VLOOKUP(B45,Results!$A$8:$AG$60,23,FALSE)","v":{"$error":"#N/A"}},{"$f":"VLOOKUP(H45,Results!A$8:$G$60,3,FALSE)","v":{"$error":"#N/A"}},{"$f":"VLOOKUP(H45,Results!$A$8:$G$60,2,FALSE)","v":{"$error":"#N/A"}},{"$f":"VLOOKUP(H45,Results!$A$8:$G$60,4,FALSE)","v":{"$error":"#N/A"}},{"$f":"VLOOKUP(H45,Results!$A$8:$G$60,7,FALSE)","v":{"$error":"#N/A"}},{"$f":"VLOOKUP(H45,$B$4:B45,1,FALSE)","v":{"$error":"#N/A"}}]
[null,{"$f":"Results!A49","v":0},{"$f":"Results!C49","v":0},{"$f":"Results!B49","v":0},{"$f":"Results!D49","v":0},{"$f":"Results!G49","v":""},"- vs -",{"$f":"VLOOKUP(B46,Results!$A$8:$AG$60,23,FALSE)","v":{"$error":"#N/A"}},{"$f":"VLOOKUP(H46,Results!A$8:$G$60,3,FALSE)","v":{"$error":"#N/A"}},{"$f":"VLOOKUP(H46,Results!$A$8:$G$60,2,FALSE)","v":{"$error":"#N/A"}},{"$f":"VLOOKUP(H46,Results!$A$8:$G$60,4,FALSE)","v":{"$error":"#N/A"}},{"$f":"VLOOKUP(H46,Results!$A$8:$G$60,7,FALSE)","v":{"$error":"#N/A"}},{"$f":"VLOOKUP(H46,$B$4:B46,1,FALSE)","v":{"$error":"#N/A"}}]
[null,{"$f":"Results!A50","v":0},{"$f":"Results!C50","v":0},{"$f":"Results!B50","v":0},{"$f":"Results!D50","v":0},{"$f":"Results!G50","v":""},"- vs -",{"$f":"VLOOKUP(B47,Results!$A$8:$AG$60,23,FALSE)","v":{"$error":"#N/A"}},{"$f":"VLOOKUP(H47,Results!A$8:$G$60,3,FALSE)","v":{"$error":"#N/A"}},{"$f":"VLOOKUP(H47,Results!$A$8:$G$60,2,FALSE)","v":{"$error":"#N/A"}},{"$f":"VLOOKUP(H47,Results!$A$8:$G$60,4,FALSE)","v":{"$error":"#N/A"}},{"$f":"VLOOKUP(H47,Results!$A$8:$G$60,7,FALSE)","v":{"$error":"#N/A"}},{"$f":"VLOOKUP(H47,$B$4:B47,1,FALSE)","v":{"$error":"#N/A"}}]
[null,{"$f":"Results!A51","v":0},{"$f":"Results!C51","v":0},{"$f":"Results!B51","v":0},{"$f":"Results!D51","v":0},{"$f":"Results!G51","v":""},"- vs -",{"$f":"VLOOKUP(B48,Results!$A$8:$AG$60,23,FALSE)","v":{"$error":"#N/A"}},{"$f":"VLOOKUP(H48,Results!A$8:$G$60,3,FALSE)","v":{"$error":"#N/A"}},{"$f":"VLOOKUP(H48,Results!$A$8:$G$60,2,FALSE)","v":{"$error":"#N/A"}},{"$f":"VLOOKUP(H48,Results!$A$8:$G$60,4,FALSE)","v":{"$error":"#N/A"}},{"$f":"VLOOKUP(H48,Results!$A$8:$G$60,7,FALSE)","v":{"$error":"#N/A"}},{"$f":"VLOOKUP(H48,$B$4:B48,1,FALSE)","v":{"$error":"#N/A"}}]
[null,{"$f":"Results!A52","v":0},{"$f":"Results!C52","v":0},{"$f":"Results!B52","v":0},{"$f":"Results!D52","v":0},{"$f":"Results!G52","v":""},"- vs -",{"$f":"VLOOKUP(B49,Results!$A$8:$AG$60,23,FALSE)","v":{"$error":"#N/A"}},{"$f":"VLOOKUP(H49,Results!A$8:$G$60,3,FALSE)","v":{"$error":"#N/A"}},{"$f":"VLOOKUP(H49,Results!$A$8:$G$60,2,FALSE)","v":{"$error":"#N/A"}},{"$f":"VLOOKUP(H49,Results!$A$8:$G$60,4,FALSE)","v":{"$error":"#N/A"}},{"$f":"VLOOKUP(H49,Results!$A$8:$G$60,7,FALSE)","v":{"$error":"#N/A"}},{"$f":"VLOOKUP(H49,$B$4:B49,1,FALSE)","v":{"$error":"#N/A"}}]
[null,{"$f":"Results!A53","v":0},{"$f":"Results!C53","v":0},{"$f":"Results!B53","v":0},{"$f":"Results!D53","v":0},{"$f":"Results!G53","v":""},"- vs -",{"$f":"VLOOKUP(B50,Results!$A$8:$AG$60,23,FALSE)","v":{"$error":"#N/A"}},{"$f":"VLOOKUP(H50,Results!A$8:$G$60,3,FALSE)","v":{"$error":"#N/A"}},{"$f":"VLOOKUP(H50,Results!$A$8:$G$60,2,FALSE)","v":{"$error":"#N/A"}},{"$f":"VLOOKUP(H50,Results!$A$8:$G$60,4,FALSE)","v":{"$error":"#N/A"}},{"$f":"VLOOKUP(H50,Results!$A$8:$G$60,7,FALSE)","v":{"$error":"#N/A"}},{"$f":"VLOOKUP(H50,$B$4:B50,1,FALSE)","v":{"$error":"#N/A"}}]
[null,{"$f":"Results!A54","v":0},{"$f":"Results!C54","v":0},{"$f":"Results!B54","v":0},{"$f":"Results!D54","v":0},{"$f":"Results!G54","v":""},"- vs -",{"$f":"VLOOKUP(B51,Results!$A$8:$AG$60,23,FALSE)","v":{"$error":"#N/A"}},{"$f":"VLOOKUP(H51,Results!A$8:$G$60,3,FALSE)","v":{"$error":"#N/A"}},{"$f":"VLOOKUP(H51,Results!$A$8:$G$60,2,FALSE)","v":{"$error":"#N/A"}},{"$f":"VLOOKUP(H51,Results!$A$8:$G$60,4,FALSE)","v":{"$error":"#N/A"}},{"$f":"VLOOKUP(H51,Results!$A$8:$G$60,7,FALSE)","v":{"$error":"#N/A"}},{"$f":"VLOOKUP(H51,$B$4:B51,1,FALSE)","v":{"$error":"#N/A"}}]
[null,{"$f":"Results!A55","v":0},{"$f":"Results!C55","v":0},{"$f":"Results!B55","v":0},{"$f":"Results!D55","v":0},{"$f":"Results!G55","v":""},"- vs -",{"$f":"VLOOKUP(B52,Results!$A$8:$AG$60,23,FALSE)","v":{"$error":"#N/A"}},{"$f":"VLOOKUP(H52,Results!A$8:$G$60,3,FALSE)","v":{"$error":"#N/A"}},{"$f":"VLOOKUP(H52,Results!$A$8:$G$60,2,FALSE)","v":{"$error":"#N/A"}},{"$f":"VLOOKUP(H52,Results!$A$8:$G$60,4,FALSE)","v":{"$error":"#N/A"}},{"$f":"VLOOKUP(H52,Results!$A$8:$G$60,7,FALSE)","v":{"$error":"#N/A"}},{"$f":"VLOOKUP(H52,$B$4:B52,1,FALSE)","v":{"$error":"#N/A"}}]
[null,{"$f":"Results!A56","v":0},{"$f":"Results!C56","v":0},{"$f":"Results!B56","v":0},{"$f":"Results!D56","v":0},{"$f":"Results!G56","v":""},"- vs -",{"$f":"VLOOKUP(B53,Results!$A$8:$AG$60,23,FALSE)","v":{"$error":"#N/A"}},{"$f":"VLOOKUP(H53,Results!A$8:$G$60,3,FALSE)","v":{"$error":"#N/A"}},{"$f":"VLOOKUP(H53,Results!$A$8:$G$60,2,FALSE)","v":{"$error":"#N/A"}},{"$f":"VLOOKUP(H53,Results!$A$8:$G$60,4,FALSE)","v":{"$error":"#N/A"}},{"$f":"VLOOKUP(H53,Results!$A$8:$G$60,7,FALSE)","v":{"$error":"#N/A"}},{"$f":"VLOOKUP(H53,$B$4:B53,1,FALSE)","v":{"$error":"#N/A"}}]
[null,{"$f":"Results!A57","v":0},{"$f":"Results!C57","v":0},{"$f":"Results!B57","v":0},{"$f":"Results!D57","v":0},{"$f":"Results!G57","v":""},"- vs -",{"$f":"VLOOKUP(B54,Results!$A$8:$AG$60,23,FALSE)","v":{"$error":"#N/A"}},{"$f":"VLOOKUP(H54,Results!A$8:$G$60,3,FALSE)","v":{"$error":"#N/A"}},{"$f":"VLOOKUP(H54,Results!$A$8:$G$60,2,FALSE)","v":{"$error":"#N/A"}},{"$f":"VLOOKUP(H54,Results!$A$8:$G$60,4,FALSE)","v":{"$error":"#N/A"}},{"$f":"VLOOKUP(H54,Results!$A$8:$G$60,7,FALSE)","v":{"$error":"#N/A"}},{"$f":"VLOOKUP(H54,$B$4:B54,1,FALSE)","v":{"$error":"#N/A"}}]
[null,{"$f":"Results!A58","v":0},{"$f":"Results!C58","v":0},{"$f":"Results!B58","v":0},{"$f":"Results!D58","v":0},{"$f":"Results!G58","v":""},"- vs -",{"$f":"VLOOKUP(B55,Results!$A$8:$AG$60,23,FALSE)","v":{"$error":"#N/A"}},{"$f":"VLOOKUP(H55,Results!A$8:$G$60,3,FALSE)","v":{"$error":"#N/A"}},{"$f":"VLOOKUP(H55,Results!$A$8:$G$60,2,FALSE)","v":{"$error":"#N/A"}},{"$f":"VLOOKUP(H55,Results!$A$8:$G$60,4,FALSE)","v":{"$error":"#N/A"}},{"$f":"VLOOKUP(H55,Results!$A$8:$G$60,7,FALSE)","v":{"$error":"#N/A"}},{"$f":"VLOOKUP(H55,$B$4:B55,1,FALSE)","v":{"$error":"#N/A"}}]
[null,{"$f":"Results!A59","v":0},{"$f":"Results!C59","v":0},{"$f":"Results!B59","v":0},{"$f":"Results!D59","v":0},{"$f":"Results!G59","v":""},"- vs -",{"$f":"VLOOKUP(B56,Results!$A$8:$AG$60,23,FALSE)","v":{"$error":"#N/A"}},{"$f":"VLOOKUP(H56,Results!A$8:$G$60,3,FALSE)","v":{"$error":"#N/A"}},{"$f":"VLOOKUP(H56,Results!$A$8:$G$60,2,FALSE)","v":{"$error":"#N/A"}},{"$f":"VLOOKUP(H56,Results!$A$8:$G$60,4,FALSE)","v":{"$error":"#N/A"}},{"$f":"VLOOKUP(H56,Results!$A$8:$G$60,7,FALSE)","v":{"$error":"#N/A"}},{"$f":"VLOOKUP(H56,$B$4:B56,1,FALSE)","v":{"$error":"#N/A"}}]
[null,{"$f":"Results!A60","v":0},{"$f":"Results!C60","v":0},{"$f":"Results!B60","v":0},{"$f":"Results!D60","v":0},{"$f":"Results!G60","v":""},"- vs -",{"$f":"VLOOKUP(B57,Results!$A$8:$AG$60,23,FALSE)","v":{"$error":"#N/A"}},{"$f":"VLOOKUP(H57,Results!A$8:$G$60,3,FALSE)","v":{"$error":"#N/A"}},{"$f":"VLOOKUP(H57,Results!$A$8:$G$60,2,FALSE)","v":{"$error":"#N/A"}},{"$f":"VLOOKUP(H57,Results!$A$8:$G$60,4,FALSE)","v":{"$error":"#N/A"}},{"$f":"VLOOKUP(H57,Results!$A$8:$G$60,7,FALSE)","v":{"$error":"#N/A"}},{"$f":"VLOOKUP(H57,$B$4:B57,1,FALSE)","v":{"$error":"#N/A"}}]
[null,{"$f":"Results!A61","v":0},{"$f":"Results!C61","v":0},{"$f":"Results!B61","v":0},{"$f":"Results!D61","v":0},{"$f":"Results!G61","v":""},"- vs -",{"$f":"VLOOKUP(B58,Results!$A$8:$AG$60,23,FALSE)","v":{"$error":"#N/A"}},{"$f":"VLOOKUP(H58,Results!A$8:$G$60,3,FALSE)","v":{"$error":"#N/A"}},{"$f":"VLOOKUP(H58,Results!$A$8:$G$60,2,FALSE)","v":{"$error":"#N/A"}},{"$f":"VLOOKUP(H58,Results!$A$8:$G$60,4,FALSE)","v":{"$error":"#N/A"}},{"$f":"VLOOKUP(H58,Results!$A$8:$G$60,7,FALSE)","v":{"$error":"#N/A"}},{"$f":"VLOOKUP(H58,$B$4:B58,1,FALSE)","v":{"$error":"#N/A"}}]
[null,{"$f":"Results!A62","v":0},{"$f":"Results!C62","v":0},{"$f":"Results!B62","v":0},{"$f":"Results!D62","v":0},{"$f":"Results!G62","v":""},"- vs -",{"$f":"VLOOKUP(B59,Results!$A$8:$AG$60,23,FALSE)","v":{"$error":"#N/A"}},{"$f":"VLOOKUP(H59,Results!A$8:$G$60,3,FALSE)","v":{"$error":"#N/A"}},{"$f":"VLOOKUP(H59,Results!$A$8:$G$60,2,FALSE)","v":{"$error":"#N/A"}},{"$f":"VLOOKUP(H59,Results!$A$8:$G$60,4,FALSE)","v":{"$error":"#N/A"}},{"$f":"VLOOKUP(H59,Results!$A$8:$G$60,7,FALSE)","v":{"$error":"#N/A"}},{"$f":"VLOOKUP(H59,$B$4:B59,1,FALSE)","v":{"$error":"#N/A"}}]
[null,{"$f":"Results!A63","v":0},{"$f":"Results!C63","v":0},{"$f":"Results!B63","v":0},{"$f":"Results!D63","v":0},{"$f":"Results!G63","v":""},"- vs -",{"$f":"VLOOKUP(B60,Results!$A$8:$AG$60,23,FALSE)","v":{"$error":"#N/A"}},{"$f":"VLOOKUP(H60,Results!A$8:$G$60,3,FALSE)","v":{"$error":"#N/A"}},{"$f":"VLOOKUP(H60,Results!$A$8:$G$60,2,FALSE)","v":{"$error":"#N/A"}},{"$f":"VLOOKUP(H60,Results!$A$8:$G$60,4,FALSE)","v":{"$error":"#N/A"}},{"$f":"VLOOKUP(H60,Results!$A$8:$G$60,7,FALSE)","v":{"$error":"#N/A"}},{"$f":"VLOOKUP(H60,$B$4:B60,1,FALSE)","v":{"$error":"#N/A"}}]
[null,{"$f":"Results!A64","v":0},{"$f":"Results!C64","v":0},{"$f":"Results!B64","v":0},{"$f":"Results!D64","v":0},{"$f":"Results!G64","v":""},"- vs -",{"$f":"VLOOKUP(B61,Results!$A$8:$AG$60,23,FALSE)","v":{"$error":"#N/A"}},{"$f":"VLOOKUP(H61,Results!A$8:$G$60,3,FALSE)","v":{"$error":"#N/A"}},{"$f":"VLOOKUP(H61,Results!$A$8:$G$60,2,FALSE)","v":{"$error":"#N/A"}},{"$f":"VLOOKUP(H61,Results!$A$8:$G$60,4,FALSE)","v":{"$error":"#N/A"}},{"$f":"VLOOKUP(H61,Results!$A$8:$G$60,7,FALSE)","v":{"$error":"#N/A"}},{"$f":"VLOOKUP(H61,$B$4:B61,1,FALSE)","v":{"$error":"#N/A"}}]
[null,{"$f":"Results!A65","v":0},{"$f":"Results!C65","v":0},{"$f":"Results!B65","v":0},{"$f":"Results!D65","v":0},{"$f":"Results!G65","v":""},"- vs -",{"$f":"VLOOKUP(B62,Results!$A$8:$AG$60,23,FALSE)","v":{"$error":"#N/A"}},{"$f":"VLOOKUP(H62,Results!A$8:$G$60,3,FALSE)","v":{"$error":"#N/A"}},{"$f":"VLOOKUP(H62,Results!$A$8:$G$60,2,FALSE)","v":{"$error":"#N/A"}},{"$f":"VLOOKUP(H62,Results!$A$8:$G$60,4,FALSE)","v":{"$error":"#N/A"}},{"$f":"VLOOKUP(H62,Results!$A$8:$G$60,7,FALSE)","v":{"$error":"#N/A"}},{"$f":"VLOOKUP(H62,$B$4:B62,1,FALSE)","v":{"$error":"#N/A"}}]
[null,{"$f":"Results!A66","v":0},{"$f":"Results!C66","v":0},{"$f":"Results!B66","v":0},{"$f":"Results!D66","v":0},{"$f":"Results!G66","v":""},"- vs -",{"$f":"VLOOKUP(B63,Results!$A$8:$AG$60,23,FALSE)","v":{"$error":"#N/A"}},{"$f":"VLOOKUP(H63,Results!A$8:$G$60,3,FALSE)","v":{"$error":"#N/A"}},{"$f":"VLOOKUP(H63,Results!$A$8:$G$60,2,FALSE)","v":{"$error":"#N/A"}},{"$f":"VLOOKUP(H63,Results!$A$8:$G$60,4,FALSE)","v":{"$error":"#N/A"}},{"$f":"VLOOKUP(H63,Results!$A$8:$G$60,7,FALSE)","v":{"$error":"#N/A"}},{"$f":"VLOOKUP(H63,$B$4:B63,1,FALSE)","v":{"$error":"#N/A"}}]
[null,{"$f":"Results!A67","v":0},{"$f":"Results!C67","v":0},{"$f":"Results!B67","v":0},{"$f":"Results!D67","v":0},{"$f":"Results!G67","v":""},"- vs -",{"$f":"VLOOKUP(B64,Results!$A$8:$AG$60,23,FALSE)","v":{"$error":"#N/A"}},{"$f":"VLOOKUP(H64,Results!A$8:$G$60,3,FALSE)","v":{"$error":"#N/A"}},{"$f":"VLOOKUP(H64,Results!$A$8:$G$60,2,FALSE)","v":{"$error":"#N/A"}},{"$f":"VLOOKUP(H64,Results!$A$8:$G$60,4,FALSE)","v":{"$error":"#N/A"}},{"$f":"VLOOKUP(H64,Results!$A$8:$G$60,7,FALSE)","v":{"$error":"#N/A"}}]
[null,{"$f":"Results!A68","v":0},{"$f":"Results!C68","v":0},{"$f":"Results!B68","v":0},{"$f":"Results!D68","v":0},{"$f":"Results!G68","v":""},"- vs -",{"$f":"VLOOKUP(B65,Results!$A$8:$AG$60,23,FALSE)","v":{"$error":"#N/A"}},{"$f":"VLOOKUP(H65,Results!A$8:$G$60,3,FALSE)","v":{"$error":"#N/A"}},{"$f":"VLOOKUP(H65,Results!$A$8:$G$60,2,FALSE)","v":{"$error":"#N/A"}},{"$f":"VLOOKUP(H65,Results!$A$8:$G$60,4,FALSE)","v":{"$error":"#N/A"}},{"$f":"VLOOKUP(H65,Results!$A$8:$G$60,7,FALSE)","v":{"$error":"#N/A"}}]
[null,{"$f":"Results!A69","v":0},{"$f":"Results!C69","v":0},{"$f":"Results!B69","v":0},{"$f":"Results!D69","v":0},{"$f":"Results!G69","v":""},"- vs -",{"$f":"VLOOKUP(B66,Results!$A$8:$AG$60,23,FALSE)","v":{"$error":"#N/A"}},{"$f":"VLOOKUP(H66,Results!A$8:$G$60,3,FALSE)","v":{"$error":"#N/A"}},{"$f":"VLOOKUP(H66,Results!$A$8:$G$60,2,FALSE)","v":{"$error":"#N/A"}},{"$f":"VLOOKUP(H66,Results!$A$8:$G$60,4,FALSE)","v":{"$error":"#N/A"}},{"$f":"VLOOKUP(H66,Results!$A$8:$G$60,7,FALSE)","v":{"$error":"#N/A"}}]
[null,{"$f":"Results!A70","v":0},{"$f":"Results!C70","v":0},{"$f":"Results!B70","v":0},{"$f":"Results!D70","v":0},{"$f":"Results!G70","v":""},"- vs -",{"$f":"VLOOKUP(B67,Results!$A$8:$AG$60,23,FALSE)","v":{"$error":"#N/A"}},{"$f":"VLOOKUP(H67,Results!A$8:$G$60,3,FALSE)","v":{"$error":"#N/A"}},{"$f":"VLOOKUP(H67,Results!$A$8:$G$60,2,FALSE)","v":{"$error":"#N/A"}},{"$f":"VLOOKUP(H67,Results!$A$8:$G$60,4,FALSE)","v":{"$error":"#N/A"}},{"$f":"VLOOKUP(H67,Results!$A$8:$G$60,7,FALSE)","v":{"$error":"#N/A"}}]
[null,{"$f":"Results!A71","v":0},{"$f":"Results!C71","v":0},{"$f":"Results!B71","v":0},{"$f":"Results!D71","v":0},{"$f":"Results!G71","v":""},"- vs -",{"$f":"VLOOKUP(B68,Results!$A$8:$AG$60,23,FALSE)","v":{"$error":"#N/A"}},{"$f":"VLOOKUP(H68,Results!A$8:$G$60,3,FALSE)","v":{"$error":"#N/A"}},{"$f":"VLOOKUP(H68,Results!$A$8:$G$60,2,FALSE)","v":{"$error":"#N/A"}},{"$f":"VLOOKUP(H68,Results!$A$8:$G$60,4,FALSE)","v":{"$error":"#N/A"}},{"$f":"VLOOKUP(H68,Results!$A$8:$G$60,7,FALSE)","v":{"$error":"#N/A"}}]
[null,{"$f":"Results!A72","v":0},{"$f":"Results!C72","v":0},{"$f":"Results!B72","v":0},{"$f":"Results!D72","v":0},{"$f":"Results!G72","v":""},"- vs -",{"$f":"VLOOKUP(B69,Results!$A$8:$AG$60,23,FALSE)","v":{"$error":"#N/A"}},{"$f":"VLOOKUP(H69,Results!A$8:$G$60,3,FALSE)","v":{"$error":"#N/A"}},{"$f":"VLOOKUP(H69,Results!$A$8:$G$60,2,FALSE)","v":{"$error":"#N/A"}},{"$f":"VLOOKUP(H69,Results!$A$8:$G$60,4,FALSE)","v":{"$error":"#N/A"}},{"$f":"VLOOKUP(H69,Results!$A$8:$G$60,7,FALSE)","v":{"$error":"#N/A"}}]
[null,{"$f":"Results!A73","v":0},{"$f":"Results!C73","v":0},{"$f":"Results!B73","v":0},{"$f":"Results!D73","v":0},{"$f":"Results!G73","v":""},"- vs -",{"$f":"VLOOKUP(B70,Results!$A$8:$AG$60,23,FALSE)","v":{"$error":"#N/A"}},{"$f":"VLOOKUP(H70,Results!A$8:$G$60,3,FALSE)","v":{"$error":"#N/A"}},{"$f":"VLOOKUP(H70,Results!$A$8:$G$60,2,FALSE)","v":{"$error":"#N/A"}},{"$f":"VLOOKUP(H70,Results!$A$8:$G$60,4,FALSE)","v":{"$error":"#N/A"}},{"$f":"VLOOKUP(H70,Results!$A$8:$G$60,7,FALSE)","v":{"$error":"#N/A"}}]
[null,{"$f":"Results!A74","v":0},{"$f":"Results!C74","v":0},{"$f":"Results!B74","v":0},{"$f":"Results!D74","v":0},{"$f":"Results!G74","v":""},"- vs -",{"$f":"VLOOKUP(B71,Results!$A$8:$AG$60,23,FALSE)","v":{"$error":"#N/A"}},{"$f":"VLOOKUP(H71,Results!A$8:$G$60,3,FALSE)","v":{"$error":"#N/A"}},{"$f":"VLOOKUP(H71,Results!$A$8:$G$60,2,FALSE)","v":{"$error":"#N/A"}},{"$f":"VLOOKUP(H71,Results!$A$8:$G$60,4,FALSE)","v":{"$error":"#N/A"}},{"$f":"VLOOKUP(H71,Results!$A$8:$G$60,7,FALSE)","v":{"$error":"#N/A"}}]
[null,{"$f":"Results!A75","v":0},{"$f":"Results!C75","v":0},{"$f":"Results!B75","v":0},{"$f":"Results!D75","v":0},{"$f":"Results!G75","v":""},"- vs -",{"$f":"VLOOKUP(B72,Results!$A$8:$AG$60,23,FALSE)","v":{"$error":"#N/A"}},{"$f":"VLOOKUP(H72,Results!A$8:$G$60,3,FALSE)","v":{"$error":"#N/A"}},{"$f":"VLOOKUP(H72,Results!$A$8:$G$60,2,FALSE)","v":{"$error":"#N/A"}},{"$f":"VLOOKUP(H72,Results!$A$8:$G$60,4,FALSE)","v":{"$error":"#N/A"}},{"$f":"VLOOKUP(H72,Results!$A$8:$G$60,7,FALSE)","v":{"$error":"#N/A"}}]
[null,{"$f":"Results!A76","v":0},{"$f":"Results!C76","v":0},{"$f":"Results!B76","v":0},{"$f":"Results!D76","v":0},{"$f":"Results!G76","v":""},"- vs -",{"$f":"VLOOKUP(B73,Results!$A$8:$AG$60,23,FALSE)","v":{"$error":"#N/A"}},{"$f":"VLOOKUP(H73,Results!A$8:$G$60,3,FALSE)","v":{"$error":"#N/A"}},{"$f":"VLOOKUP(H73,Results!$A$8:$G$60,2,FALSE)","v":{"$error":"#N/A"}},{"$f":"VLOOKUP(H73,Results!$A$8:$G$60,4,FALSE)","v":{"$error":"#N/A"}},{"$f":"VLOOKUP(H73,Results!$A$8:$G$60,7,FALSE)","v":{"$error":"#N/A"}}]
[null,{"$f":"Results!A77","v":0},{"$f":"Results!C77","v":0},{"$f":"Results!B77","v":0},{"$f":"Results!D77","v":0},{"$f":"Results!G77","v":""},"- vs -",{"$f":"VLOOKUP(B74,Results!$A$8:$AG$60,23,FALSE)","v":{"$error":"#N/A"}},{"$f":"VLOOKUP(H74,Results!A$8:$G$60,3,FALSE)","v":{"$error":"#N/A"}},{"$f":"VLOOKUP(H74,Results!$A$8:$G$60,2,FALSE)","v":{"$error":"#N/A"}},{"$f":"VLOOKUP(H74,Results!$A$8:$G$60,4,FALSE)","v":{"$error":"#N/A"}},{"$f":"VLOOKUP(H74,Results!$A$8:$G$60,7,FALSE)","v":{"$error":"#N/A"}}]
[null,{"$f":"Results!A78","v":0},{"$f":"Results!C78","v":0},{"$f":"Results!B78","v":0},{"$f":"Results!D78","v":0},{"$f":"Results!G78","v":""},"- vs -",{"$f":"VLOOKUP(B75,Results!$A$8:$AG$60,23,FALSE)","v":{"$error":"#N/A"}},{"$f":"VLOOKUP(H75,Results!A$8:$G$60,3,FALSE)","v":{"$error":"#N/A"}},{"$f":"VLOOKUP(H75,Results!$A$8:$G$60,2,FALSE)","v":{"$error":"#N/A"}},{"$f":"VLOOKUP(H75,Results!$A$8:$G$60,4,FALSE)","v":{"$error":"#N/A"}},{"$f":"VLOOKUP(H75,Results!$A$8:$G$60,7,FALSE)","v":{"$error":"#N/A"}}]
[null,{"$f":"Results!A79","v":0},{"$f":"Results!C79","v":0},{"$f":"Results!B79","v":0},{"$f":"Results!D79","v":0},{"$f":"Results!G79","v":""},"- vs -",{"$f":"VLOOKUP(B76,Results!$A$8:$AG$60,23,FALSE)","v":{"$error":"#N/A"}},{"$f":"VLOOKUP(H76,Results!A$8:$G$60,3,FALSE)","v":{"$error":"#N/A"}},{"$f":"VLOOKUP(H76,Results!$A$8:$G$60,2,FALSE)","v":{"$error":"#N/A"}},{"$f":"VLOOKUP(H76,Results!$A$8:$G$60,4,FALSE)","v":{"$error":"#N/A"}},{"$f":"VLOOKUP(H76,Results!$A$8:$G$60,7,FALSE)","v":{"$error":"#N/A"}}]
[null,{"$f":"Results!A80","v":0},{"$f":"Results!C80","v":0},{"$f":"Results!B80","v":0},{"$f":"Results!D80","v":0},{"$f":"Results!G80","v":""},"- vs -",{"$f":"VLOOKUP(B77,Results!$A$8:$AG$60,23,FALSE)","v":{"$error":"#N/A"}},{"$f":"VLOOKUP(H77,Results!A$8:$G$60,3,FALSE)","v":{"$error":"#N/A"}},{"$f":"VLOOKUP(H77,Results!$A$8:$G$60,2,FALSE)","v":{"$error":"#N/A"}},{"$f":"VLOOKUP(H77,Results!$A$8:$G$60,4,FALSE)","v":{"$error":"#N/A"}},{"$f":"VLOOKUP(H77,Results!$A$8:$G$60,7,FALSE)","v":{"$error":"#N/A"}}]
[null,{"$f":"Results!A81","v":0},{"$f":"Results!C81","v":0},{"$f":"Results!B81","v":0},{"$f":"Results!D81","v":0},{"$f":"Results!G81","v":""},"- vs -",{"$f":"VLOOKUP(B78,Results!$A$8:$AG$60,23,FALSE)","v":{"$error":"#N/A"}},{"$f":"VLOOKUP(H78,Results!A$8:$G$60,3,FALSE)","v":{"$error":"#N/A"}},{"$f":"VLOOKUP(H78,Results!$A$8:$G$60,2,FALSE)","v":{"$error":"#N/A"}},{"$f":"VLOOKUP(H78,Results!$A$8:$G$60,4,FALSE)","v":{"$error":"#N/A"}},{"$f":"VLOOKUP(H78,Results!$A$8:$G$60,7,FALSE)","v":{"$error":"#N/A"}}]
[null,{"$f":"Results!A82","v":0},{"$f":"Results!C82","v":0},{"$f":"Results!B82","v":0},{"$f":"Results!D82","v":0},{"$f":"Results!G82","v":""},"- vs -",{"$f":"VLOOKUP(B79,Results!$A$8:$AG$60,23,FALSE)","v":{"$error":"#N/A"}},{"$f":"VLOOKUP(H79,Results!A$8:$G$60,3,FALSE)","v":{"$error":"#N/A"}},{"$f":"VLOOKUP(H79,Results!$A$8:$G$60,2,FALSE)","v":{"$error":"#N/A"}},{"$f":"VLOOKUP(H79,Results!$A$8:$G$60,4,FALSE)","v":{"$error":"#N/A"}},{"$f":"VLOOKUP(H79,Results!$A$8:$G$60,7,FALSE)","v":{"$error":"#N/A"}}]
[null,{"$f":"Results!A83","v":0},{"$f":"Results!C83","v":0},{"$f":"Results!B83","v":0},{"$f":"Results!D83","v":0},{"$f":"Results!G83","v":""},"- vs -",{"$f":"VLOOKUP(B80,Results!$A$8:$AG$60,23,FALSE)","v":{"$error":"#N/A"}},{"$f":"VLOOKUP(H80,Results!A$8:$G$60,3,FALSE)","v":{"$error":"#N/A"}},{"$f":"VLOOKUP(H80,Results!$A$8:$G$60,2,FALSE)","v":{"$error":"#N/A"}},{"$f":"VLOOKUP(H80,Results!$A$8:$G$60,4,FALSE)","v":{"$error":"#N/A"}},{"$f":"VLOOKUP(H80,Results!$A$8:$G$60,7,FALSE)","v":{"$error":"#N/A"}}]
[null,{"$f":"Results!A84","v":0},{"$f":"Results!C84","v":0},{"$f":"Results!B84","v":0},{"$f":"Results!D84","v":0},{"$f":"Results!G84","v":""},"- vs -",{"$f":"VLOOKUP(B81,Results!$A$8:$AG$60,23,FALSE)","v":{"$error":"#N/A"}},{"$f":"VLOOKUP(H81,Results!A$8:$G$60,3,FALSE)","v":{"$error":"#N/A"}},{"$f":"VLOOKUP(H81,Results!$A$8:$G$60,2,FALSE)","v":{"$error":"#N/A"}},{"$f":"VLOOKUP(H81,Results!$A$8:$G$60,4,FALSE)","v":{"$error":"#N/A"}},{"$f":"VLOOKUP(H81,Results!$A$8:$G$60,7,FALSE)","v":{"$error":"#N/A"}}]
[null,{"$f":"Results!A85","v":0},{"$f":"Results!C85","v":0},{"$f":"Results!B85","v":0},{"$f":"Results!D85","v":0},{"$f":"Results!G85","v":""},"- vs -",{"$f":"VLOOKUP(B82,Results!$A$8:$AG$60,23,FALSE)","v":{"$error":"#N/A"}},{"$f":"VLOOKUP(H82,Results!A$8:$G$60,3,FALSE)","v":{"$error":"#N/A"}},{"$f":"VLOOKUP(H82,Results!$A$8:$G$60,2,FALSE)","v":{"$error":"#N/A"}},{"$f":"VLOOKUP(H82,Results!$A$8:$G$60,4,FALSE)","v":{"$error":"#N/A"}},{"$f":"VLOOKUP(H82,Results!$A$8:$G$60,7,FALSE)","v":{"$error":"#N/A"}}]
[null,{"$f":"Results!A86","v":0},{"$f":"Results!C86","v":0},{"$f":"Results!B86","v":0},{"$f":"Results!D86","v":0},{"$f":"Results!G86","v":""},"- vs -",{"$f":"VLOOKUP(B83,Results!$A$8:$AG$60,23,FALSE)","v":{"$error":"#N/A"}},{"$f":"VLOOKUP(H83,Results!A$8:$G$60,3,FALSE)","v":{"$error":"#N/A"}},{"$f":"VLOOKUP(H83,Results!$A$8:$G$60,2,FALSE)","v":{"$error":"#N/A"}},{"$f":"VLOOKUP(H83,Results!$A$8:$G$60,4,FALSE)","v":{"$error":"#N/A"}},{"$f":"VLOOKUP(H83,Results!$A$8:$G$60,7,FALSE)","v":{"$error":"#N/A"}}]
[null,{"$f":"Results!A87","v":0},{"$f":"Results!C87","v":0},{"$f":"Results!B87","v":0},{"$f":"Results!D87","v":0},{"$f":"Results!G87","v":""},"- vs -",{"$f":"VLOOKUP(B84,Results!$A$8:$AG$60,23,FALSE)","v":{"$error":"#N/A"}},{"$f":"VLOOKUP(H84,Results!A$8:$G$60,3,FALSE)","v":{"$error":"#N/A"}},{"$f":"VLOOKUP(H84,Results!$A$8:$G$60,2,FALSE)","v":{"$error":"#N/A"}},{"$f":"VLOOKUP(H84,Results!$A$8:$G$60,4,FALSE)","v":{"$error":"#N/A"}},{"$f":"VLOOKUP(H84,Results!$A$8:$G$60,7,FALSE)","v":{"$error":"#N/A"}}]
[null,{"$f":"Results!A88","v":0},{"$f":"Results!C88","v":0},{"$f":"Results!B88","v":0},{"$f":"Results!D88","v":0},{"$f":"Results!G88","v":""},"- vs -",{"$f":"VLOOKUP(B85,Results!$A$8:$AG$60,23,FALSE)","v":{"$error":"#N/A"}},{"$f":"VLOOKUP(H85,Results!A$8:$G$60,3,FALSE)","v":{"$error":"#N/A"}},{"$f":"VLOOKUP(H85,Results!$A$8:$G$60,2,FALSE)","v":{"$error":"#N/A"}},{"$f":"VLOOKUP(H85,Results!$A$8:$G$60,4,FALSE)","v":{"$error":"#N/A"}},{"$f":"VLOOKUP(H85,Results!$A$8:$G$60,7,FALSE)","v":{"$error":"#N/A"}}]
[null,{"$f":"Results!A89","v":0},{"$f":"Results!C89","v":0},{"$f":"Results!B89","v":0},{"$f":"Results!D89","v":0},{"$f":"Results!G89","v":""},"- vs -",{"$f":"VLOOKUP(B86,Results!$A$8:$AG$60,23,FALSE)","v":{"$error":"#N/A"}},{"$f":"VLOOKUP(H86,Results!A$8:$G$60,3,FALSE)","v":{"$error":"#N/A"}},{"$f":"VLOOKUP(H86,Results!$A$8:$G$60,2,FALSE)","v":{"$error":"#N/A"}},{"$f":"VLOOKUP(H86,Results!$A$8:$G$60,4,FALSE)","v":{"$error":"#N/A"}},{"$f":"VLOOKUP(H86,Results!$A$8:$G$60,7,FALSE)","v":{"$error":"#N/A"}}]
[null,{"$f":"Results!A90","v":0},{"$f":"Results!C90","v":0},{"$f":"Results!B90","v":0},{"$f":"Results!D90","v":0},{"$f":"Results!G90","v":""},"- vs -",{"$f":"VLOOKUP(B87,Results!$A$8:$AG$60,23,FALSE)","v":{"$error":"#N/A"}},{"$f":"VLOOKUP(H87,Results!A$8:$G$60,3,FALSE)","v":{"$error":"#N/A"}},{"$f":"VLOOKUP(H87,Results!$A$8:$G$60,2,FALSE)","v":{"$error":"#N/A"}},{"$f":"VLOOKUP(H87,Results!$A$8:$G$60,4,FALSE)","v":{"$error":"#N/A"}},{"$f":"VLOOKUP(H87,Results!$A$8:$G$60,7,FALSE)","v":{"$error":"#N/A"}}]
[null,{"$f":"Results!A91","v":0},{"$f":"Results!C91","v":0},{"$f":"Results!B91","v":0},{"$f":"Results!D91","v":0},{"$f":"Results!G91","v":""},"- vs -",{"$f":"VLOOKUP(B88,Results!$A$8:$AG$60,23,FALSE)","v":{"$error":"#N/A"}},{"$f":"VLOOKUP(H88,Results!A$8:$G$60,3,FALSE)","v":{"$error":"#N/A"}},{"$f":"VLOOKUP(H88,Results!$A$8:$G$60,2,FALSE)","v":{"$error":"#N/A"}},{"$f":"VLOOKUP(H88,Results!$A$8:$G$60,4,FALSE)","v":{"$error":"#N/A"}},{"$f":"VLOOKUP(H88,Results!$A$8:$G$60,7,FALSE)","v":{"$error":"#N/A"}}]
[null,{"$f":"Results!A92","v":0},{"$f":"Results!C92","v":0},{"$f":"Results!B92","v":0},{"$f":"Results!D92","v":0},{"$f":"Results!G92","v":""},"- vs -",{"$f":"VLOOKUP(B89,Results!$A$8:$AG$60,23,FALSE)","v":{"$error":"#N/A"}},{"$f":"VLOOKUP(H89,Results!A$8:$G$60,3,FALSE)","v":{"$error":"#N/A"}},{"$f":"VLOOKUP(H89,Results!$A$8:$G$60,2,FALSE)","v":{"$error":"#N/A"}},{"$f":"VLOOKUP(H89,Results!$A$8:$G$60,4,FALSE)","v":{"$error":"#N/A"}},{"$f":"VLOOKUP(H89,Results!$A$8:$G$60,7,FALSE)","v":{"$error":"#N/A"}}]
[null,{"$f":"Results!A93","v":0},{"$f":"Results!C93","v":0},{"$f":"Results!B93","v":0},{"$f":"Results!D93","v":0},{"$f":"Results!G93","v":""},"- vs -",{"$f":"VLOOKUP(B90,Results!$A$8:$AG$60,23,FALSE)","v":{"$error":"#N/A"}},{"$f":"VLOOKUP(H90,Results!A$8:$G$60,3,FALSE)","v":{"$error":"#N/A"}},{"$f":"VLOOKUP(H90,Results!$A$8:$G$60,2,FALSE)","v":{"$error":"#N/A"}},{"$f":"VLOOKUP(H90,Results!$A$8:$G$60,4,FALSE)","v":{"$error":"#N/A"}},{"$f":"VLOOKUP(H90,Results!$A$8:$G$60,7,FALSE)","v":{"$error":"#N/A"}}]
[null,{"$f":"Results!A94","v":0},{"$f":"Results!C94","v":0},{"$f":"Results!B94","v":0},{"$f":"Results!D94","v":0},{"$f":"Results!G94","v":""},"- vs -",{"$f":"VLOOKUP(B91,Results!$A$8:$AG$60,23,FALSE)","v":{"$error":"#N/A"}},{"$f":"VLOOKUP(H91,Results!A$8:$G$60,3,FALSE)","v":{"$error":"#N/A"}},{"$f":"VLOOKUP(H91,Results!$A$8:$G$60,2,FALSE)","v":{"$error":"#N/A"}},{"$f":"VLOOKUP(H91,Results!$A$8:$G$60,4,FALSE)","v":{"$error":"#N/A"}},{"$f":"VLOOKUP(H91,Results!$A$8:$G$60,7,FALSE)","v":{"$error":"#N/A"}}]
[null,{"$f":"Results!A95","v":0},{"$f":"Results!C95","v":0},{"$f":"Results!B95","v":0},{"$f":"Results!D95","v":0},{"$f":"Results!G95","v":""},"- vs -",{"$f":"VLOOKUP(B92,Results!$A$8:$AG$60,23,FALSE)","v":{"$error":"#N/A"}},{"$f":"VLOOKUP(H92,Results!A$8:$G$60,3,FALSE)","v":{"$error":"#N/A"}},{"$f":"VLOOKUP(H92,Results!$A$8:$G$60,2,FALSE)","v":{"$error":"#N/A"}},{"$f":"VLOOKUP(H92,Results!$A$8:$G$60,4,FALSE)","v":{"$error":"#N/A"}},{"$f":"VLOOKUP(H92,Results!$A$8:$G$60,7,FALSE)","v":{"$error":"#N/A"}}]
[null,{"$f":"Results!A96","v":0},{"$f":"Results!C96","v":0},{"$f":"Results!B96","v":0},{"$f":"Results!D96","v":0},{"$f":"Results!G96","v":""},"- vs -",{"$f":"VLOOKUP(B93,Results!$A$8:$AG$60,23,FALSE)","v":{"$error":"#N/A"}},{"$f":"VLOOKUP(H93,Results!A$8:$G$60,3,FALSE)","v":{"$error":"#N/A"}},{"$f":"VLOOKUP(H93,Results!$A$8:$G$60,2,FALSE)","v":{"$error":"#N/A"}},{"$f":"VLOOKUP(H93,Results!$A$8:$G$60,4,FALSE)","v":{"$error":"#N/A"}},{"$f":"VLOOKUP(H93,Results!$A$8:$G$60,7,FALSE)","v":{"$error":"#N/A"}}]
[null,{"$f":"Results!A97","v":0},{"$f":"Results!C97","v":0},{"$f":"Results!B97","v":0},{"$f":"Results!D97","v":0},{"$f":"Results!G97","v":""},"- vs -",{"$f":"VLOOKUP(B94,Results!$A$8:$AG$60,23,FALSE)","v":{"$error":"#N/A"}},{"$f":"VLOOKUP(H94,Results!A$8:$G$60,3,FALSE)","v":{"$error":"#N/A"}},{"$f":"VLOOKUP(H94,Results!$A$8:$G$60,2,FALSE)","v":{"$error":"#N/A"}},{"$f":"VLOOKUP(H94,Results!$A$8:$G$60,4,FALSE)","v":{"$error":"#N/A"}},{"$f":"VLOOKUP(H94,Results!$A$8:$G$60,7,FALSE)","v":{"$error":"#N/A"}}]
[null,{"$f":"Results!A98","v":0},{"$f":"Results!C98","v":0},{"$f":"Results!B98","v":0},{"$f":"Results!D98","v":0},{"$f":"Results!G98","v":""},"- vs -",{"$f":"VLOOKUP(B95,Results!$A$8:$AG$60,23,FALSE)","v":{"$error":"#N/A"}},{"$f":"VLOOKUP(H95,Results!A$8:$G$60,3,FALSE)","v":{"$error":"#N/A"}},{"$f":"VLOOKUP(H95,Results!$A$8:$G$60,2,FALSE)","v":{"$error":"#N/A"}},{"$f":"VLOOKUP(H95,Results!$A$8:$G$60,4,FALSE)","v":{"$error":"#N/A"}},{"$f":"VLOOKUP(H95,Results!$A$8:$G$60,7,FALSE)","v":{"$error":"#N/A"}}]
[null,{"$f":"Results!A99","v":0},{"$f":"Results!C99","v":0},{"$f":"Results!B99","v":0},{"$f":"Results!D99","v":0},{"$f":"Results!G99","v":""},"- vs -",{"$f":"VLOOKUP(B96,Results!$A$8:$AG$60,23,FALSE)","v":{"$error":"#N/A"}},{"$f":"VLOOKUP(H96,Results!A$8:$G$60,3,FALSE)","v":{"$error":"#N/A"}},{"$f":"VLOOKUP(H96,Results!$A$8:$G$60,2,FALSE)","v":{"$error":"#N/A"}},{"$f":"VLOOKUP(H96,Results!$A$8:$G$60,4,FALSE)","v":{"$error":"#N/A"}},{"$f":"VLOOKUP(H96,Results!$A$8:$G$60,7,FALSE)","v":{"$error":"#N/A"}}]
[null,{"$f":"Results!A100","v":0},{"$f":"Results!C100","v":0},{"$f":"Results!B100","v":0},{"$f":"Results!D100","v":0},{"$f":"Results!G100","v":""},"- vs -",{"$f":"VLOOKUP(B97,Results!$A$8:$AG$60,23,FALSE)","v":{"$error":"#N/A"}},{"$f":"VLOOKUP(H97,Results!A$8:$G$60,3,FALSE)","v":{"$error":"#N/A"}},{"$f":"VLOOKUP(H97,Results!$A$8:$G$60,2,FALSE)","v":{"$error":"#N/A"}},{"$f":"VLOOKUP(H97,Results!$A$8:$G$60,4,FALSE)","v":{"$error":"#N/A"}},{"$f":"VLOOKUP(H97,Results!$A$8:$G$60,7,FALSE)","v":{"$error":"#N/A"}}]
[null,{"$f":"Results!A101","v":0},{"$f":"Results!C101","v":0},{"$f":"Results!B101","v":0},{"$f":"Results!D101","v":0},{"$f":"Results!G101","v":""},"- vs -",{"$f":"VLOOKUP(B98,Results!$A$8:$AG$60,23,FALSE)","v":{"$error":"#N/A"}},{"$f":"VLOOKUP(H98,Results!A$8:$G$60,3,FALSE)","v":{"$error":"#N/A"}},{"$f":"VLOOKUP(H98,Results!$A$8:$G$60,2,FALSE)","v":{"$error":"#N/A"}},{"$f":"VLOOKUP(H98,Results!$A$8:$G$60,4,FALSE)","v":{"$error":"#N/A"}},{"$f":"VLOOKUP(H98,Results!$A$8:$G$60,7,FALSE)","v":{"$error":"#N/A"}}]
[null,{"$f":"Results!A102","v":0},{"$f":"Results!C102","v":0},{"$f":"Results!B102","v":0},{"$f":"Results!D102","v":0},{"$f":"Results!G102","v":""},"- vs -",{"$f":"VLOOKUP(B99,Results!$A$8:$AG$60,23,FALSE)","v":{"$error":"#N/A"}},{"$f":"VLOOKUP(H99,Results!A$8:$G$60,3,FALSE)","v":{"$error":"#N/A"}},{"$f":"VLOOKUP(H99,Results!$A$8:$G$60,2,FALSE)","v":{"$error":"#N/A"}},{"$f":"VLOOKUP(H99,Results!$A$8:$G$60,4,FALSE)","v":{"$error":"#N/A"}},{"$f":"VLOOKUP(H99,Results!$A$8:$G$60,7,FALSE)","v":{"$error":"#N/A"}}]
[null,{"$f":"Results!A103","v":0},{"$f":"Results!C103","v":0},{"$f":"Results!B103","v":0},{"$f":"Results!D103","v":0},{"$f":"Results!G103","v":""},"- vs -",{"$f":"VLOOKUP(B100,Results!$A$8:$AG$60,23,FALSE)","v":{"$error":"#N/A"}},{"$f":"VLOOKUP(H100,Results!A$8:$G$60,3,FALSE)","v":{"$error":"#N/A"}},{"$f":"VLOOKUP(H100,Results!$A$8:$G$60,2,FALSE)","v":{"$error":"#N/A"}},{"$f":"VLOOKUP(H100,Results!$A$8:$G$60,4,FALSE)","v":{"$error":"#N/A"}},{"$f":"VLOOKUP(H100,Results!$A$8:$G$60,7,FALSE)","v":{"$error":"#N/A"}}]
[null,{"$f":"Results!A104","v":0},{"$f":"Results!C104","v":0},{"$f":"Results!B104","v":0},{"$f":"Results!D104","v":0},{"$f":"Results!G104","v":""},"- vs -",{"$f":"VLOOKUP(B101,Results!$A$8:$AG$60,23,FALSE)","v":{"$error":"#N/A"}},{"$f":"VLOOKUP(H101,Results!A$8:$G$60,3,FALSE)","v":{"$error":"#N/A"}},{"$f":"VLOOKUP(H101,Results!$A$8:$G$60,2,FALSE)","v":{"$error":"#N/A"}},{"$f":"VLOOKUP(H101,Results!$A$8:$G$60,4,FALSE)","v":{"$error":"#N/A"}},{"$f":"VLOOKUP(H101,Results!$A$8:$G$60,7,FALSE)","v":{"$error":"#N/A"}}]
[null,{"$f":"Results!A105","v":0},{"$f":"Results!C105","v":0},{"$f":"Results!B105","v":0},{"$f":"Results!D105","v":0},{"$f":"Results!G105","v":""},"- vs -",{"$f":"VLOOKUP(B102,Results!$A$8:$AG$60,23,FALSE)","v":{"$error":"#N/A"}},{"$f":"VLOOKUP(H102,Results!A$8:$G$60,3,FALSE)","v":{"$error":"#N/A"}},{"$f":"VLOOKUP(H102,Results!$A$8:$G$60,2,FALSE)","v":{"$error":"#N/A"}},{"$f":"VLOOKUP(H102,Results!$A$8:$G$60,4,FALSE)","v":{"$error":"#N/A"}},{"$f":"VLOOKUP(H102,Results!$A$8:$G$60,7,FALSE)","v":{"$error":"#N/A"}}]
[null,{"$f":"Results!A106","v":0},{"$f":"Results!C106","v":0},{"$f":"Results!B106","v":0},{"$f":"Results!D106","v":0},{"$f":"Results!G106","v":""},"- vs -",{"$f":"VLOOKUP(B103,Results!$A$8:$AG$60,23,FALSE)","v":{"$error":"#N/A"}},{"$f":"VLOOKUP(H103,Results!A$8:$G$60,3,FALSE)","v":{"$error":"#N/A"}},{"$f":"VLOOKUP(H103,Results!$A$8:$G$60,2,FALSE)","v":{"$error":"#N/A"}},{"$f":"VLOOKUP(H103,Results!$A$8:$G$60,4,FALSE)","v":{"$error":"#N/A"}},{"$f":"VLOOKUP(H103,Results!$A$8:$G$60,7,FALSE)","v":{"$error":"#N/A"}}]
[null,{"$f":"Results!A107","v":0},{"$f":"Results!C107","v":0},{"$f":"Results!B107","v":0},{"$f":"Results!D107","v":0},{"$f":"Results!G107","v":""},"- vs -",{"$f":"VLOOKUP(B104,Results!$A$8:$AG$60,23,FALSE)","v":{"$error":"#N/A"}},{"$f":"VLOOKUP(H104,Results!A$8:$G$60,3,FALSE)","v":{"$error":"#N/A"}},{"$f":"VLOOKUP(H104,Results!$A$8:$G$60,2,FALSE)","v":{"$error":"#N/A"}},{"$f":"VLOOKUP(H104,Results!$A$8:$G$60,4,FALSE)","v":{"$error":"#N/A"}},{"$f":"VLOOKUP(H104,Results!$A$8:$G$60,7,FALSE)","v":{"$error":"#N/A"}}]
[]
[null,711,"Harrison","Pearce","MKWS","Assyrian","- vs -",1418,"Stephen","Nice","WAR","Classical Indian"]
[null,1309,"Paul","Johnston","York","North American tribes","- vs -",712,"Tim","Porter","CLWC","Hittite"]
[null,1318,"Rob","Taylor","Halifax","Achaemenid Persian","- vs -",1308,"Paul","Dawson","York","Assyrian"]
[null,1509,"Frazer","Watson","Scotland","Maya","- vs -",1447,"Antony","Robinson","Durham","Classical Indian"]
[null,1444,"Kevin","Olier","France","Assyrian Empire and Sargonid","- vs -",1017,"David","Roberts","Cambridge","Syria, Canaan and Ugarit"]
[null,1468,"Andy","Ellis","Leeds","Ancient Bedouin","- vs -",1538,"Jim","Gibson","Scotland","Warring States"]
[null,714,"Andy","Gilbert","Pompey","Libyan Egyptian","- vs -",1015,"Nik","Sharp","Warlords","Assyrian Empire and Sargonid"]
[null,1161,"Graeme","Carroll","Durham","Classical Indian","- vs -",1811,"Steve","Tresadern","Arsenal","Lydian"]
[null,1220,"Marco","Baroni","York","Aztec","- vs -",485,"Jesse","Schoor","WAR","Medes"]
[null,1721,"Lance","Flint","Farnboro","Inca","- vs -",710,"Dave","Saunders","CLWC","Aztec"]
[null,1598,"Andy","Fyfe","Scotland","Classical Indian","- vs -",1618,"Jens","Harbarth","Germany","Zhou and Spring and Autumn Chinese"]
[null,1222,"Bob","Middlemist","Durham","Assyrian Empire and Sargonid","- vs -",1797,"Dave","Putt","PAW","Achaemenid Persian"]
[null,713,"Darrell","Pearce","MKWS","New Kingdom Egyptian","- vs -",397,"Hubert","Bretagne","France","Aztec"]
[null,1583,"Philip","Powell","WAR","Tupi","- vs -",261,"Lionel","Morvan","France","Lydian"]
[null,1810,"Steve","Hammond","Arsenal","New Kingdom Egyptian","- vs -",1008,"Robin","Jackson",0,"Elamite"]
[null,1536,"Pete","Sanger","Pompey","Assyrian Empire and Sargonid","- vs -",1602,"Uwe","Urbitch","Germany","Zhou and Spring and Autumn Chinese"]
[null,1489,"Kevin","Ellis","Leeds","Early Macedonian","- vs -",874,"Simon","Ellis","WAR","Later Achaemenid Persian"]
[null,795,"Mark","Fry","Bristol","Zhou and Spring and Autumn Chinese","- vs -",1483,"Ian","Sewell","WAR","Early Carthaginian"]

{"sheet":"Round 4","index":12,"n_rows":123,"n_cols":13,"rows_kept":123,"cut":false,"hidden":false,"merged":[]}
[]
[null,null,{"$f":"Results!B3","v":"Kegworth Codgers 2024"},null,"Round 4 Draw"]
[null,null,{"$f":"Results!B4","v":"Roman Period"}]
[null,null,null,null,null,null,null,null,null,null,null,null,"VALID?"]
[null,{"$f":"Results!A8","v":486},{"$f":"Results!C8","v":"Alan"},{"$f":"Results!B8","v":"Cutner"},{"$f":"Results!D8","v":"Tradeston"},{"$f":"Results!G8","v":""},"- vs -",{"$f":"VLOOKUP(B5,Results!$A$8:$AG$60,30,FALSE)","v":0},{"$f":"VLOOKUP(H5,Results!A$8:$G$60,3,FALSE)","v":{"$error":"#N/A"}},{"$f":"VLOOKUP(H5,Results!$A$8:$G$60,2,FALSE)","v":{"$error":"#N/A"}},{"$f":"VLOOKUP(H5,Results!$A$8:$G$60,4,FALSE)","v":{"$error":"#N/A"}},{"$f":"VLOOKUP(H5,Results!$A$8:$G$60,7,FALSE)","v":{"$error":"#N/A"}},{"$f":"VLOOKUP(H5,$B$4:B5,1,FALSE)","v":{"$error":"#N/A"}}]
[null,{"$f":"Results!A9","v":1579},{"$f":"Results!C9","v":"Alistair"},{"$f":"Results!B9","v":"Wright"},{"$f":"Results!D9","v":"Millbrook"},{"$f":"Results!G9","v":""},"- vs -",{"$f":"VLOOKUP(B6,Results!$A$8:$AG$60,30,FALSE)","v":0},{"$f":"VLOOKUP(H6,Results!A$8:$G$60,3,FALSE)","v":{"$error":"#N/A"}},{"$f":"VLOOKUP(H6,Results!$A$8:$G$60,2,FALSE)","v":{"$error":"#N/A"}},{"$f":"VLOOKUP(H6,Results!$A$8:$G$60,4,FALSE)","v":{"$error":"#N/A"}},{"$f":"VLOOKUP(H6,Results!$A$8:$G$60,7,FALSE)","v":{"$error":"#N/A"}},{"$f":"VLOOKUP(H6,$B$4:B6,1,FALSE)","v":{"$error":"#N/A"}}]
[null,{"$f":"Results!A10","v":748},{"$f":"Results!C10","v":"Andrew"},{"$f":"Results!B10","v":"Whitby"},{"$f":"Results!D10","v":"Bristol"},{"$f":"Results!G10","v":""},"- vs -",{"$f":"VLOOKUP(B7,Results!$A$8:$AG$60,30,FALSE)","v":0},{"$f":"VLOOKUP(H7,Results!A$8:$G$60,3,FALSE)","v":{"$error":"#N/A"}},{"$f":"VLOOKUP(H7,Results!$A$8:$G$60,2,FALSE)","v":{"$error":"#N/A"}},{"$f":"VLOOKUP(H7,Results!$A$8:$G$60,4,FALSE)","v":{"$error":"#N/A"}},{"$f":"VLOOKUP(H7,Results!$A$8:$G$60,7,FALSE)","v":{"$error":"#N/A"}},{"$f":"VLOOKUP(H7,$B$4:B7,1,FALSE)","v":{"$error":"#N/A"}}]
[null,{"$f":"Results!A11","v":1598},{"$f":"Results!C11","v":"Andy"},{"$f":"Results!B11","v":"Fyfe"},{"$f":"Results!D11","v":"FDWG"},{"$f":"Results!G11","v":""},"- vs -",{"$f":"VLOOKUP(B8,Results!$A$8:$AG$60,30,FALSE)","v":0},{"$f":"VLOOKUP(H8,Results!A$8:$G$60,3,FALSE)","v":{"$error":"#N/A"}},{"$f":"VLOOKUP(H8,Results!$A$8:$G$60,2,FALSE)","v":{"$error":"#N/A"}},{"$f":"VLOOKUP(H8,Results!$A$8:$G$60,4,FALSE)","v":{"$error":"#N/A"}},{"$f":"VLOOKUP(H8,Results!$A$8:$G$60,7,FALSE)","v":{"$error":"#N/A"}},{"$f":"VLOOKUP(H8,$B$4:B8,1,FALSE)","v":{"$error":"#N/A"}}]
[null,{"$f":"Results!A12","v":714},{"$f":"Results!C12","v":"Andy"},{"$f":"Results!B12","v":"Gilbert"},{"$f":"Results!D12","v":"Pompey"},{"$f":"Results!G12","v":""},"- vs -",{"$f":"VLOOKUP(B9,Results!$A$8:$AG$60,30,FALSE)","v":0},{"$f":"VLOOKUP(H9,Results!A$8:$G$60,3,FALSE)","v":{"$error":"#N/A"}},{"$f":"VLOOKUP(H9,Results!$A$8:$G$60,2,FALSE)","v":{"$error":"#N/A"}},{"$f":"VLOOKUP(H9,Results!$A$8:$G$60,4,FALSE)","v":{"$error":"#N/A"}},{"$f":"VLOOKUP(H9,Results!$A$8:$G$60,7,FALSE)","v":{"$error":"#N/A"}},{"$f":"VLOOKUP(H9,$B$4:B9,1,FALSE)","v":{"$error":"#N/A"}}]
[null,{"$f":"Results!A13","v":1447},{"$f":"Results!C13","v":"Antony"},{"$f":"Results!B13","v":"Robinson"},{"$f":"Results!D13","v":"Durham"},{"$f":"Results!G13","v":""},"- vs -",{"$f":"VLOOKUP(B10,Results!$A$8:$AG$60,30,FALSE)","v":0},{"$f":"VLOOKUP(H10,Results!A$8:$G$60,3,FALSE)","v":{"$error":"#N/A"}},{"$f":"VLOOKUP(H10,Results!$A$8:$G$60,2,FALSE)","v":{"$error":"#N/A"}},{"$f":"VLOOKUP(H10,Results!$A$8:$G$60,4,FALSE)","v":{"$error":"#N/A"}},{"$f":"VLOOKUP(H10,Results!$A$8:$G$60,7,FALSE)","v":{"$error":"#N/A"}},{"$f":"VLOOKUP(H10,$B$4:B10,1,FALSE)","v":{"$error":"#N/A"}}]
[null,{"$f":"Results!A14","v":773},{"$f":"Results!C14","v":"Charles"},{"$f":"Results!B14","v":"Masefield"},{"$f":"Results!D14","v":"Oxford"},{"$f":"Results!G14","v":""},"- vs -",{"$f":"VLOOKUP(B11,Results!$A$8:$AG$60,30,FALSE)","v":0},{"$f":"VLOOKUP(H11,Results!A$8:$G$60,3,FALSE)","v":{"$error":"#N/A"}},{"$f":"VLOOKUP(H11,Results!$A$8:$G$60,2,FALSE)","v":{"$error":"#N/A"}},{"$f":"VLOOKUP(H11,Results!$A$8:$G$60,4,FALSE)","v":{"$error":"#N/A"}},{"$f":"VLOOKUP(H11,Results!$A$8:$G$60,7,FALSE)","v":{"$error":"#N/A"}},{"$f":"VLOOKUP(H11,$B$4:B11,1,FALSE)","v":{"$error":"#N/A"}}]
[null,{"$f":"Results!A15","v":1549},{"$f":"Results!C15","v":"Colin"},{"$f":"Results!B15","v":"Whittaker"},{"$f":"Results!D15","v":"Entoyment"},{"$f":"Results!G15","v":""},"- vs -",{"$f":"VLOOKUP(B12,Results!$A$8:$AG$60,30,FALSE)","v":0},{"$f":"VLOOKUP(H12,Results!A$8:$G$60,3,FALSE)","v":{"$error":"#N/A"}},{"$f":"VLOOKUP(H12,Results!$A$8:$G$60,2,FALSE)","v":{"$error":"#N/A"}},{"$f":"VLOOKUP(H12,Results!$A$8:$G$60,4,FALSE)","v":{"$error":"#N/A"}},{"$f":"VLOOKUP(H12,Results!$A$8:$G$60,7,FALSE)","v":{"$error":"#N/A"}},{"$f":"VLOOKUP(H12,$B$4:B12,1,FALSE)","v":{"$error":"#N/A"}}]
[null,{"$f":"Results!A16","v":1435},{"$f":"Results!C16","v":"Dave"},{"$f":"Results!B16","v":"Hutchby"},{"$f":"Results!D16","v":"Derby"},{"$f":"Results!G16","v":"Chinese Northern and Southern Dynasties"},"- vs -",{"$f":"VLOOKUP(B13,Results!$A$8:$AG$60,30,FALSE)","v":0},{"$f":"VLOOKUP(H13,Results!A$8:$G$60,3,FALSE)","v":{"$error":"#N/A"}},{"$f":"VLOOKUP(H13,Results!$A$8:$G$60,2,FALSE)","v":{"$error":"#N/A"}},{"$f":"VLOOKUP(H13,Results!$A$8:$G$60,4,FALSE)","v":{"$error":"#N/A"}},{"$f":"VLOOKUP(H13,Results!$A$8:$G$60,7,FALSE)","v":{"$error":"#N/A"}},{"$f":"VLOOKUP(H13,$B$4:B13,1,FALSE)","v":{"$error":"#N/A"}}]
[null,{"$f":"Results!A17","v":1017},{"$f":"Results!C17","v":"David"},{"$f":"Results!B17","v":"Roberts"},{"$f":"Results!D17","v":"Cambridge"},{"$f":"Results!G17","v":""},"- vs -",{"$f":"VLOOKUP(B14,Results!$A$8:$AG$60,30,FALSE)","v":0},{"$f":"VLOOKUP(H14,Results!A$8:$G$60,3,FALSE)","v":{"$error":"#N/A"}},{"$f":"VLOOKUP(H14,Results!$A$8:$G$60,2,FALSE)","v":{"$error":"#N/A"}},{"$f":"VLOOKUP(H14,Results!$A$8:$G$60,4,FALSE)","v":{"$error":"#N/A"}},{"$f":"VLOOKUP(H14,Results!$A$8:$G$60,7,FALSE)","v":{"$error":"#N/A"}},{"$f":"VLOOKUP(H14,$B$4:B14,1,FALSE)","v":{"$error":"#N/A"}}]
[null,{"$f":"Results!A18","v":1576},{"$f":"Results!C18","v":"David"},{"$f":"Results!B18","v":"Dryden"},{"$f":"Results!D18","v":"FDWC"},{"$f":"Results!G18","v":""},"- vs -",{"$f":"VLOOKUP(B15,Results!$A$8:$AG$60,30,FALSE)","v":0},{"$f":"VLOOKUP(H15,Results!A$8:$G$60,3,FALSE)","v":{"$error":"#N/A"}},{"$f":"VLOOKUP(H15,Results!$A$8:$G$60,2,FALSE)","v":{"$error":"#N/A"}},{"$f":"VLOOKUP(H15,Results!$A$8:$G$60,4,FALSE)","v":{"$error":"#N/A"}},{"$f":"VLOOKUP(H15,Results!$A$8:$G$60,7,FALSE)","v":{"$error":"#N/A"}},{"$f":"VLOOKUP(H15,$B$4:B15,1,FALSE)","v":{"$error":"#N/A"}}]
[null,{"$f":"Results!A19","v":1509},{"$f":"Results!C19","v":"Frazer"},{"$f":"Results!B19","v":"Watson"},{"$f":"Results!D19","v":"FDWG"},{"$f":"Results!G19","v":"Kingdom of Axum"},"- vs -",{"$f":"VLOOKUP(B16,Results!$A$8:$AG$60,30,FALSE)","v":0},{"$f":"VLOOKUP(H16,Results!A$8:$G$60,3,FALSE)","v":{"$error":"#N/A"}},{"$f":"VLOOKUP(H16,Results!$A$8:$G$60,2,FALSE)","v":{"$error":"#N/A"}},{"$f":"VLOOKUP(H16,Results!$A$8:$G$60,4,FALSE)","v":{"$error":"#N/A"}},{"$f":"VLOOKUP(H16,Results!$A$8:$G$60,7,FALSE)","v":{"$error":"#N/A"}},{"$f":"VLOOKUP(H16,$B$4:B16,1,FALSE)","v":{"$error":"#N/A"}}]
[null,{"$f":"Results!A20","v":715},{"$f":"Results!C20","v":"Gordon"},{"$f":"Results!B20","v":"Jamieson"},{"$f":"Results!D20","v":"CLWC"},{"$f":"Results!G20","v":""},"- vs -",{"$f":"VLOOKUP(B17,Results!$A$8:$AG$60,30,FALSE)","v":0},{"$f":"VLOOKUP(H17,Results!A$8:$G$60,3,FALSE)","v":{"$error":"#N/A"}},{"$f":"VLOOKUP(H17,Results!$A$8:$G$60,2,FALSE)","v":{"$error":"#N/A"}},{"$f":"VLOOKUP(H17,Results!$A$8:$G$60,4,FALSE)","v":{"$error":"#N/A"}},{"$f":"VLOOKUP(H17,Results!$A$8:$G$60,7,FALSE)","v":{"$error":"#N/A"}},{"$f":"VLOOKUP(H17,$B$4:B17,1,FALSE)","v":{"$error":"#N/A"}}]
[null,{"$f":"Results!A21","v":1131},{"$f":"Results!C21","v":"Gordon"},{"$f":"Results!B21","v":"Miller"},{"$f":"Results!D21","v":"FDWC"},{"$f":"Results!G21","v":""},"- vs -",{"$f":"VLOOKUP(B18,Results!$A$8:$AG$60,30,FALSE)","v":0},{"$f":"VLOOKUP(H18,Results!A$8:$G$60,3,FALSE)","v":{"$error":"#N/A"}},{"$f":"VLOOKUP(H18,Results!$A$8:$G$60,2,FALSE)","v":{"$error":"#N/A"}},{"$f":"VLOOKUP(H18,Results!$A$8:$G$60,4,FALSE)","v":{"$error":"#N/A"}},{"$f":"VLOOKUP(H18,Results!$A$8:$G$60,7,FALSE)","v":{"$error":"#N/A"}},{"$f":"VLOOKUP(H18,$B$4:B18,1,FALSE)","v":{"$error":"#N/A"}}]
[null,{"$f":"Results!A22","v":1483},{"$f":"Results!C22","v":"Ian"},{"$f":"Results!B22","v":"Sewell"},{"$f":"Results!D22","v":"WAR"},{"$f":"Results!G22","v":""},"- vs -",{"$f":"VLOOKUP(B19,Results!$A$8:$AG$60,30,FALSE)","v":0},{"$f":"VLOOKUP(H19,Results!A$8:$G$60,3,FALSE)","v":{"$error":"#N/A"}},{"$f":"VLOOKUP(H19,Results!$A$8:$G$60,2,FALSE)","v":{"$error":"#N/A"}},{"$f":"VLOOKUP(H19,Results!$A$8:$G$60,4,FALSE)","v":{"$error":"#N/A"}},{"$f":"VLOOKUP(H19,Results!$A$8:$G$60,7,FALSE)","v":{"$error":"#N/A"}},{"$f":"VLOOKUP(H19,$B$4:B19,1,FALSE)","v":{"$error":"#N/A"}}]
[null,{"$f":"Results!A23","v":1538},{"$f":"Results!C23","v":"James"},{"$f":"Results!B23","v":"Gibson"},{"$f":"Results!D23","v":"FDWG"},{"$f":"Results!G23","v":""},"- vs -",{"$f":"VLOOKUP(B20,Results!$A$8:$AG$60,30,FALSE)","v":0},{"$f":"VLOOKUP(H20,Results!A$8:$G$60,3,FALSE)","v":{"$error":"#N/A"}},{"$f":"VLOOKUP(H20,Results!$A$8:$G$60,2,FALSE)","v":{"$error":"#N/A"}},{"$f":"VLOOKUP(H20,Results!$A$8:$G$60,4,FALSE)","v":{"$error":"#N/A"}},{"$f":"VLOOKUP(H20,Results!$A$8:$G$60,7,FALSE)","v":{"$error":"#N/A"}},{"$f":"VLOOKUP(H20,$B$4:B20,1,FALSE)","v":{"$error":"#N/A"}}]
[null,{"$f":"Results!A24","v":485},{"$f":"Results!C24","v":"Jesse"},{"$f":"Results!B24","v":"Schoor"},{"$f":"Results!D24","v":"WAR"},{"$f":"Results!G24","v":""},"- vs -",{"$f":"VLOOKUP(B21,Results!$A$8:$AG$60,30,FALSE)","v":0},{"$f":"VLOOKUP(H21,Results!A$8:$G$60,3,FALSE)","v":{"$error":"#N/A"}},{"$f":"VLOOKUP(H21,Results!$A$8:$G$60,2,FALSE)","v":{"$error":"#N/A"}},{"$f":"VLOOKUP(H21,Results!$A$8:$G$60,4,FALSE)","v":{"$error":"#N/A"}},{"$f":"VLOOKUP(H21,Results!$A$8:$G$60,7,FALSE)","v":{"$error":"#N/A"}},{"$f":"VLOOKUP(H21,$B$4:B21,1,FALSE)","v":{"$error":"#N/A"}}]
[null,{"$f":"Results!A25","v":795},{"$f":"Results!C25","v":"Mark"},{"$f":"Results!B25","v":"Fry"},{"$f":"Results!D25","v":"Bristol"},{"$f":"Results!G25","v":""},"- vs -",{"$f":"VLOOKUP(B22,Results!$A$8:$AG$60,30,FALSE)","v":0},{"$f":"VLOOKUP(H22,Results!A$8:$G$60,3,FALSE)","v":{"$error":"#N/A"}},{"$f":"VLOOKUP(H22,Results!$A$8:$G$60,2,FALSE)","v":{"$error":"#N/A"}},{"$f":"VLOOKUP(H22,Results!$A$8:$G$60,4,FALSE)","v":{"$error":"#N/A"}},{"$f":"VLOOKUP(H22,Results!$A$8:$G$60,7,FALSE)","v":{"$error":"#N/A"}},{"$f":"VLOOKUP(H22,$B$4:B22,1,FALSE)","v":{"$error":"#N/A"}}]
[null,{"$f":"Results!A26","v":1807},{"$f":"Results!C26","v":"Mark"},{"$f":"Results!B26","v":"Gilby"},{"$f":"Results!D26","v":"CLWC"},{"$f":"Results!G26","v":""},"- vs -",{"$f":"VLOOKUP(B23,Results!$A$8:$AG$60,30,FALSE)","v":0},{"$f":"VLOOKUP(H23,Results!A$8:$G$60,3,FALSE)","v":{"$error":"#N/A"}},{"$f":"VLOOKUP(H23,Results!$A$8:$G$60,2,FALSE)","v":{"$error":"#N/A"}},{"$f":"VLOOKUP(H23,Results!$A$8:$G$60,4,FALSE)","v":{"$error":"#N/A"}},{"$f":"VLOOKUP(H23,Results!$A$8:$G$60,7,FALSE)","v":{"$error":"#N/A"}},{"$f":"VLOOKUP(H23,$B$4:B23,1,FALSE)","v":{"$error":"#N/A"}}]
[null,{"$f":"Results!A27","v":858},{"$f":"Results!C27","v":"Mike"},{"$f":"Results!B27","v":"Bennett"},{"$f":"Results!D27","v":"Carnforth"},{"$f":"Results!G27","v":""},"- vs -",{"$f":"VLOOKUP(B24,Results!$A$8:$AG$60,30,FALSE)","v":0},{"$f":"VLOOKUP(H24,Results!A$8:$G$60,3,FALSE)","v":{"$error":"#N/A"}},{"$f":"VLOOKUP(H24,Results!$A$8:$G$60,2,FALSE)","v":{"$error":"#N/A"}},{"$f":"VLOOKUP(H24,Results!$A$8:$G$60,4,FALSE)","v":{"$error":"#N/A"}},{"$f":"VLOOKUP(H24,Results!$A$8:$G$60,7,FALSE)","v":{"$error":"#N/A"}},{"$f":"VLOOKUP(H24,$B$4:B24,1,FALSE)","v":{"$error":"#N/A"}}]
[null,{"$f":"Results!A28","v":1015},{"$f":"Results!C28","v":"Nik"},{"$f":"Results!B28","v":"Sharp"},{"$f":"Results!D28","v":"Warlords"},{"$f":"Results!G28","v":""},"- vs -",{"$f":"VLOOKUP(B25,Results!$A$8:$AG$60,30,FALSE)","v":0},{"$f":"VLOOKUP(H25,Results!A$8:$G$60,3,FALSE)","v":{"$error":"#N/A"}},{"$f":"VLOOKUP(H25,Results!$A$8:$G$60,2,FALSE)","v":{"$error":"#N/A"}},{"$f":"VLOOKUP(H25,Results!$A$8:$G$60,4,FALSE)","v":{"$error":"#N/A"}},{"$f":"VLOOKUP(H25,Results!$A$8:$G$60,7,FALSE)","v":{"$error":"#N/A"}},{"$f":"VLOOKUP(H25,$B$4:B25,1,FALSE)","v":{"$error":"#N/A"}}]
[null,{"$f":"Results!A29","v":1308},{"$f":"Results!C29","v":"Paul"},{"$f":"Results!B29","v":"Dawson"},{"$f":"Results!D29","v":"York"},{"$f":"Results!G29","v":""},"- vs -",{"$f":"VLOOKUP(B26,Results!$A$8:$AG$60,30,FALSE)","v":0},{"$f":"VLOOKUP(H26,Results!A$8:$G$60,3,FALSE)","v":{"$error":"#N/A"}},{"$f":"VLOOKUP(H26,Results!$A$8:$G$60,2,FALSE)","v":{"$error":"#N/A"}},{"$f":"VLOOKUP(H26,Results!$A$8:$G$60,4,FALSE)","v":{"$error":"#N/A"}},{"$f":"VLOOKUP(H26,Results!$A$8:$G$60,7,FALSE)","v":{"$error":"#N/A"}},{"$f":"VLOOKUP(H26,$B$4:B26,1,FALSE)","v":{"$error":"#N/A"}}]
[null,{"$f":"Results!A30","v":1309},{"$f":"Results!C30","v":"Paul"},{"$f":"Results!B30","v":"Johnston"},{"$f":"Results!D30","v":"York"},{"$f":"Results!G30","v":""},"- vs -",{"$f":"VLOOKUP(B27,Results!$A$8:$AG$60,30,FALSE)","v":0},{"$f":"VLOOKUP(H27,Results!A$8:$G$60,3,FALSE)","v":{"$error":"#N/A"}},{"$f":"VLOOKUP(H27,Results!$A$8:$G$60,2,FALSE)","v":{"$error":"#N/A"}},{"$f":"VLOOKUP(H27,Results!$A$8:$G$60,4,FALSE)","v":{"$error":"#N/A"}},{"$f":"VLOOKUP(H27,Results!$A$8:$G$60,7,FALSE)","v":{"$error":"#N/A"}},{"$f":"VLOOKUP(H27,$B$4:B27,1,FALSE)","v":{"$error":"#N/A"}}]
[null,{"$f":"Results!A31","v":1239},{"$f":"Results!C31","v":"Paul"},{"$f":"Results!B31","v":"Frith"},{"$f":"Results!D31","v":"Dorset Nomads"},{"$f":"Results!G31","v":""},"- vs -",{"$f":"VLOOKUP(B28,Results!$A$8:$AG$60,30,FALSE)","v":0},{"$f":"VLOOKUP(H28,Results!A$8:$G$60,3,FALSE)","v":{"$error":"#N/A"}},{"$f":"VLOOKUP(H28,Results!$A$8:$G$60,2,FALSE)","v":{"$error":"#N/A"}},{"$f":"VLOOKUP(H28,Results!$A$8:$G$60,4,FALSE)","v":{"$error":"#N/A"}},{"$f":"VLOOKUP(H28,Results!$A$8:$G$60,7,FALSE)","v":{"$error":"#N/A"}},{"$f":"VLOOKUP(H28,$B$4:B28,1,FALSE)","v":{"$error":"#N/A"}}]
[null,{"$f":"Results!A32","v":1536},{"$f":"Results!C32","v":"Pete"},{"$f":"Results!B32","v":"Sanger"},{"$f":"Results!D32","v":"Pompey"},{"$f":"Results!G32","v":""},"- vs -",{"$f":"VLOOKUP(B29,Results!$A$8:$AG$60,30,FALSE)","v":0},{"$f":"VLOOKUP(H29,Results!A$8:$G$60,3,FALSE)","v":{"$error":"#N/A"}},{"$f":"VLOOKUP(H29,Results!$A$8:$G$60,2,FALSE)","v":{"$error":"#N/A"}},{"$f":"VLOOKUP(H29,Results!$A$8:$G$60,4,FALSE)","v":{"$error":"#N/A"}},{"$f":"VLOOKUP(H29,Results!$A$8:$G$60,7,FALSE)","v":{"$error":"#N/A"}},{"$f":"VLOOKUP(H29,$B$4:B29,1,FALSE)","v":{"$error":"#N/A"}}]
[null,{"$f":"Results!A33","v":772},{"$f":"Results!C33","v":"Richard"},{"$f":"Results!B33","v":"Young"},{"$f":"Results!D33","v":"SOA"},{"$f":"Results!G33","v":""},"- vs -",{"$f":"VLOOKUP(B30,Results!$A$8:$AG$60,30,FALSE)","v":0},{"$f":"VLOOKUP(H30,Results!A$8:$G$60,3,FALSE)","v":{"$error":"#N/A"}},{"$f":"VLOOKUP(H30,Results!$A$8:$G$60,2,FALSE)","v":{"$error":"#N/A"}},{"$f":"VLOOKUP(H30,Results!$A$8:$G$60,4,FALSE)","v":{"$error":"#N/A"}},{"$f":"VLOOKUP(H30,Results!$A$8:$G$60,7,FALSE)","v":{"$error":"#N/A"}},{"$f":"VLOOKUP(H30,$B$4:B30,1,FALSE)","v":{"$error":"#N/A"}}]
[null,{"$f":"Results!A34","v":1318},{"$f":"Results!C34","v":"Rob"},{"$f":"Results!B34","v":"Taylor"},{"$f":"Results!D34","v":"Westow"},{"$f":"Results!G34","v":""},"- vs -",{"$f":"VLOOKUP(B31,Results!$A$8:$AG$60,30,FALSE)","v":0},{"$f":"VLOOKUP(H31,Results!A$8:$G$60,3,FALSE)","v":{"$error":"#N/A"}},{"$f":"VLOOKUP(H31,Results!$A$8:$G$60,2,FALSE)","v":{"$error":"#N/A"}},{"$f":"VLOOKUP(H31,Results!$A$8:$G$60,4,FALSE)","v":{"$error":"#N/A"}},{"$f":"VLOOKUP(H31,Results!$A$8:$G$60,7,FALSE)","v":{"$error":"#N/A"}},{"$f":"VLOOKUP(H31,$B$4:B31,1,FALSE)","v":{"$error":"#N/A"}}]
[null,{"$f":"Results!A35","v":1222},{"$f":"Results!C35","v":"Robert"},{"$f":"Results!B35","v":"Middlemist"},{"$f":"Results!D35","v":"Durham"},{"$f":"Results!G35","v":""},"- vs -",{"$f":"VLOOKUP(B32,Results!$A$8:$AG$60,30,FALSE)","v":0},{"$f":"VLOOKUP(H32,Results!A$8:$G$60,3,FALSE)","v":{"$error":"#N/A"}},{"$f":"VLOOKUP(H32,Results!$A$8:$G$60,2,FALSE)","v":{"$error":"#N/A"}},{"$f":"VLOOKUP(H32,Results!$A$8:$G$60,4,FALSE)","v":{"$error":"#N/A"}},{"$f":"VLOOKUP(H32,Results!$A$8:$G$60,7,FALSE)","v":{"$error":"#N/A"}},{"$f":"VLOOKUP(H32,$B$4:B32,1,FALSE)","v":{"$error":"#N/A"}}]
[null,{"$f":"Results!A36","v":1008},{"$f":"Results!C36","v":"Robin"},{"$f":"Results!B36","v":"Jackson"},{"$f":"Results!D36","v":"God Knows"},{"$f":"Results!G36","v":""},"- vs -",{"$f":"VLOOKUP(B33,Results!$A$8:$AG$60,30,FALSE)","v":0},{"$f":"VLOOKUP(H33,Results!A$8:$G$60,3,FALSE)","v":{"$error":"#N/A"}},{"$f":"VLOOKUP(H33,Results!$A$8:$G$60,2,FALSE)","v":{"$error":"#N/A"}},{"$f":"VLOOKUP(H33,Results!$A$8:$G$60,4,FALSE)","v":{"$error":"#N/A"}},{"$f":"VLOOKUP(H33,Results!$A$8:$G$60,7,FALSE)","v":{"$error":"#N/A"}},{"$f":"VLOOKUP(H33,$B$4:B33,1,FALSE)","v":{"$error":"#N/A"}}]
[null,{"$f":"Results!A37","v":1418},{"$f":"Results!C37","v":"Stephen"},{"$f":"Results!B37","v":"Nice"},{"$f":"Results!D37","v":"WAR"},{"$f":"Results!G37","v":""},"- vs -",{"$f":"VLOOKUP(B34,Results!$A$8:$AG$60,30,FALSE)","v":0},{"$f":"VLOOKUP(H34,Results!A$8:$G$60,3,FALSE)","v":{"$error":"#N/A"}},{"$f":"VLOOKUP(H34,Results!$A$8:$G$60,2,FALSE)","v":{"$error":"#N/A"}},{"$f":"VLOOKUP(H34,Results!$A$8:$G$60,4,FALSE)","v":{"$error":"#N/A"}},{"$f":"VLOOKUP(H34,Results!$A$8:$G$60,7,FALSE)","v":{"$error":"#N/A"}},{"$f":"VLOOKUP(H34,$B$4:B34,1,FALSE)","v":{"$error":"#N/A"}}]
[null,{"$f":"Results!A38","v":712},{"$f":"Results!C38","v":"Tim"},{"$f":"Results!B38","v":"Porter"},{"$f":"Results!D38","v":"CLWC"},{"$f":"Results!G38","v":"Parthian"},"- vs -",{"$f":"VLOOKUP(B35,Results!$A$8:$AG$60,30,FALSE)","v":0},{"$f":"VLOOKUP(H35,Results!A$8:$G$60,3,FALSE)","v":{"$error":"#N/A"}},{"$f":"VLOOKUP(H35,Results!$A$8:$G$60,2,FALSE)","v":{"$error":"#N/A"}},{"$f":"VLOOKUP(H35,Results!$A$8:$G$60,4,FALSE)","v":{"$error":"#N/A"}},{"$f":"VLOOKUP(H35,Results!$A$8:$G$60,7,FALSE)","v":{"$error":"#N/A"}},{"$f":"VLOOKUP(H35,$B$4:B35,1,FALSE)","v":{"$error":"#N/A"}}]
[null,{"$f":"Results!A39","v":0},{"$f":"Results!C39","v":0},{"$f":"Results!B39","v":0},{"$f":"Results!D39","v":0},{"$f":"Results!G39","v":""},"- vs -",{"$f":"VLOOKUP(B36,Results!$A$8:$AG$60,30,FALSE)","v":{"$error":"#N/A"}},{"$f":"VLOOKUP(H36,Results!A$8:$G$60,3,FALSE)","v":{"$error":"#N/A"}},{"$f":"VLOOKUP(H36,Results!$A$8:$G$60,2,FALSE)","v":{"$error":"#N/A"}},{"$f":"VLOOKUP(H36,Results!$A$8:$G$60,4,FALSE)","v":{"$error":"#N/A"}},{"$f":"VLOOKUP(H36,Results!$A$8:$G$60,7,FALSE)","v":{"$error":"#N/A"}},{"$f":"VLOOKUP(H36,$B$4:B36,1,FALSE)","v":{"$error":"#N/A"}}]
[null,{"$f":"Results!A40","v":0},{"$f":"Results!C40","v":0},{"$f":"Results!B40","v":0},{"$f":"Results!D40","v":0},{"$f":"Results!G40","v":""},"- vs -",{"$f":"VLOOKUP(B37,Results!$A$8:$AG$60,30,FALSE)","v":{"$error":"#N/A"}},{"$f":"VLOOKUP(H37,Results!A$8:$G$60,3,FALSE)","v":{"$error":"#N/A"}},{"$f":"VLOOKUP(H37,Results!$A$8:$G$60,2,FALSE)","v":{"$error":"#N/A"}},{"$f":"VLOOKUP(H37,Results!$A$8:$G$60,4,FALSE)","v":{"$error":"#N/A"}},{"$f":"VLOOKUP(H37,Results!$A$8:$G$60,7,FALSE)","v":{"$error":"#N/A"}},{"$f":"VLOOKUP(H37,$B$4:B37,1,FALSE)","v":{"$error":"#N/A"}}]
[null,{"$f":"Results!A41","v":0},{"$f":"Results!C41","v":0},{"$f":"Results!B41","v":0},{"$f":"Results!D41","v":0},{"$f":"Results!G41","v":""},"- vs -",{"$f":"VLOOKUP(B38,Results!$A$8:$AG$60,30,FALSE)","v":{"$error":"#N/A"}},{"$f":"VLOOKUP(H38,Results!A$8:$G$60,3,FALSE)","v":{"$error":"#N/A"}},{"$f":"VLOOKUP(H38,Results!$A$8:$G$60,2,FALSE)","v":{"$error":"#N/A"}},{"$f":"VLOOKUP(H38,Results!$A$8:$G$60,4,FALSE)","v":{"$error":"#N/A"}},{"$f":"VLOOKUP(H38,Results!$A$8:$G$60,7,FALSE)","v":{"$error":"#N/A"}},{"$f":"VLOOKUP(H38,$B$4:B38,1,FALSE)","v":{"$error":"#N/A"}}]
[null,{"$f":"Results!A42","v":0},{"$f":"Results!C42","v":0},{"$f":"Results!B42","v":0},{"$f":"Results!D42","v":0},{"$f":"Results!G42","v":""},"- vs -",{"$f":"VLOOKUP(B39,Results!$A$8:$AG$60,30,FALSE)","v":{"$error":"#N/A"}},{"$f":"VLOOKUP(H39,Results!A$8:$G$60,3,FALSE)","v":{"$error":"#N/A"}},{"$f":"VLOOKUP(H39,Results!$A$8:$G$60,2,FALSE)","v":{"$error":"#N/A"}},{"$f":"VLOOKUP(H39,Results!$A$8:$G$60,4,FALSE)","v":{"$error":"#N/A"}},{"$f":"VLOOKUP(H39,Results!$A$8:$G$60,7,FALSE)","v":{"$error":"#N/A"}},{"$f":"VLOOKUP(H39,$B$4:B39,1,FALSE)","v":{"$error":"#N/A"}}]
[null,{"$f":"Results!A43","v":0},{"$f":"Results!C43","v":0},{"$f":"Results!B43","v":0},{"$f":"Results!D43","v":0},{"$f":"Results!G43","v":""},"- vs -",{"$f":"VLOOKUP(B40,Results!$A$8:$AG$60,30,FALSE)","v":{"$error":"#N/A"}},{"$f":"VLOOKUP(H40,Results!A$8:$G$60,3,FALSE)","v":{"$error":"#N/A"}},{"$f":"VLOOKUP(H40,Results!$A$8:$G$60,2,FALSE)","v":{"$error":"#N/A"}},{"$f":"VLOOKUP(H40,Results!$A$8:$G$60,4,FALSE)","v":{"$error":"#N/A"}},{"$f":"VLOOKUP(H40,Results!$A$8:$G$60,7,FALSE)","v":{"$error":"#N/A"}},{"$f":"VLOOKUP(H40,$B$4:B40,1,FALSE)","v":{"$error":"#N/A"}}]
[null,{"$f":"Results!A44","v":0},{"$f":"Results!C44","v":0},{"$f":"Results!B44","v":0},{"$f":"Results!D44","v":0},{"$f":"Results!G44","v":""},"- vs -",{"$f":"VLOOKUP(B41,Results!$A$8:$AG$60,30,FALSE)","v":{"$error":"#N/A"}},{"$f":"VLOOKUP(H41,Results!A$8:$G$60,3,FALSE)","v":{"$error":"#N/A"}},{"$f":"VLOOKUP(H41,Results!$A$8:$G$60,2,FALSE)","v":{"$error":"#N/A"}},{"$f":"VLOOKUP(H41,Results!$A$8:$G$60,4,FALSE)","v":{"$error":"#N/A"}},{"$f":"VLOOKUP(H41,Results!$A$8:$G$60,7,FALSE)","v":{"$error":"#N/A"}},{"$f":"VLOOKUP(H41,$B$4:B41,1,FALSE)","v":{"$error":"#N/A"}}]
[null,{"$f":"Results!A45","v":0},{"$f":"Results!C45","v":0},{"$f":"Results!B45","v":0},{"$f":"Results!D45","v":0},{"$f":"Results!G45","v":""},"- vs -",{"$f":"VLOOKUP(B42,Results!$A$8:$AG$60,30,FALSE)","v":{"$error":"#N/A"}},{"$f":"VLOOKUP(H42,Results!A$8:$G$60,3,FALSE)","v":{"$error":"#N/A"}},{"$f":"VLOOKUP(H42,Results!$A$8:$G$60,2,FALSE)","v":{"$error":"#N/A"}},{"$f":"VLOOKUP(H42,Results!$A$8:$G$60,4,FALSE)","v":{"$error":"#N/A"}},{"$f":"VLOOKUP(H42,Results!$A$8:$G$60,7,FALSE)","v":{"$error":"#N/A"}},{"$f":"VLOOKUP(H42,$B$4:B42,1,FALSE)","v":{"$error":"#N/A"}}]
[null,{"$f":"Results!A46","v":0},{"$f":"Results!C46","v":0},{"$f":"Results!B46","v":0},{"$f":"Results!D46","v":0},{"$f":"Results!G46","v":""},"- vs -",{"$f":"VLOOKUP(B43,Results!$A$8:$AG$60,30,FALSE)","v":{"$error":"#N/A"}},{"$f":"VLOOKUP(H43,Results!A$8:$G$60,3,FALSE)","v":{"$error":"#N/A"}},{"$f":"VLOOKUP(H43,Results!$A$8:$G$60,2,FALSE)","v":{"$error":"#N/A"}},{"$f":"VLOOKUP(H43,Results!$A$8:$G$60,4,FALSE)","v":{"$error":"#N/A"}},{"$f":"VLOOKUP(H43,Results!$A$8:$G$60,7,FALSE)","v":{"$error":"#N/A"}},{"$f":"VLOOKUP(H43,$B$4:B43,1,FALSE)","v":{"$error":"#N/A"}}]
[null,{"$f":"Results!A47","v":0},{"$f":"Results!C47","v":0},{"$f":"Results!B47","v":0},{"$f":"Results!D47","v":0},{"$f":"Results!G47","v":""},"- vs -",{"$f":"VLOOKUP(B44,Results!$A$8:$AG$60,30,FALSE)","v":{"$error":"#N/A"}},{"$f":"VLOOKUP(H44,Results!A$8:$G$60,3,FALSE)","v":{"$error":"#N/A"}},{"$f":"VLOOKUP(H44,Results!$A$8:$G$60,2,FALSE)","v":{"$error":"#N/A"}},{"$f":"VLOOKUP(H44,Results!$A$8:$G$60,4,FALSE)","v":{"$error":"#N/A"}},{"$f":"VLOOKUP(H44,Results!$A$8:$G$60,7,FALSE)","v":{"$error":"#N/A"}},{"$f":"VLOOKUP(H44,$B$4:B44,1,FALSE)","v":{"$error":"#N/A"}}]
[null,{"$f":"Results!A48","v":0},{"$f":"Results!C48","v":0},{"$f":"Results!B48","v":0},{"$f":"Results!D48","v":0},{"$f":"Results!G48","v":""},"- vs -",{"$f":"VLOOKUP(B45,Results!$A$8:$AG$60,30,FALSE)","v":{"$error":"#N/A"}},{"$f":"VLOOKUP(H45,Results!A$8:$G$60,3,FALSE)","v":{"$error":"#N/A"}},{"$f":"VLOOKUP(H45,Results!$A$8:$G$60,2,FALSE)","v":{"$error":"#N/A"}},{"$f":"VLOOKUP(H45,Results!$A$8:$G$60,4,FALSE)","v":{"$error":"#N/A"}},{"$f":"VLOOKUP(H45,Results!$A$8:$G$60,7,FALSE)","v":{"$error":"#N/A"}},{"$f":"VLOOKUP(H45,$B$4:B45,1,FALSE)","v":{"$error":"#N/A"}}]
[null,{"$f":"Results!A49","v":0},{"$f":"Results!C49","v":0},{"$f":"Results!B49","v":0},{"$f":"Results!D49","v":0},{"$f":"Results!G49","v":""},"- vs -",{"$f":"VLOOKUP(B46,Results!$A$8:$AG$60,30,FALSE)","v":{"$error":"#N/A"}},{"$f":"VLOOKUP(H46,Results!A$8:$G$60,3,FALSE)","v":{"$error":"#N/A"}},{"$f":"VLOOKUP(H46,Results!$A$8:$G$60,2,FALSE)","v":{"$error":"#N/A"}},{"$f":"VLOOKUP(H46,Results!$A$8:$G$60,4,FALSE)","v":{"$error":"#N/A"}},{"$f":"VLOOKUP(H46,Results!$A$8:$G$60,7,FALSE)","v":{"$error":"#N/A"}},{"$f":"VLOOKUP(H46,$B$4:B46,1,FALSE)","v":{"$error":"#N/A"}}]
[null,{"$f":"Results!A50","v":0},{"$f":"Results!C50","v":0},{"$f":"Results!B50","v":0},{"$f":"Results!D50","v":0},{"$f":"Results!G50","v":""},"- vs -",{"$f":"VLOOKUP(B47,Results!$A$8:$AG$60,30,FALSE)","v":{"$error":"#N/A"}},{"$f":"VLOOKUP(H47,Results!A$8:$G$60,3,FALSE)","v":{"$error":"#N/A"}},{"$f":"VLOOKUP(H47,Results!$A$8:$G$60,2,FALSE)","v":{"$error":"#N/A"}},{"$f":"VLOOKUP(H47,Results!$A$8:$G$60,4,FALSE)","v":{"$error":"#N/A"}},{"$f":"VLOOKUP(H47,Results!$A$8:$G$60,7,FALSE)","v":{"$error":"#N/A"}},{"$f":"VLOOKUP(H47,$B$4:B47,1,FALSE)","v":{"$error":"#N/A"}}]
[null,{"$f":"Results!A51","v":0},{"$f":"Results!C51","v":0},{"$f":"Results!B51","v":0},{"$f":"Results!D51","v":0},{"$f":"Results!G51","v":""},"- vs -",{"$f":"VLOOKUP(B48,Results!$A$8:$AG$60,30,FALSE)","v":{"$error":"#N/A"}},{"$f":"VLOOKUP(H48,Results!A$8:$G$60,3,FALSE)","v":{"$error":"#N/A"}},{"$f":"VLOOKUP(H48,Results!$A$8:$G$60,2,FALSE)","v":{"$error":"#N/A"}},{"$f":"VLOOKUP(H48,Results!$A$8:$G$60,4,FALSE)","v":{"$error":"#N/A"}},{"$f":"VLOOKUP(H48,Results!$A$8:$G$60,7,FALSE)","v":{"$error":"#N/A"}},{"$f":"VLOOKUP(H48,$B$4:B48,1,FALSE)","v":{"$error":"#N/A"}}]
[null,{"$f":"Results!A52","v":0},{"$f":"Results!C52","v":0},{"$f":"Results!B52","v":0},{"$f":"Results!D52","v":0},{"$f":"Results!G52","v":""},"- vs -",{"$f":"VLOOKUP(B49,Results!$A$8:$AG$60,30,FALSE)","v":{"$error":"#N/A"}},{"$f":"VLOOKUP(H49,Results!A$8:$G$60,3,FALSE)","v":{"$error":"#N/A"}},{"$f":"VLOOKUP(H49,Results!$A$8:$G$60,2,FALSE)","v":{"$error":"#N/A"}},{"$f":"VLOOKUP(H49,Results!$A$8:$G$60,4,FALSE)","v":{"$error":"#N/A"}},{"$f":"VLOOKUP(H49,Results!$A$8:$G$60,7,FALSE)","v":{"$error":"#N/A"}},{"$f":"VLOOKUP(H49,$B$4:B49,1,FALSE)","v":{"$error":"#N/A"}}]
[null,{"$f":"Results!A53","v":0},{"$f":"Results!C53","v":0},{"$f":"Results!B53","v":0},{"$f":"Results!D53","v":0},{"$f":"Results!G53","v":""},"- vs -",{"$f":"VLOOKUP(B50,Results!$A$8:$AG$60,30,FALSE)","v":{"$error":"#N/A"}},{"$f":"VLOOKUP(H50,Results!A$8:$G$60,3,FALSE)","v":{"$error":"#N/A"}},{"$f":"VLOOKUP(H50,Results!$A$8:$G$60,2,FALSE)","v":{"$error":"#N/A"}},{"$f":"VLOOKUP(H50,Results!$A$8:$G$60,4,FALSE)","v":{"$error":"#N/A"}},{"$f":"VLOOKUP(H50,Results!$A$8:$G$60,7,FALSE)","v":{"$error":"#N/A"}},{"$f":"VLOOKUP(H50,$B$4:B50,1,FALSE)","v":{"$error":"#N/A"}}]
[null,{"$f":"Results!A54","v":0},{"$f":"Results!C54","v":0},{"$f":"Results!B54","v":0},{"$f":"Results!D54","v":0},{"$f":"Results!G54","v":""},"- vs -",{"$f":"VLOOKUP(B51,Results!$A$8:$AG$60,30,FALSE)","v":{"$error":"#N/A"}},{"$f":"VLOOKUP(H51,Results!A$8:$G$60,3,FALSE)","v":{"$error":"#N/A"}},{"$f":"VLOOKUP(H51,Results!$A$8:$G$60,2,FALSE)","v":{"$error":"#N/A"}},{"$f":"VLOOKUP(H51,Results!$A$8:$G$60,4,FALSE)","v":{"$error":"#N/A"}},{"$f":"VLOOKUP(H51,Results!$A$8:$G$60,7,FALSE)","v":{"$error":"#N/A"}},{"$f":"VLOOKUP(H51,$B$4:B51,1,FALSE)","v":{"$error":"#N/A"}}]
[null,{"$f":"Results!A55","v":0},{"$f":"Results!C55","v":0},{"$f":"Results!B55","v":0},{"$f":"Results!D55","v":0},{"$f":"Results!G55","v":""},"- vs -",{"$f":"VLOOKUP(B52,Results!$A$8:$AG$60,30,FALSE)","v":{"$error":"#N/A"}},{"$f":"VLOOKUP(H52,Results!A$8:$G$60,3,FALSE)","v":{"$error":"#N/A"}},{"$f":"VLOOKUP(H52,Results!$A$8:$G$60,2,FALSE)","v":{"$error":"#N/A"}},{"$f":"VLOOKUP(H52,Results!$A$8:$G$60,4,FALSE)","v":{"$error":"#N/A"}},{"$f":"VLOOKUP(H52,Results!$A$8:$G$60,7,FALSE)","v":{"$error":"#N/A"}},{"$f":"VLOOKUP(H52,$B$4:B52,1,FALSE)","v":{"$error":"#N/A"}}]
[null,{"$f":"Results!A56","v":0},{"$f":"Results!C56","v":0},{"$f":"Results!B56","v":0},{"$f":"Results!D56","v":0},{"$f":"Results!G56","v":""},"- vs -",{"$f":"VLOOKUP(B53,Results!$A$8:$AG$60,30,FALSE)","v":{"$error":"#N/A"}},{"$f":"VLOOKUP(H53,Results!A$8:$G$60,3,FALSE)","v":{"$error":"#N/A"}},{"$f":"VLOOKUP(H53,Results!$A$8:$G$60,2,FALSE)","v":{"$error":"#N/A"}},{"$f":"VLOOKUP(H53,Results!$A$8:$G$60,4,FALSE)","v":{"$error":"#N/A"}},{"$f":"VLOOKUP(H53,Results!$A$8:$G$60,7,FALSE)","v":{"$error":"#N/A"}},{"$f":"VLOOKUP(H53,$B$4:B53,1,FALSE)","v":{"$error":"#N/A"}}]
[null,{"$f":"Results!A57","v":0},{"$f":"Results!C57","v":0},{"$f":"Results!B57","v":0},{"$f":"Results!D57","v":0},{"$f":"Results!G57","v":""},"- vs -",{"$f":"VLOOKUP(B54,Results!$A$8:$AG$60,30,FALSE)","v":{"$error":"#N/A"}},{"$f":"VLOOKUP(H54,Results!A$8:$G$60,3,FALSE)","v":{"$error":"#N/A"}},{"$f":"VLOOKUP(H54,Results!$A$8:$G$60,2,FALSE)","v":{"$error":"#N/A"}},{"$f":"VLOOKUP(H54,Results!$A$8:$G$60,4,FALSE)","v":{"$error":"#N/A"}},{"$f":"VLOOKUP(H54,Results!$A$8:$G$60,7,FALSE)","v":{"$error":"#N/A"}},{"$f":"VLOOKUP(H54,$B$4:B54,1,FALSE)","v":{"$error":"#N/A"}}]
[null,{"$f":"Results!A58","v":0},{"$f":"Results!C58","v":0},{"$f":"Results!B58","v":0},{"$f":"Results!D58","v":0},{"$f":"Results!G58","v":""},"- vs -",{"$f":"VLOOKUP(B55,Results!$A$8:$AG$60,30,FALSE)","v":{"$error":"#N/A"}},{"$f":"VLOOKUP(H55,Results!A$8:$G$60,3,FALSE)","v":{"$error":"#N/A"}},{"$f":"VLOOKUP(H55,Results!$A$8:$G$60,2,FALSE)","v":{"$error":"#N/A"}},{"$f":"VLOOKUP(H55,Results!$A$8:$G$60,4,FALSE)","v":{"$error":"#N/A"}},{"$f":"VLOOKUP(H55,Results!$A$8:$G$60,7,FALSE)","v":{"$error":"#N/A"}},{"$f":"VLOOKUP(H55,$B$4:B55,1,FALSE)","v":{"$error":"#N/A"}}]
[null,{"$f":"Results!A59","v":0},{"$f":"Results!C59","v":0},{"$f":"Results!B59","v":0},{"$f":"Results!D59","v":0},{"$f":"Results!G59","v":""},"- vs -",{"$f":"VLOOKUP(B56,Results!$A$8:$AG$60,30,FALSE)","v":{"$error":"#N/A"}},{"$f":"VLOOKUP(H56,Results!A$8:$G$60,3,FALSE)","v":{"$error":"#N/A"}},{"$f":"VLOOKUP(H56,Results!$A$8:$G$60,2,FALSE)","v":{"$error":"#N/A"}},{"$f":"VLOOKUP(H56,Results!$A$8:$G$60,4,FALSE)","v":{"$error":"#N/A"}},{"$f":"VLOOKUP(H56,Results!$A$8:$G$60,7,FALSE)","v":{"$error":"#N/A"}},{"$f":"VLOOKUP(H56,$B$4:B56,1,FALSE)","v":{"$error":"#N/A"}}]
[null,{"$f":"Results!A60","v":0},{"$f":"Results!C60","v":0},{"$f":"Results!B60","v":0},{"$f":"Results!D60","v":0},{"$f":"Results!G60","v":""},"- vs -",{"$f":"VLOOKUP(B57,Results!$A$8:$AG$60,30,FALSE)","v":{"$error":"#N/A"}},{"$f":"VLOOKUP(H57,Results!A$8:$G$60,3,FALSE)","v":{"$error":"#N/A"}},{"$f":"VLOOKUP(H57,Results!$A$8:$G$60,2,FALSE)","v":{"$error":"#N/A"}},{"$f":"VLOOKUP(H57,Results!$A$8:$G$60,4,FALSE)","v":{"$error":"#N/A"}},{"$f":"VLOOKUP(H57,Results!$A$8:$G$60,7,FALSE)","v":{"$error":"#N/A"}},{"$f":"VLOOKUP(H57,$B$4:B57,1,FALSE)","v":{"$error":"#N/A"}}]
[null,{"$f":"Results!A61","v":0},{"$f":"Results!C61","v":0},{"$f":"Results!B61","v":0},{"$f":"Results!D61","v":0},{"$f":"Results!G61","v":""},"- vs -",{"$f":"VLOOKUP(B58,Results!$A$8:$AG$60,30,FALSE)","v":{"$error":"#N/A"}},{"$f":"VLOOKUP(H58,Results!A$8:$G$60,3,FALSE)","v":{"$error":"#N/A"}},{"$f":"VLOOKUP(H58,Results!$A$8:$G$60,2,FALSE)","v":{"$error":"#N/A"}},{"$f":"VLOOKUP(H58,Results!$A$8:$G$60,4,FALSE)","v":{"$error":"#N/A"}},{"$f":"VLOOKUP(H58,Results!$A$8:$G$60,7,FALSE)","v":{"$error":"#N/A"}},{"$f":"VLOOKUP(H58,$B$4:B58,1,FALSE)","v":{"$error":"#N/A"}}]
[null,{"$f":"Results!A62","v":0},{"$f":"Results!C62","v":0},{"$f":"Results!B62","v":0},{"$f":"Results!D62","v":0},{"$f":"Results!G62","v":""},"- vs -",{"$f":"VLOOKUP(B59,Results!$A$8:$AG$60,30,FALSE)","v":{"$error":"#N/A"}},{"$f":"VLOOKUP(H59,Results!A$8:$G$60,3,FALSE)","v":{"$error":"#N/A"}},{"$f":"VLOOKUP(H59,Results!$A$8:$G$60,2,FALSE)","v":{"$error":"#N/A"}},{"$f":"VLOOKUP(H59,Results!$A$8:$G$60,4,FALSE)","v":{"$error":"#N/A"}},{"$f":"VLOOKUP(H59,Results!$A$8:$G$60,7,FALSE)","v":{"$error":"#N/A"}},{"$f":"VLOOKUP(H59,$B$4:B59,1,FALSE)","v":{"$error":"#N/A"}}]
[null,{"$f":"Results!A63","v":0},{"$f":"Results!C63","v":0},{"$f":"Results!B63","v":0},{"$f":"Results!D63","v":0},{"$f":"Results!G63","v":""},"- vs -",{"$f":"VLOOKUP(B60,Results!$A$8:$AG$60,30,FALSE)","v":{"$error":"#N/A"}},{"$f":"VLOOKUP(H60,Results!A$8:$G$60,3,FALSE)","v":{"$error":"#N/A"}},{"$f":"VLOOKUP(H60,Results!$A$8:$G$60,2,FALSE)","v":{"$error":"#N/A"}},{"$f":"VLOOKUP(H60,Results!$A$8:$G$60,4,FALSE)","v":{"$error":"#N/A"}},{"$f":"VLOOKUP(H60,Results!$A$8:$G$60,7,FALSE)","v":{"$error":"#N/A"}},{"$f":"VLOOKUP(H60,$B$4:B60,1,FALSE)","v":{"$error":"#N/A"}}]
[null,{"$f":"Results!A64","v":0},{"$f":"Results!C64","v":0},{"$f":"Results!B64","v":0},{"$f":"Results!D64","v":0},{"$f":"Results!G64","v":""},"- vs -",{"$f":"VLOOKUP(B61,Results!$A$8:$AG$60,30,FALSE)","v":{"$error":"#N/A"}},{"$f":"VLOOKUP(H61,Results!A$8:$G$60,3,FALSE)","v":{"$error":"#N/A"}},{"$f":"VLOOKUP(H61,Results!$A$8:$G$60,2,FALSE)","v":{"$error":"#N/A"}},{"$f":"VLOOKUP(H61,Results!$A$8:$G$60,4,FALSE)","v":{"$error":"#N/A"}},{"$f":"VLOOKUP(H61,Results!$A$8:$G$60,7,FALSE)","v":{"$error":"#N/A"}},{"$f":"VLOOKUP(H61,$B$4:B61,1,FALSE)","v":{"$error":"#N/A"}}]
[null,{"$f":"Results!A65","v":0},{"$f":"Results!C65","v":0},{"$f":"Results!B65","v":0},{"$f":"Results!D65","v":0},{"$f":"Results!G65","v":""},"- vs -",{"$f":"VLOOKUP(B62,Results!$A$8:$AG$60,30,FALSE)","v":{"$error":"#N/A"}},{"$f":"VLOOKUP(H62,Results!A$8:$G$60,3,FALSE)","v":{"$error":"#N/A"}},{"$f":"VLOOKUP(H62,Results!$A$8:$G$60,2,FALSE)","v":{"$error":"#N/A"}},{"$f":"VLOOKUP(H62,Results!$A$8:$G$60,4,FALSE)","v":{"$error":"#N/A"}},{"$f":"VLOOKUP(H62,Results!$A$8:$G$60,7,FALSE)","v":{"$error":"#N/A"}},{"$f":"VLOOKUP(H62,$B$4:B62,1,FALSE)","v":{"$error":"#N/A"}}]
[null,{"$f":"Results!A66","v":0},{"$f":"Results!C66","v":0},{"$f":"Results!B66","v":0},{"$f":"Results!D66","v":0},{"$f":"Results!G66","v":""},"- vs -",{"$f":"VLOOKUP(B63,Results!$A$8:$AG$60,30,FALSE)","v":{"$error":"#N/A"}},{"$f":"VLOOKUP(H63,Results!A$8:$G$60,3,FALSE)","v":{"$error":"#N/A"}},{"$f":"VLOOKUP(H63,Results!$A$8:$G$60,2,FALSE)","v":{"$error":"#N/A"}},{"$f":"VLOOKUP(H63,Results!$A$8:$G$60,4,FALSE)","v":{"$error":"#N/A"}},{"$f":"VLOOKUP(H63,Results!$A$8:$G$60,7,FALSE)","v":{"$error":"#N/A"}},{"$f":"VLOOKUP(H63,$B$4:B63,1,FALSE)","v":{"$error":"#N/A"}}]
[null,{"$f":"Results!A67","v":0},{"$f":"Results!C67","v":0},{"$f":"Results!B67","v":0},{"$f":"Results!D67","v":0},{"$f":"Results!G67","v":""},"- vs -",{"$f":"VLOOKUP(B64,Results!$A$8:$AG$60,30,FALSE)","v":{"$error":"#N/A"}},{"$f":"VLOOKUP(H64,Results!A$8:$G$60,3,FALSE)","v":{"$error":"#N/A"}},{"$f":"VLOOKUP(H64,Results!$A$8:$G$60,2,FALSE)","v":{"$error":"#N/A"}},{"$f":"VLOOKUP(H64,Results!$A$8:$G$60,4,FALSE)","v":{"$error":"#N/A"}},{"$f":"VLOOKUP(H64,Results!$A$8:$G$60,7,FALSE)","v":{"$error":"#N/A"}}]
[null,{"$f":"Results!A68","v":0},{"$f":"Results!C68","v":0},{"$f":"Results!B68","v":0},{"$f":"Results!D68","v":0},{"$f":"Results!G68","v":""},"- vs -",{"$f":"VLOOKUP(B65,Results!$A$8:$AG$60,30,FALSE)","v":{"$error":"#N/A"}},{"$f":"VLOOKUP(H65,Results!A$8:$G$60,3,FALSE)","v":{"$error":"#N/A"}},{"$f":"VLOOKUP(H65,Results!$A$8:$G$60,2,FALSE)","v":{"$error":"#N/A"}},{"$f":"VLOOKUP(H65,Results!$A$8:$G$60,4,FALSE)","v":{"$error":"#N/A"}},{"$f":"VLOOKUP(H65,Results!$A$8:$G$60,7,FALSE)","v":{"$error":"#N/A"}}]
[null,{"$f":"Results!A69","v":0},{"$f":"Results!C69","v":0},{"$f":"Results!B69","v":0},{"$f":"Results!D69","v":0},{"$f":"Results!G69","v":""},"- vs -",{"$f":"VLOOKUP(B66,Results!$A$8:$AG$60,30,FALSE)","v":{"$error":"#N/A"}},{"$f":"VLOOKUP(H66,Results!A$8:$G$60,3,FALSE)","v":{"$error":"#N/A"}},{"$f":"VLOOKUP(H66,Results!$A$8:$G$60,2,FALSE)","v":{"$error":"#N/A"}},{"$f":"VLOOKUP(H66,Results!$A$8:$G$60,4,FALSE)","v":{"$error":"#N/A"}},{"$f":"VLOOKUP(H66,Results!$A$8:$G$60,7,FALSE)","v":{"$error":"#N/A"}}]
[null,{"$f":"Results!A70","v":0},{"$f":"Results!C70","v":0},{"$f":"Results!B70","v":0},{"$f":"Results!D70","v":0},{"$f":"Results!G70","v":""},"- vs -",{"$f":"VLOOKUP(B67,Results!$A$8:$AG$60,30,FALSE)","v":{"$error":"#N/A"}},{"$f":"VLOOKUP(H67,Results!A$8:$G$60,3,FALSE)","v":{"$error":"#N/A"}},{"$f":"VLOOKUP(H67,Results!$A$8:$G$60,2,FALSE)","v":{"$error":"#N/A"}},{"$f":"VLOOKUP(H67,Results!$A$8:$G$60,4,FALSE)","v":{"$error":"#N/A"}},{"$f":"VLOOKUP(H67,Results!$A$8:$G$60,7,FALSE)","v":{"$error":"#N/A"}}]
[null,{"$f":"Results!A71","v":0},{"$f":"Results!C71","v":0},{"$f":"Results!B71","v":0},{"$f":"Results!D71","v":0},{"$f":"Results!G71","v":""},"- vs -",{"$f":"VLOOKUP(B68,Results!$A$8:$AG$60,30,FALSE)","v":{"$error":"#N/A"}},{"$f":"VLOOKUP(H68,Results!A$8:$G$60,3,FALSE)","v":{"$error":"#N/A"}},{"$f":"VLOOKUP(H68,Results!$A$8:$G$60,2,FALSE)","v":{"$error":"#N/A"}},{"$f":"VLOOKUP(H68,Results!$A$8:$G$60,4,FALSE)","v":{"$error":"#N/A"}},{"$f":"VLOOKUP(H68,Results!$A$8:$G$60,7,FALSE)","v":{"$error":"#N/A"}}]
[null,{"$f":"Results!A72","v":0},{"$f":"Results!C72","v":0},{"$f":"Results!B72","v":0},{"$f":"Results!D72","v":0},{"$f":"Results!G72","v":""},"- vs -",{"$f":"VLOOKUP(B69,Results!$A$8:$AG$60,30,FALSE)","v":{"$error":"#N/A"}},{"$f":"VLOOKUP(H69,Results!A$8:$G$60,3,FALSE)","v":{"$error":"#N/A"}},{"$f":"VLOOKUP(H69,Results!$A$8:$G$60,2,FALSE)","v":{"$error":"#N/A"}},{"$f":"VLOOKUP(H69,Results!$A$8:$G$60,4,FALSE)","v":{"$error":"#N/A"}},{"$f":"VLOOKUP(H69,Results!$A$8:$G$60,7,FALSE)","v":{"$error":"#N/A"}}]
[null,{"$f":"Results!A73","v":0},{"$f":"Results!C73","v":0},{"$f":"Results!B73","v":0},{"$f":"Results!D73","v":0},{"$f":"Results!G73","v":""},"- vs -",{"$f":"VLOOKUP(B70,Results!$A$8:$AG$60,30,FALSE)","v":{"$error":"#N/A"}},{"$f":"VLOOKUP(H70,Results!A$8:$G$60,3,FALSE)","v":{"$error":"#N/A"}},{"$f":"VLOOKUP(H70,Results!$A$8:$G$60,2,FALSE)","v":{"$error":"#N/A"}},{"$f":"VLOOKUP(H70,Results!$A$8:$G$60,4,FALSE)","v":{"$error":"#N/A"}},{"$f":"VLOOKUP(H70,Results!$A$8:$G$60,7,FALSE)","v":{"$error":"#N/A"}}]
[null,{"$f":"Results!A74","v":0},{"$f":"Results!C74","v":0},{"$f":"Results!B74","v":0},{"$f":"Results!D74","v":0},{"$f":"Results!G74","v":""},"- vs -",{"$f":"VLOOKUP(B71,Results!$A$8:$AG$60,30,FALSE)","v":{"$error":"#N/A"}},{"$f":"VLOOKUP(H71,Results!A$8:$G$60,3,FALSE)","v":{"$error":"#N/A"}},{"$f":"VLOOKUP(H71,Results!$A$8:$G$60,2,FALSE)","v":{"$error":"#N/A"}},{"$f":"VLOOKUP(H71,Results!$A$8:$G$60,4,FALSE)","v":{"$error":"#N/A"}},{"$f":"VLOOKUP(H71,Results!$A$8:$G$60,7,FALSE)","v":{"$error":"#N/A"}}]
[null,{"$f":"Results!A75","v":0},{"$f":"Results!C75","v":0},{"$f":"Results!B75","v":0},{"$f":"Results!D75","v":0},{"$f":"Results!G75","v":""},"- vs -",{"$f":"VLOOKUP(B72,Results!$A$8:$AG$60,30,FALSE)","v":{"$error":"#N/A"}},{"$f":"VLOOKUP(H72,Results!A$8:$G$60,3,FALSE)","v":{"$error":"#N/A"}},{"$f":"VLOOKUP(H72,Results!$A$8:$G$60,2,FALSE)","v":{"$error":"#N/A"}},{"$f":"VLOOKUP(H72,Results!$A$8:$G$60,4,FALSE)","v":{"$error":"#N/A"}},{"$f":"VLOOKUP(H72,Results!$A$8:$G$60,7,FALSE)","v":{"$error":"#N/A"}}]
[null,{"$f":"Results!A76","v":0},{"$f":"Results!C76","v":0},{"$f":"Results!B76","v":0},{"$f":"Results!D76","v":0},{"$f":"Results!G76","v":""},"- vs -",{"$f":"VLOOKUP(B73,Results!$A$8:$AG$60,30,FALSE)","v":{"$error":"#N/A"}},{"$f":"VLOOKUP(H73,Results!A$8:$G$60,3,FALSE)","v":{"$error":"#N/A"}},{"$f":"VLOOKUP(H73,Results!$A$8:$G$60,2,FALSE)","v":{"$error":"#N/A"}},{"$f":"VLOOKUP(H73,Results!$A$8:$G$60,4,FALSE)","v":{"$error":"#N/A"}},{"$f":"VLOOKUP(H73,Results!$A$8:$G$60,7,FALSE)","v":{"$error":"#N/A"}}]
[null,{"$f":"Results!A77","v":0},{"$f":"Results!C77","v":0},{"$f":"Results!B77","v":0},{"$f":"Results!D77","v":0},{"$f":"Results!G77","v":""},"- vs -",{"$f":"VLOOKUP(B74,Results!$A$8:$AG$60,30,FALSE)","v":{"$error":"#N/A"}},{"$f":"VLOOKUP(H74,Results!A$8:$G$60,3,FALSE)","v":{"$error":"#N/A"}},{"$f":"VLOOKUP(H74,Results!$A$8:$G$60,2,FALSE)","v":{"$error":"#N/A"}},{"$f":"VLOOKUP(H74,Results!$A$8:$G$60,4,FALSE)","v":{"$error":"#N/A"}},{"$f":"VLOOKUP(H74,Results!$A$8:$G$60,7,FALSE)","v":{"$error":"#N/A"}}]
[null,{"$f":"Results!A78","v":0},{"$f":"Results!C78","v":0},{"$f":"Results!B78","v":0},{"$f":"Results!D78","v":0},{"$f":"Results!G78","v":""},"- vs -",{"$f":"VLOOKUP(B75,Results!$A$8:$AG$60,30,FALSE)","v":{"$error":"#N/A"}},{"$f":"VLOOKUP(H75,Results!A$8:$G$60,3,FALSE)","v":{"$error":"#N/A"}},{"$f":"VLOOKUP(H75,Results!$A$8:$G$60,2,FALSE)","v":{"$error":"#N/A"}},{"$f":"VLOOKUP(H75,Results!$A$8:$G$60,4,FALSE)","v":{"$error":"#N/A"}},{"$f":"VLOOKUP(H75,Results!$A$8:$G$60,7,FALSE)","v":{"$error":"#N/A"}}]
[null,{"$f":"Results!A79","v":0},{"$f":"Results!C79","v":0},{"$f":"Results!B79","v":0},{"$f":"Results!D79","v":0},{"$f":"Results!G79","v":""},"- vs -",{"$f":"VLOOKUP(B76,Results!$A$8:$AG$60,30,FALSE)","v":{"$error":"#N/A"}},{"$f":"VLOOKUP(H76,Results!A$8:$G$60,3,FALSE)","v":{"$error":"#N/A"}},{"$f":"VLOOKUP(H76,Results!$A$8:$G$60,2,FALSE)","v":{"$error":"#N/A"}},{"$f":"VLOOKUP(H76,Results!$A$8:$G$60,4,FALSE)","v":{"$error":"#N/A"}},{"$f":"VLOOKUP(H76,Results!$A$8:$G$60,7,FALSE)","v":{"$error":"#N/A"}}]
[null,{"$f":"Results!A80","v":0},{"$f":"Results!C80","v":0},{"$f":"Results!B80","v":0},{"$f":"Results!D80","v":0},{"$f":"Results!G80","v":""},"- vs -",{"$f":"VLOOKUP(B77,Results!$A$8:$AG$60,30,FALSE)","v":{"$error":"#N/A"}},{"$f":"VLOOKUP(H77,Results!A$8:$G$60,3,FALSE)","v":{"$error":"#N/A"}},{"$f":"VLOOKUP(H77,Results!$A$8:$G$60,2,FALSE)","v":{"$error":"#N/A"}},{"$f":"VLOOKUP(H77,Results!$A$8:$G$60,4,FALSE)","v":{"$error":"#N/A"}},{"$f":"VLOOKUP(H77,Results!$A$8:$G$60,7,FALSE)","v":{"$error":"#N/A"}}]
[null,{"$f":"Results!A81","v":0},{"$f":"Results!C81","v":0},{"$f":"Results!B81","v":0},{"$f":"Results!D81","v":0},{"$f":"Results!G81","v":""},"- vs -",{"$f":"VLOOKUP(B78,Results!$A$8:$AG$60,30,FALSE)","v":{"$error":"#N/A"}},{"$f":"VLOOKUP(H78,Results!A$8:$G$60,3,FALSE)","v":{"$error":"#N/A"}},{"$f":"VLOOKUP(H78,Results!$A$8:$G$60,2,FALSE)","v":{"$error":"#N/A"}},{"$f":"VLOOKUP(H78,Results!$A$8:$G$60,4,FALSE)","v":{"$error":"#N/A"}},{"$f":"VLOOKUP(H78,Results!$A$8:$G$60,7,FALSE)","v":{"$error":"#N/A"}}]
[null,{"$f":"Results!A82","v":0},{"$f":"Results!C82","v":0},{"$f":"Results!B82","v":0},{"$f":"Results!D82","v":0},{"$f":"Results!G82","v":""},"- vs -",{"$f":"VLOOKUP(B79,Results!$A$8:$AG$60,30,FALSE)","v":{"$error":"#N/A"}},{"$f":"VLOOKUP(H79,Results!A$8:$G$60,3,FALSE)","v":{"$error":"#N/A"}},{"$f":"VLOOKUP(H79,Results!$A$8:$G$60,2,FALSE)","v":{"$error":"#N/A"}},{"$f":"VLOOKUP(H79,Results!$A$8:$G$60,4,FALSE)","v":{"$error":"#N/A"}},{"$f":"VLOOKUP(H79,Results!$A$8:$G$60,7,FALSE)","v":{"$error":"#N/A"}}]
[null,{"$f":"Results!A83","v":0},{"$f":"Results!C83","v":0},{"$f":"Results!B83","v":0},{"$f":"Results!D83","v":0},{"$f":"Results!G83","v":""},"- vs -",{"$f":"VLOOKUP(B80,Results!$A$8:$AG$60,30,FALSE)","v":{"$error":"#N/A"}},{"$f":"VLOOKUP(H80,Results!A$8:$G$60,3,FALSE)","v":{"$error":"#N/A"}},{"$f":"VLOOKUP(H80,Results!$A$8:$G$60,2,FALSE)","v":{"$error":"#N/A"}},{"$f":"VLOOKUP(H80,Results!$A$8:$G$60,4,FALSE)","v":{"$error":"#N/A"}},{"$f":"VLOOKUP(H80,Results!$A$8:$G$60,7,FALSE)","v":{"$error":"#N/A"}}]
[null,{"$f":"Results!A84","v":0},{"$f":"Results!C84","v":0},{"$f":"Results!B84","v":0},{"$f":"Results!D84","v":0},{"$f":"Results!G84","v":""},"- vs -",{"$f":"VLOOKUP(B81,Results!$A$8:$AG$60,30,FALSE)","v":{"$error":"#N/A"}},{"$f":"VLOOKUP(H81,Results!A$8:$G$60,3,FALSE)","v":{"$error":"#N/A"}},{"$f":"VLOOKUP(H81,Results!$A$8:$G$60,2,FALSE)","v":{"$error":"#N/A"}},{"$f":"VLOOKUP(H81,Results!$A$8:$G$60,4,FALSE)","v":{"$error":"#N/A"}},{"$f":"VLOOKUP(H81,Results!$A$8:$G$60,7,FALSE)","v":{"$error":"#N/A"}}]
[null,{"$f":"Results!A85","v":0},{"$f":"Results!C85","v":0},{"$f":"Results!B85","v":0},{"$f":"Results!D85","v":0},{"$f":"Results!G85","v":""},"- vs -",{"$f":"VLOOKUP(B82,Results!$A$8:$AG$60,30,FALSE)","v":{"$error":"#N/A"}},{"$f":"VLOOKUP(H82,Results!A$8:$G$60,3,FALSE)","v":{"$error":"#N/A"}},{"$f":"VLOOKUP(H82,Results!$A$8:$G$60,2,FALSE)","v":{"$error":"#N/A"}},{"$f":"VLOOKUP(H82,Results!$A$8:$G$60,4,FALSE)","v":{"$error":"#N/A"}},{"$f":"VLOOKUP(H82,Results!$A$8:$G$60,7,FALSE)","v":{"$error":"#N/A"}}]
[null,{"$f":"Results!A86","v":0},{"$f":"Results!C86","v":0},{"$f":"Results!B86","v":0},{"$f":"Results!D86","v":0},{"$f":"Results!G86","v":""},"- vs -",{"$f":"VLOOKUP(B83,Results!$A$8:$AG$60,30,FALSE)","v":{"$error":"#N/A"}},{"$f":"VLOOKUP(H83,Results!A$8:$G$60,3,FALSE)","v":{"$error":"#N/A"}},{"$f":"VLOOKUP(H83,Results!$A$8:$G$60,2,FALSE)","v":{"$error":"#N/A"}},{"$f":"VLOOKUP(H83,Results!$A$8:$G$60,4,FALSE)","v":{"$error":"#N/A"}},{"$f":"VLOOKUP(H83,Results!$A$8:$G$60,7,FALSE)","v":{"$error":"#N/A"}}]
[null,{"$f":"Results!A87","v":0},{"$f":"Results!C87","v":0},{"$f":"Results!B87","v":0},{"$f":"Results!D87","v":0},{"$f":"Results!G87","v":""},"- vs -",{"$f":"VLOOKUP(B84,Results!$A$8:$AG$60,30,FALSE)","v":{"$error":"#N/A"}},{"$f":"VLOOKUP(H84,Results!A$8:$G$60,3,FALSE)","v":{"$error":"#N/A"}},{"$f":"VLOOKUP(H84,Results!$A$8:$G$60,2,FALSE)","v":{"$error":"#N/A"}},{"$f":"VLOOKUP(H84,Results!$A$8:$G$60,4,FALSE)","v":{"$error":"#N/A"}},{"$f":"VLOOKUP(H84,Results!$A$8:$G$60,7,FALSE)","v":{"$error":"#N/A"}}]
[null,{"$f":"Results!A88","v":0},{"$f":"Results!C88","v":0},{"$f":"Results!B88","v":0},{"$f":"Results!D88","v":0},{"$f":"Results!G88","v":""},"- vs -",{"$f":"VLOOKUP(B85,Results!$A$8:$AG$60,30,FALSE)","v":{"$error":"#N/A"}},{"$f":"VLOOKUP(H85,Results!A$8:$G$60,3,FALSE)","v":{"$error":"#N/A"}},{"$f":"VLOOKUP(H85,Results!$A$8:$G$60,2,FALSE)","v":{"$error":"#N/A"}},{"$f":"VLOOKUP(H85,Results!$A$8:$G$60,4,FALSE)","v":{"$error":"#N/A"}},{"$f":"VLOOKUP(H85,Results!$A$8:$G$60,7,FALSE)","v":{"$error":"#N/A"}}]
[null,{"$f":"Results!A89","v":0},{"$f":"Results!C89","v":0},{"$f":"Results!B89","v":0},{"$f":"Results!D89","v":0},{"$f":"Results!G89","v":""},"- vs -",{"$f":"VLOOKUP(B86,Results!$A$8:$AG$60,30,FALSE)","v":{"$error":"#N/A"}},{"$f":"VLOOKUP(H86,Results!A$8:$G$60,3,FALSE)","v":{"$error":"#N/A"}},{"$f":"VLOOKUP(H86,Results!$A$8:$G$60,2,FALSE)","v":{"$error":"#N/A"}},{"$f":"VLOOKUP(H86,Results!$A$8:$G$60,4,FALSE)","v":{"$error":"#N/A"}},{"$f":"VLOOKUP(H86,Results!$A$8:$G$60,7,FALSE)","v":{"$error":"#N/A"}}]
[null,{"$f":"Results!A90","v":0},{"$f":"Results!C90","v":0},{"$f":"Results!B90","v":0},{"$f":"Results!D90","v":0},{"$f":"Results!G90","v":""},"- vs -",{"$f":"VLOOKUP(B87,Results!$A$8:$AG$60,30,FALSE)","v":{"$error":"#N/A"}},{"$f":"VLOOKUP(H87,Results!A$8:$G$60,3,FALSE)","v":{"$error":"#N/A"}},{"$f":"VLOOKUP(H87,Results!$A$8:$G$60,2,FALSE)","v":{"$error":"#N/A"}},{"$f":"VLOOKUP(H87,Results!$A$8:$G$60,4,FALSE)","v":{"$error":"#N/A"}},{"$f":"VLOOKUP(H87,Results!$A$8:$G$60,7,FALSE)","v":{"$error":"#N/A"}}]
[null,{"$f":"Results!A91","v":0},{"$f":"Results!C91","v":0},{"$f":"Results!B91","v":0},{"$f":"Results!D91","v":0},{"$f":"Results!G91","v":""},"- vs -",{"$f":"VLOOKUP(B88,Results!$A$8:$AG$60,30,FALSE)","v":{"$error":"#N/A"}},{"$f":"VLOOKUP(H88,Results!A$8:$G$60,3,FALSE)","v":{"$error":"#N/A"}},{"$f":"VLOOKUP(H88,Results!$A$8:$G$60,2,FALSE)","v":{"$error":"#N/A"}},{"$f":"VLOOKUP(H88,Results!$A$8:$G$60,4,FALSE)","v":{"$error":"#N/A"}},{"$f":"VLOOKUP(H88,Results!$A$8:$G$60,7,FALSE)","v":{"$error":"#N/A"}}]
[null,{"$f":"Results!A92","v":0},{"$f":"Results!C92","v":0},{"$f":"Results!B92","v":0},{"$f":"Results!D92","v":0},{"$f":"Results!G92","v":""},"- vs -",{"$f":"VLOOKUP(B89,Results!$A$8:$AG$60,30,FALSE)","v":{"$error":"#N/A"}},{"$f":"VLOOKUP(H89,Results!A$8:$G$60,3,FALSE)","v":{"$error":"#N/A"}},{"$f":"VLOOKUP(H89,Results!$A$8:$G$60,2,FALSE)","v":{"$error":"#N/A"}},{"$f":"VLOOKUP(H89,Results!$A$8:$G$60,4,FALSE)","v":{"$error":"#N/A"}},{"$f":"VLOOKUP(H89,Results!$A$8:$G$60,7,FALSE)","v":{"$error":"#N/A"}}]
[null,{"$f":"Results!A93","v":0},{"$f":"Results!C93","v":0},{"$f":"Results!B93","v":0},{"$f":"Results!D93","v":0},{"$f":"Results!G93","v":""},"- vs -",{"$f":"VLOOKUP(B90,Results!$A$8:$AG$60,30,FALSE)","v":{"$error":"#N/A"}},{"$f":"VLOOKUP(H90,Results!A$8:$G$60,3,FALSE)","v":{"$error":"#N/A"}},{"$f":"VLOOKUP(H90,Results!$A$8:$G$60,2,FALSE)","v":{"$error":"#N/A"}},{"$f":"VLOOKUP(H90,Results!$A$8:$G$60,4,FALSE)","v":{"$error":"#N/A"}},{"$f":"VLOOKUP(H90,Results!$A$8:$G$60,7,FALSE)","v":{"$error":"#N/A"}}]
[null,{"$f":"Results!A94","v":0},{"$f":"Results!C94","v":0},{"$f":"Results!B94","v":0},{"$f":"Results!D94","v":0},{"$f":"Results!G94","v":""},"- vs -",{"$f":"VLOOKUP(B91,Results!$A$8:$AG$60,30,FALSE)","v":{"$error":"#N/A"}},{"$f":"VLOOKUP(H91,Results!A$8:$G$60,3,FALSE)","v":{"$error":"#N/A"}},{"$f":"VLOOKUP(H91,Results!$A$8:$G$60,2,FALSE)","v":{"$error":"#N/A"}},{"$f":"VLOOKUP(H91,Results!$A$8:$G$60,4,FALSE)","v":{"$error":"#N/A"}},{"$f":"VLOOKUP(H91,Results!$A$8:$G$60,7,FALSE)","v":{"$error":"#N/A"}}]
[null,{"$f":"Results!A95","v":0},{"$f":"Results!C95","v":0},{"$f":"Results!B95","v":0},{"$f":"Results!D95","v":0},{"$f":"Results!G95","v":""},"- vs -",{"$f":"VLOOKUP(B92,Results!$A$8:$AG$60,30,FALSE)","v":{"$error":"#N/A"}},{"$f":"VLOOKUP(H92,Results!A$8:$G$60,3,FALSE)","v":{"$error":"#N/A"}},{"$f":"VLOOKUP(H92,Results!$A$8:$G$60,2,FALSE)","v":{"$error":"#N/A"}},{"$f":"VLOOKUP(H92,Results!$A$8:$G$60,4,FALSE)","v":{"$error":"#N/A"}},{"$f":"VLOOKUP(H92,Results!$A$8:$G$60,7,FALSE)","v":{"$error":"#N/A"}}]
[null,{"$f":"Results!A96","v":0},{"$f":"Results!C96","v":0},{"$f":"Results!B96","v":0},{"$f":"Results!D96","v":0},{"$f":"Results!G96","v":""},"- vs -",{"$f":"VLOOKUP(B93,Results!$A$8:$AG$60,30,FALSE)","v":{"$error":"#N/A"}},{"$f":"VLOOKUP(H93,Results!A$8:$G$60,3,FALSE)","v":{"$error":"#N/A"}},{"$f":"VLOOKUP(H93,Results!$A$8:$G$60,2,FALSE)","v":{"$error":"#N/A"}},{"$f":"VLOOKUP(H93,Results!$A$8:$G$60,4,FALSE)","v":{"$error":"#N/A"}},{"$f":"VLOOKUP(H93,Results!$A$8:$G$60,7,FALSE)","v":{"$error":"#N/A"}}]
[null,{"$f":"Results!A97","v":0},{"$f":"Results!C97","v":0},{"$f":"Results!B97","v":0},{"$f":"Results!D97","v":0},{"$f":"Results!G97","v":""},"- vs -",{"$f":"VLOOKUP(B94,Results!$A$8:$AG$60,30,FALSE)","v":{"$error":"#N/A"}},{"$f":"VLOOKUP(H94,Results!A$8:$G$60,3,FALSE)","v":{"$error":"#N/A"}},{"$f":"VLOOKUP(H94,Results!$A$8:$G$60,2,FALSE)","v":{"$error":"#N/A"}},{"$f":"VLOOKUP(H94,Results!$A$8:$G$60,4,FALSE)","v":{"$error":"#N/A"}},{"$f":"VLOOKUP(H94,Results!$A$8:$G$60,7,FALSE)","v":{"$error":"#N/A"}}]
[null,{"$f":"Results!A98","v":0},{"$f":"Results!C98","v":0},{"$f":"Results!B98","v":0},{"$f":"Results!D98","v":0},{"$f":"Results!G98","v":""},"- vs -",{"$f":"VLOOKUP(B95,Results!$A$8:$AG$60,30,FALSE)","v":{"$error":"#N/A"}},{"$f":"VLOOKUP(H95,Results!A$8:$G$60,3,FALSE)","v":{"$error":"#N/A"}},{"$f":"VLOOKUP(H95,Results!$A$8:$G$60,2,FALSE)","v":{"$error":"#N/A"}},{"$f":"VLOOKUP(H95,Results!$A$8:$G$60,4,FALSE)","v":{"$error":"#N/A"}},{"$f":"VLOOKUP(H95,Results!$A$8:$G$60,7,FALSE)","v":{"$error":"#N/A"}}]
[null,{"$f":"Results!A99","v":0},{"$f":"Results!C99","v":0},{"$f":"Results!B99","v":0},{"$f":"Results!D99","v":0},{"$f":"Results!G99","v":""},"- vs -",{"$f":"VLOOKUP(B96,Results!$A$8:$AG$60,30,FALSE)","v":{"$error":"#N/A"}},{"$f":"VLOOKUP(H96,Results!A$8:$G$60,3,FALSE)","v":{"$error":"#N/A"}},{"$f":"VLOOKUP(H96,Results!$A$8:$G$60,2,FALSE)","v":{"$error":"#N/A"}},{"$f":"VLOOKUP(H96,Results!$A$8:$G$60,4,FALSE)","v":{"$error":"#N/A"}},{"$f":"VLOOKUP(H96,Results!$A$8:$G$60,7,FALSE)","v":{"$error":"#N/A"}}]
[null,{"$f":"Results!A100","v":0},{"$f":"Results!C100","v":0},{"$f":"Results!B100","v":0},{"$f":"Results!D100","v":0},{"$f":"Results!G100","v":""},"- vs -",{"$f":"VLOOKUP(B97,Results!$A$8:$AG$60,30,FALSE)","v":{"$error":"#N/A"}},{"$f":"VLOOKUP(H97,Results!A$8:$G$60,3,FALSE)","v":{"$error":"#N/A"}},{"$f":"VLOOKUP(H97,Results!$A$8:$G$60,2,FALSE)","v":{"$error":"#N/A"}},{"$f":"VLOOKUP(H97,Results!$A$8:$G$60,4,FALSE)","v":{"$error":"#N/A"}},{"$f":"VLOOKUP(H97,Results!$A$8:$G$60,7,FALSE)","v":{"$error":"#N/A"}}]
[null,{"$f":"Results!A101","v":0},{"$f":"Results!C101","v":0},{"$f":"Results!B101","v":0},{"$f":"Results!D101","v":0},{"$f":"Results!G101","v":""},"- vs -",{"$f":"VLOOKUP(B98,Results!$A$8:$AG$60,30,FALSE)","v":{"$error":"#N/A"}},{"$f":"VLOOKUP(H98,Results!A$8:$G$60,3,FALSE)","v":{"$error":"#N/A"}},{"$f":"VLOOKUP(H98,Results!$A$8:$G$60,2,FALSE)","v":{"$error":"#N/A"}},{"$f":"VLOOKUP(H98,Results!$A$8:$G$60,4,FALSE)","v":{"$error":"#N/A"}},{"$f":"VLOOKUP(H98,Results!$A$8:$G$60,7,FALSE)","v":{"$error":"#N/A"}}]
[null,{"$f":"Results!A102","v":0},{"$f":"Results!C102","v":0},{"$f":"Results!B102","v":0},{"$f":"Results!D102","v":0},{"$f":"Results!G102","v":""},"- vs -",{"$f":"VLOOKUP(B99,Results!$A$8:$AG$60,30,FALSE)","v":{"$error":"#N/A"}},{"$f":"VLOOKUP(H99,Results!A$8:$G$60,3,FALSE)","v":{"$error":"#N/A"}},{"$f":"VLOOKUP(H99,Results!$A$8:$G$60,2,FALSE)","v":{"$error":"#N/A"}},{"$f":"VLOOKUP(H99,Results!$A$8:$G$60,4,FALSE)","v":{"$error":"#N/A"}},{"$f":"VLOOKUP(H99,Results!$A$8:$G$60,7,FALSE)","v":{"$error":"#N/A"}}]
[null,{"$f":"Results!A103","v":0},{"$f":"Results!C103","v":0},{"$f":"Results!B103","v":0},{"$f":"Results!D103","v":0},{"$f":"Results!G103","v":""},"- vs -",{"$f":"VLOOKUP(B100,Results!$A$8:$AG$60,30,FALSE)","v":{"$error":"#N/A"}},{"$f":"VLOOKUP(H100,Results!A$8:$G$60,3,FALSE)","v":{"$error":"#N/A"}},{"$f":"VLOOKUP(H100,Results!$A$8:$G$60,2,FALSE)","v":{"$error":"#N/A"}},{"$f":"VLOOKUP(H100,Results!$A$8:$G$60,4,FALSE)","v":{"$error":"#N/A"}},{"$f":"VLOOKUP(H100,Results!$A$8:$G$60,7,FALSE)","v":{"$error":"#N/A"}}]
[null,{"$f":"Results!A104","v":0},{"$f":"Results!C104","v":0},{"$f":"Results!B104","v":0},{"$f":"Results!D104","v":0},{"$f":"Results!G104","v":""},"- vs -",{"$f":"VLOOKUP(B101,Results!$A$8:$AG$60,30,FALSE)","v":{"$error":"#N/A"}},{"$f":"VLOOKUP(H101,Results!A$8:$G$60,3,FALSE)","v":{"$error":"#N/A"}},{"$f":"VLOOKUP(H101,Results!$A$8:$G$60,2,FALSE)","v":{"$error":"#N/A"}},{"$f":"VLOOKUP(H101,Results!$A$8:$G$60,4,FALSE)","v":{"$error":"#N/A"}},{"$f":"VLOOKUP(H101,Results!$A$8:$G$60,7,FALSE)","v":{"$error":"#N/A"}}]
[null,{"$f":"Results!A105","v":0},{"$f":"Results!C105","v":0},{"$f":"Results!B105","v":0},{"$f":"Results!D105","v":0},{"$f":"Results!G105","v":""},"- vs -",{"$f":"VLOOKUP(B102,Results!$A$8:$AG$60,30,FALSE)","v":{"$error":"#N/A"}},{"$f":"VLOOKUP(H102,Results!A$8:$G$60,3,FALSE)","v":{"$error":"#N/A"}},{"$f":"VLOOKUP(H102,Results!$A$8:$G$60,2,FALSE)","v":{"$error":"#N/A"}},{"$f":"VLOOKUP(H102,Results!$A$8:$G$60,4,FALSE)","v":{"$error":"#N/A"}},{"$f":"VLOOKUP(H102,Results!$A$8:$G$60,7,FALSE)","v":{"$error":"#N/A"}}]
[null,{"$f":"Results!A106","v":0},{"$f":"Results!C106","v":0},{"$f":"Results!B106","v":0},{"$f":"Results!D106","v":0},{"$f":"Results!G106","v":""},"- vs -",{"$f":"VLOOKUP(B103,Results!$A$8:$AG$60,30,FALSE)","v":{"$error":"#N/A"}},{"$f":"VLOOKUP(H103,Results!A$8:$G$60,3,FALSE)","v":{"$error":"#N/A"}},{"$f":"VLOOKUP(H103,Results!$A$8:$G$60,2,FALSE)","v":{"$error":"#N/A"}},{"$f":"VLOOKUP(H103,Results!$A$8:$G$60,4,FALSE)","v":{"$error":"#N/A"}},{"$f":"VLOOKUP(H103,Results!$A$8:$G$60,7,FALSE)","v":{"$error":"#N/A"}}]
[null,{"$f":"Results!A107","v":0},{"$f":"Results!C107","v":0},{"$f":"Results!B107","v":0},{"$f":"Results!D107","v":0},{"$f":"Results!G107","v":""},"- vs -",{"$f":"VLOOKUP(B104,Results!$A$8:$AG$60,30,FALSE)","v":{"$error":"#N/A"}},{"$f":"VLOOKUP(H104,Results!A$8:$G$60,3,FALSE)","v":{"$error":"#N/A"}},{"$f":"VLOOKUP(H104,Results!$A$8:$G$60,2,FALSE)","v":{"$error":"#N/A"}},{"$f":"VLOOKUP(H104,Results!$A$8:$G$60,4,FALSE)","v":{"$error":"#N/A"}},{"$f":"VLOOKUP(H104,Results!$A$8:$G$60,7,FALSE)","v":{"$error":"#N/A"}}]
[]
[null,1318,"Rob","Taylor","Halifax","Achaemenid Persian","- vs -",711,"Harrison","Pearce","MKWS","Assyrian"]
[null,1509,"Frazer","Watson","Scotland","Maya","- vs -",712,"Tim","Porter","CLWC","Hittite"]
[null,1015,"Nik","Sharp","Warlords","Assyrian Empire and Sargonid","- vs -",1309,"Paul","Johnston","York","North American tribes"]
[null,713,"Darrell","Pearce","MKWS","New Kingdom Egyptian","- vs -",1161,"Graeme","Carroll","Durham","Classical Indian"]
[null,710,"Dave","Saunders","CLWC","Aztec","- vs -",1418,"Stephen","Nice","WAR","Classical Indian"]
[null,1447,"Antony","Robinson","Durham","Classical Indian","- vs -",1308,"Paul","Dawson","York","Assyrian"]
[null,1017,"David","Roberts","Cambridge","Syria, Canaan and Ugarit","- vs -",1222,"Bob","Middlemist","Durham","Assyrian Empire and Sargonid"]
[null,485,"Jesse","Schoor","WAR","Medes","- vs -",1444,"Kevin","Olier","France","Assyrian Empire and Sargonid"]
[null,1468,"Andy","Ellis","Leeds","Ancient Bedouin","- vs -",1220,"Marco","Baroni","York","Aztec"]
[null,1618,"Jens","Harbarth","Germany","Zhou and Spring and Autumn Chinese","- vs -",1538,"Jim","Gibson","Scotland","Warring States"]
[null,261,"Lionel","Morvan","France","Lydian","- vs -",1598,"Andy","Fyfe","Scotland","Classical Indian"]
[null,1721,"Lance","Flint","Farnboro","Inca","- vs -",1008,"Robin","Jackson",0,"Elamite"]
[null,1811,"Steve","Tresadern","Arsenal","Lydian","- vs -",714,"Andy","Gilbert","Pompey","Libyan Egyptian"]
[null,1602,"Uwe","Urbitch","Germany","Zhou and Spring and Autumn Chinese","- vs -",1797,"Dave","Putt","PAW","Achaemenid Persian"]
[null,795,"Mark","Fry","Bristol","Zhou and Spring and Autumn Chinese","- vs -",397,"Hubert","Bretagne","France","Aztec"]
[null,1489,"Kevin","Ellis","Leeds","Early Macedonian","- vs -",1583,"Philip","Powell","WAR","Tupi"]
[null,1810,"Steve","Hammond","Arsenal","New Kingdom Egyptian","- vs -",874,"Simon","Ellis","WAR","Later Achaemenid Persian"]
[null,1483,"Ian","Sewell","WAR","Early Carthaginian","- vs -",1536,"Pete","Sanger","Pompey","Assyrian Empire and Sargonid"]

{"sheet":"Round 5","index":13,"n_rows":123,"n_cols":13,"rows_kept":123,"cut":false,"hidden":false,"merged":[]}
[null,null,null,null,"Round 5 Draw"]
[null,null,{"$f":"Results!B3","v":"Kegworth Codgers 2024"}]
[null,null,{"$f":"Results!B4","v":"Roman Period"}]
[null,null,null,null,null,null,null,null,null,null,null,null,"VALID?"]
[null,{"$f":"Results!A8","v":486},{"$f":"Results!C8","v":"Alan"},{"$f":"Results!B8","v":"Cutner"},{"$f":"Results!D8","v":"Tradeston"},{"$f":"Results!G8","v":""},"- vs -",{"$f":"VLOOKUP(B5,Results!$A$8:$AK$104,37,FALSE)","v":0},{"$f":"VLOOKUP(H5,Results!A$8:$G$104,3,FALSE)","v":{"$error":"#N/A"}},{"$f":"VLOOKUP(H5,Results!$A$8:$G$104,2,FALSE)","v":{"$error":"#N/A"}},{"$f":"VLOOKUP(H5,Results!$A$8:$G$104,4,FALSE)","v":{"$error":"#N/A"}},{"$f":"VLOOKUP(H5,Results!$A$8:$G$104,7,FALSE)","v":{"$error":"#N/A"}},{"$f":"VLOOKUP(H5,$B$4:B5,1,FALSE)","v":{"$error":"#N/A"}}]
[null,{"$f":"Results!A9","v":1579},{"$f":"Results!C9","v":"Alistair"},{"$f":"Results!B9","v":"Wright"},{"$f":"Results!D9","v":"Millbrook"},{"$f":"Results!G9","v":""},"- vs -",{"$f":"VLOOKUP(B6,Results!$A$8:$AK$104,37,FALSE)","v":0},{"$f":"VLOOKUP(H6,Results!A$8:$G$104,3,FALSE)","v":{"$error":"#N/A"}},{"$f":"VLOOKUP(H6,Results!$A$8:$G$104,2,FALSE)","v":{"$error":"#N/A"}},{"$f":"VLOOKUP(H6,Results!$A$8:$G$104,4,FALSE)","v":{"$error":"#N/A"}},{"$f":"VLOOKUP(H6,Results!$A$8:$G$104,7,FALSE)","v":{"$error":"#N/A"}},{"$f":"VLOOKUP(H6,$B$4:B6,1,FALSE)","v":{"$error":"#N/A"}}]
[null,{"$f":"Results!A10","v":748},{"$f":"Results!C10","v":"Andrew"},{"$f":"Results!B10","v":"Whitby"},{"$f":"Results!D10","v":"Bristol"},{"$f":"Results!G10","v":""},"- vs -",{"$f":"VLOOKUP(B7,Results!$A$8:$AK$104,37,FALSE)","v":0},{"$f":"VLOOKUP(H7,Results!A$8:$G$104,3,FALSE)","v":{"$error":"#N/A"}},{"$f":"VLOOKUP(H7,Results!$A$8:$G$104,2,FALSE)","v":{"$error":"#N/A"}},{"$f":"VLOOKUP(H7,Results!$A$8:$G$104,4,FALSE)","v":{"$error":"#N/A"}},{"$f":"VLOOKUP(H7,Results!$A$8:$G$104,7,FALSE)","v":{"$error":"#N/A"}},{"$f":"VLOOKUP(H7,$B$4:B7,1,FALSE)","v":{"$error":"#N/A"}}]
[null,{"$f":"Results!A11","v":1598},{"$f":"Results!C11","v":"Andy"},{"$f":"Results!B11","v":"Fyfe"},{"$f":"Results!D11","v":"FDWG"},{"$f":"Results!G11","v":""},"- vs -",{"$f":"VLOOKUP(B8,Results!$A$8:$AK$104,37,FALSE)","v":0},{"$f":"VLOOKUP(H8,Results!A$8:$G$104,3,FALSE)","v":{"$error":"#N/A"}},{"$f":"VLOOKUP(H8,Results!$A$8:$G$104,2,FALSE)","v":{"$error":"#N/A"}},{"$f":"VLOOKUP(H8,Results!$A$8:$G$104,4,FALSE)","v":{"$error":"#N/A"}},{"$f":"VLOOKUP(H8,Results!$A$8:$G$104,7,FALSE)","v":{"$error":"#N/A"}},{"$f":"VLOOKUP(H8,$B$4:B8,1,FALSE)","v":{"$error":"#N/A"}}]
[null,{"$f":"Results!A12","v":714},{"$f":"Results!C12","v":"Andy"},{"$f":"Results!B12","v":"Gilbert"},{"$f":"Results!D12","v":"Pompey"},{"$f":"Results!G12","v":""},"- vs -",{"$f":"VLOOKUP(B9,Results!$A$8:$AK$104,37,FALSE)","v":0},{"$f":"VLOOKUP(H9,Results!A$8:$G$104,3,FALSE)","v":{"$error":"#N/A"}},{"$f":"VLOOKUP(H9,Results!$A$8:$G$104,2,FALSE)","v":{"$error":"#N/A"}},{"$f":"VLOOKUP(H9,Results!$A$8:$G$104,4,FALSE)","v":{"$error":"#N/A"}},{"$f":"VLOOKUP(H9,Results!$A$8:$G$104,7,FALSE)","v":{"$error":"#N/A"}},{"$f":"VLOOKUP(H9,$B$4:B9,1,FALSE)","v":{"$error":"#N/A"}}]
[null,{"$f":"Results!A13","v":1447},{"$f":"Results!C13","v":"Antony"},{"$f":"Results!B13","v":"Robinson"},{"$f":"Results!D13","v":"Durham"},{"$f":"Results!G13","v":""},"- vs -",{"$f":"VLOOKUP(B10,Results!$A$8:$AK$104,37,FALSE)","v":0},{"$f":"VLOOKUP(H10,Results!A$8:$G$104,3,FALSE)","v":{"$error":"#N/A"}},{"$f":"VLOOKUP(H10,Results!$A$8:$G$104,2,FALSE)","v":{"$error":"#N/A"}},{"$f":"VLOOKUP(H10,Results!$A$8:$G$104,4,FALSE)","v":{"$error":"#N/A"}},{"$f":"VLOOKUP(H10,Results!$A$8:$G$104,7,FALSE)","v":{"$error":"#N/A"}},{"$f":"VLOOKUP(H10,$B$4:B10,1,FALSE)","v":{"$error":"#N/A"}}]
[null,{"$f":"Results!A14","v":773},{"$f":"Results!C14","v":"Charles"},{"$f":"Results!B14","v":"Masefield"},{"$f":"Results!D14","v":"Oxford"},{"$f":"Results!G14","v":""},"- vs -",{"$f":"VLOOKUP(B11,Results!$A$8:$AK$104,37,FALSE)","v":0},{"$f":"VLOOKUP(H11,Results!A$8:$G$104,3,FALSE)","v":{"$error":"#N/A"}},{"$f":"VLOOKUP(H11,Results!$A$8:$G$104,2,FALSE)","v":{"$error":"#N/A"}},{"$f":"VLOOKUP(H11,Results!$A$8:$G$104,4,FALSE)","v":{"$error":"#N/A"}},{"$f":"VLOOKUP(H11,Results!$A$8:$G$104,7,FALSE)","v":{"$error":"#N/A"}},{"$f":"VLOOKUP(H11,$B$4:B11,1,FALSE)","v":{"$error":"#N/A"}}]
[null,{"$f":"Results!A15","v":1549},{"$f":"Results!C15","v":"Colin"},{"$f":"Results!B15","v":"Whittaker"},{"$f":"Results!D15","v":"Entoyment"},{"$f":"Results!G15","v":""},"- vs -",{"$f":"VLOOKUP(B12,Results!$A$8:$AK$104,37,FALSE)","v":0},{"$f":"VLOOKUP(H12,Results!A$8:$G$104,3,FALSE)","v":{"$error":"#N/A"}},{"$f":"VLOOKUP(H12,Results!$A$8:$G$104,2,FALSE)","v":{"$error":"#N/A"}},{"$f":"VLOOKUP(H12,Results!$A$8:$G$104,4,FALSE)","v":{"$error":"#N/A"}},{"$f":"VLOOKUP(H12,Results!$A$8:$G$104,7,FALSE)","v":{"$error":"#N/A"}},{"$f":"VLOOKUP(H12,$B$4:B12,1,FALSE)","v":{"$error":"#N/A"}}]
[null,{"$f":"Results!A16","v":1435},{"$f":"Results!C16","v":"Dave"},{"$f":"Results!B16","v":"Hutchby"},{"$f":"Results!D16","v":"Derby"},{"$f":"Results!G16","v":"Chinese Northern and Southern Dynasties"},"- vs -",{"$f":"VLOOKUP(B13,Results!$A$8:$AK$104,37,FALSE)","v":0},{"$f":"VLOOKUP(H13,Results!A$8:$G$104,3,FALSE)","v":{"$error":"#N/A"}},{"$f":"VLOOKUP(H13,Results!$A$8:$G$104,2,FALSE)","v":{"$error":"#N/A"}},{"$f":"VLOOKUP(H13,Results!$A$8:$G$104,4,FALSE)","v":{"$error":"#N/A"}},{"$f":"VLOOKUP(H13,Results!$A$8:$G$104,7,FALSE)","v":{"$error":"#N/A"}},{"$f":"VLOOKUP(H13,$B$4:B13,1,FALSE)","v":{"$error":"#N/A"}}]
[null,{"$f":"Results!A17","v":1017},{"$f":"Results!C17","v":"David"},{"$f":"Results!B17","v":"Roberts"},{"$f":"Results!D17","v":"Cambridge"},{"$f":"Results!G17","v":""},"- vs -",{"$f":"VLOOKUP(B14,Results!$A$8:$AK$104,37,FALSE)","v":0},{"$f":"VLOOKUP(H14,Results!A$8:$G$104,3,FALSE)","v":{"$error":"#N/A"}},{"$f":"VLOOKUP(H14,Results!$A$8:$G$104,2,FALSE)","v":{"$error":"#N/A"}},{"$f":"VLOOKUP(H14,Results!$A$8:$G$104,4,FALSE)","v":{"$error":"#N/A"}},{"$f":"VLOOKUP(H14,Results!$A$8:$G$104,7,FALSE)","v":{"$error":"#N/A"}},{"$f":"VLOOKUP(H14,$B$4:B14,1,FALSE)","v":{"$error":"#N/A"}}]
[null,{"$f":"Results!A18","v":1576},{"$f":"Results!C18","v":"David"},{"$f":"Results!B18","v":"Dryden"},{"$f":"Results!D18","v":"FDWC"},{"$f":"Results!G18","v":""},"- vs -",{"$f":"VLOOKUP(B15,Results!$A$8:$AK$104,37,FALSE)","v":0},{"$f":"VLOOKUP(H15,Results!A$8:$G$104,3,FALSE)","v":{"$error":"#N/A"}},{"$f":"VLOOKUP(H15,Results!$A$8:$G$104,2,FALSE)","v":{"$error":"#N/A"}},{"$f":"VLOOKUP(H15,Results!$A$8:$G$104,4,FALSE)","v":{"$error":"#N/A"}},{"$f":"VLOOKUP(H15,Results!$A$8:$G$104,7,FALSE)","v":{"$error":"#N/A"}},{"$f":"VLOOKUP(H15,$B$4:B15,1,FALSE)","v":{"$error":"#N/A"}}]
[null,{"$f":"Results!A19","v":1509},{"$f":"Results!C19","v":"Frazer"},{"$f":"Results!B19","v":"Watson"},{"$f":"Results!D19","v":"FDWG"},{"$f":"Results!G19","v":"Kingdom of Axum"},"- vs -",{"$f":"VLOOKUP(B16,Results!$A$8:$AK$104,37,FALSE)","v":0},{"$f":"VLOOKUP(H16,Results!A$8:$G$104,3,FALSE)","v":{"$error":"#N/A"}},{"$f":"VLOOKUP(H16,Results!$A$8:$G$104,2,FALSE)","v":{"$error":"#N/A"}},{"$f":"VLOOKUP(H16,Results!$A$8:$G$104,4,FALSE)","v":{"$error":"#N/A"}},{"$f":"VLOOKUP(H16,Results!$A$8:$G$104,7,FALSE)","v":{"$error":"#N/A"}},{"$f":"VLOOKUP(H16,$B$4:B16,1,FALSE)","v":{"$error":"#N/A"}}]
[null,{"$f":"Results!A20","v":715},{"$f":"Results!C20","v":"Gordon"},{"$f":"Results!B20","v":"Jamieson"},{"$f":"Results!D20","v":"CLWC"},{"$f":"Results!G20","v":""},"- vs -",{"$f":"VLOOKUP(B17,Results!$A$8:$AK$104,37,FALSE)","v":0},{"$f":"VLOOKUP(H17,Results!A$8:$G$104,3,FALSE)","v":{"$error":"#N/A"}},{"$f":"VLOOKUP(H17,Results!$A$8:$G$104,2,FALSE)","v":{"$error":"#N/A"}},{"$f":"VLOOKUP(H17,Results!$A$8:$G$104,4,FALSE)","v":{"$error":"#N/A"}},{"$f":"VLOOKUP(H17,Results!$A$8:$G$104,7,FALSE)","v":{"$error":"#N/A"}},{"$f":"VLOOKUP(H17,$B$4:B17,1,FALSE)","v":{"$error":"#N/A"}}]
[null,{"$f":"Results!A21","v":1131},{"$f":"Results!C21","v":"Gordon"},{"$f":"Results!B21","v":"Miller"},{"$f":"Results!D21","v":"FDWC"},{"$f":"Results!G21","v":""},"- vs -",{"$f":"VLOOKUP(B18,Results!$A$8:$AK$104,37,FALSE)","v":0},{"$f":"VLOOKUP(H18,Results!A$8:$G$104,3,FALSE)","v":{"$error":"#N/A"}},{"$f":"VLOOKUP(H18,Results!$A$8:$G$104,2,FALSE)","v":{"$error":"#N/A"}},{"$f":"VLOOKUP(H18,Results!$A$8:$G$104,4,FALSE)","v":{"$error":"#N/A"}},{"$f":"VLOOKUP(H18,Results!$A$8:$G$104,7,FALSE)","v":{"$error":"#N/A"}},{"$f":"VLOOKUP(H18,$B$4:B18,1,FALSE)","v":{"$error":"#N/A"}}]
[null,{"$f":"Results!A22","v":1483},{"$f":"Results!C22","v":"Ian"},{"$f":"Results!B22","v":"Sewell"},{"$f":"Results!D22","v":"WAR"},{"$f":"Results!G22","v":""},"- vs -",{"$f":"VLOOKUP(B19,Results!$A$8:$AK$104,37,FALSE)","v":0},{"$f":"VLOOKUP(H19,Results!A$8:$G$104,3,FALSE)","v":{"$error":"#N/A"}},{"$f":"VLOOKUP(H19,Results!$A$8:$G$104,2,FALSE)","v":{"$error":"#N/A"}},{"$f":"VLOOKUP(H19,Results!$A$8:$G$104,4,FALSE)","v":{"$error":"#N/A"}},{"$f":"VLOOKUP(H19,Results!$A$8:$G$104,7,FALSE)","v":{"$error":"#N/A"}},{"$f":"VLOOKUP(H19,$B$4:B19,1,FALSE)","v":{"$error":"#N/A"}}]
[null,{"$f":"Results!A23","v":1538},{"$f":"Results!C23","v":"James"},{"$f":"Results!B23","v":"Gibson"},{"$f":"Results!D23","v":"FDWG"},{"$f":"Results!G23","v":""},"- vs -",{"$f":"VLOOKUP(B20,Results!$A$8:$AK$104,37,FALSE)","v":0},{"$f":"VLOOKUP(H20,Results!A$8:$G$104,3,FALSE)","v":{"$error":"#N/A"}},{"$f":"VLOOKUP(H20,Results!$A$8:$G$104,2,FALSE)","v":{"$error":"#N/A"}},{"$f":"VLOOKUP(H20,Results!$A$8:$G$104,4,FALSE)","v":{"$error":"#N/A"}},{"$f":"VLOOKUP(H20,Results!$A$8:$G$104,7,FALSE)","v":{"$error":"#N/A"}},{"$f":"VLOOKUP(H20,$B$4:B20,1,FALSE)","v":{"$error":"#N/A"}}]
[null,{"$f":"Results!A24","v":485},{"$f":"Results!C24","v":"Jesse"},{"$f":"Results!B24","v":"Schoor"},{"$f":"Results!D24","v":"WAR"},{"$f":"Results!G24","v":""},"- vs -",{"$f":"VLOOKUP(B21,Results!$A$8:$AK$104,37,FALSE)","v":0},{"$f":"VLOOKUP(H21,Results!A$8:$G$104,3,FALSE)","v":{"$error":"#N/A"}},{"$f":"VLOOKUP(H21,Results!$A$8:$G$104,2,FALSE)","v":{"$error":"#N/A"}},{"$f":"VLOOKUP(H21,Results!$A$8:$G$104,4,FALSE)","v":{"$error":"#N/A"}},{"$f":"VLOOKUP(H21,Results!$A$8:$G$104,7,FALSE)","v":{"$error":"#N/A"}},{"$f":"VLOOKUP(H21,$B$4:B21,1,FALSE)","v":{"$error":"#N/A"}}]
[null,{"$f":"Results!A25","v":795},{"$f":"Results!C25","v":"Mark"},{"$f":"Results!B25","v":"Fry"},{"$f":"Results!D25","v":"Bristol"},{"$f":"Results!G25","v":""},"- vs -",{"$f":"VLOOKUP(B22,Results!$A$8:$AK$104,37,FALSE)","v":0},{"$f":"VLOOKUP(H22,Results!A$8:$G$104,3,FALSE)","v":{"$error":"#N/A"}},{"$f":"VLOOKUP(H22,Results!$A$8:$G$104,2,FALSE)","v":{"$error":"#N/A"}},{"$f":"VLOOKUP(H22,Results!$A$8:$G$104,4,FALSE)","v":{"$error":"#N/A"}},{"$f":"VLOOKUP(H22,Results!$A$8:$G$104,7,FALSE)","v":{"$error":"#N/A"}},{"$f":"VLOOKUP(H22,$B$4:B22,1,FALSE)","v":{"$error":"#N/A"}}]
[null,{"$f":"Results!A26","v":1807},{"$f":"Results!C26","v":"Mark"},{"$f":"Results!B26","v":"Gilby"},{"$f":"Results!D26","v":"CLWC"},{"$f":"Results!G26","v":""},"- vs -",{"$f":"VLOOKUP(B23,Results!$A$8:$AK$104,37,FALSE)","v":0},{"$f":"VLOOKUP(H23,Results!A$8:$G$104,3,FALSE)","v":{"$error":"#N/A"}},{"$f":"VLOOKUP(H23,Results!$A$8:$G$104,2,FALSE)","v":{"$error":"#N/A"}},{"$f":"VLOOKUP(H23,Results!$A$8:$G$104,4,FALSE)","v":{"$error":"#N/A"}},{"$f":"VLOOKUP(H23,Results!$A$8:$G$104,7,FALSE)","v":{"$error":"#N/A"}},{"$f":"VLOOKUP(H23,$B$4:B23,1,FALSE)","v":{"$error":"#N/A"}}]
[null,{"$f":"Results!A27","v":858},{"$f":"Results!C27","v":"Mike"},{"$f":"Results!B27","v":"Bennett"},{"$f":"Results!D27","v":"Carnforth"},{"$f":"Results!G27","v":""},"- vs -",{"$f":"VLOOKUP(B24,Results!$A$8:$AK$104,37,FALSE)","v":0},{"$f":"VLOOKUP(H24,Results!A$8:$G$104,3,FALSE)","v":{"$error":"#N/A"}},{"$f":"VLOOKUP(H24,Results!$A$8:$G$104,2,FALSE)","v":{"$error":"#N/A"}},{"$f":"VLOOKUP(H24,Results!$A$8:$G$104,4,FALSE)","v":{"$error":"#N/A"}},{"$f":"VLOOKUP(H24,Results!$A$8:$G$104,7,FALSE)","v":{"$error":"#N/A"}},{"$f":"VLOOKUP(H24,$B$4:B24,1,FALSE)","v":{"$error":"#N/A"}}]
[null,{"$f":"Results!A28","v":1015},{"$f":"Results!C28","v":"Nik"},{"$f":"Results!B28","v":"Sharp"},{"$f":"Results!D28","v":"Warlords"},{"$f":"Results!G28","v":""},"- vs -",{"$f":"VLOOKUP(B25,Results!$A$8:$AK$104,37,FALSE)","v":0},{"$f":"VLOOKUP(H25,Results!A$8:$G$104,3,FALSE)","v":{"$error":"#N/A"}},{"$f":"VLOOKUP(H25,Results!$A$8:$G$104,2,FALSE)","v":{"$error":"#N/A"}},{"$f":"VLOOKUP(H25,Results!$A$8:$G$104,4,FALSE)","v":{"$error":"#N/A"}},{"$f":"VLOOKUP(H25,Results!$A$8:$G$104,7,FALSE)","v":{"$error":"#N/A"}},{"$f":"VLOOKUP(H25,$B$4:B25,1,FALSE)","v":{"$error":"#N/A"}}]
[null,{"$f":"Results!A29","v":1308},{"$f":"Results!C29","v":"Paul"},{"$f":"Results!B29","v":"Dawson"},{"$f":"Results!D29","v":"York"},{"$f":"Results!G29","v":""},"- vs -",{"$f":"VLOOKUP(B26,Results!$A$8:$AK$104,37,FALSE)","v":0},{"$f":"VLOOKUP(H26,Results!A$8:$G$104,3,FALSE)","v":{"$error":"#N/A"}},{"$f":"VLOOKUP(H26,Results!$A$8:$G$104,2,FALSE)","v":{"$error":"#N/A"}},{"$f":"VLOOKUP(H26,Results!$A$8:$G$104,4,FALSE)","v":{"$error":"#N/A"}},{"$f":"VLOOKUP(H26,Results!$A$8:$G$104,7,FALSE)","v":{"$error":"#N/A"}},{"$f":"VLOOKUP(H26,$B$4:B26,1,FALSE)","v":{"$error":"#N/A"}}]
[null,{"$f":"Results!A30","v":1309},{"$f":"Results!C30","v":"Paul"},{"$f":"Results!B30","v":"Johnston"},{"$f":"Results!D30","v":"York"},{"$f":"Results!G30","v":""},"- vs -",{"$f":"VLOOKUP(B27,Results!$A$8:$AK$104,37,FALSE)","v":0},{"$f":"VLOOKUP(H27,Results!A$8:$G$104,3,FALSE)","v":{"$error":"#N/A"}},{"$f":"VLOOKUP(H27,Results!$A$8:$G$104,2,FALSE)","v":{"$error":"#N/A"}},{"$f":"VLOOKUP(H27,Results!$A$8:$G$104,4,FALSE)","v":{"$error":"#N/A"}},{"$f":"VLOOKUP(H27,Results!$A$8:$G$104,7,FALSE)","v":{"$error":"#N/A"}},{"$f":"VLOOKUP(H27,$B$4:B27,1,FALSE)","v":{"$error":"#N/A"}}]
[null,{"$f":"Results!A31","v":1239},{"$f":"Results!C31","v":"Paul"},{"$f":"Results!B31","v":"Frith"},{"$f":"Results!D31","v":"Dorset Nomads"},{"$f":"Results!G31","v":""},"- vs -",{"$f":"VLOOKUP(B28,Results!$A$8:$AK$104,37,FALSE)","v":0},{"$f":"VLOOKUP(H28,Results!A$8:$G$104,3,FALSE)","v":{"$error":"#N/A"}},{"$f":"VLOOKUP(H28,Results!$A$8:$G$104,2,FALSE)","v":{"$error":"#N/A"}},{"$f":"VLOOKUP(H28,Results!$A$8:$G$104,4,FALSE)","v":{"$error":"#N/A"}},{"$f":"VLOOKUP(H28,Results!$A$8:$G$104,7,FALSE)","v":{"$error":"#N/A"}},{"$f":"VLOOKUP(H28,$B$4:B28,1,FALSE)","v":{"$error":"#N/A"}}]
[null,{"$f":"Results!A32","v":1536},{"$f":"Results!C32","v":"Pete"},{"$f":"Results!B32","v":"Sanger"},{"$f":"Results!D32","v":"Pompey"},{"$f":"Results!G32","v":""},"- vs -",{"$f":"VLOOKUP(B29,Results!$A$8:$AK$104,37,FALSE)","v":0},{"$f":"VLOOKUP(H29,Results!A$8:$G$104,3,FALSE)","v":{"$error":"#N/A"}},{"$f":"VLOOKUP(H29,Results!$A$8:$G$104,2,FALSE)","v":{"$error":"#N/A"}},{"$f":"VLOOKUP(H29,Results!$A$8:$G$104,4,FALSE)","v":{"$error":"#N/A"}},{"$f":"VLOOKUP(H29,Results!$A$8:$G$104,7,FALSE)","v":{"$error":"#N/A"}},{"$f":"VLOOKUP(H29,$B$4:B29,1,FALSE)","v":{"$error":"#N/A"}}]
[null,{"$f":"Results!A33","v":772},{"$f":"Results!C33","v":"Richard"},{"$f":"Results!B33","v":"Young"},{"$f":"Results!D33","v":"SOA"},{"$f":"Results!G33","v":""},"- vs -",{"$f":"VLOOKUP(B30,Results!$A$8:$AK$104,37,FALSE)","v":0},{"$f":"VLOOKUP(H30,Results!A$8:$G$104,3,FALSE)","v":{"$error":"#N/A"}},{"$f":"VLOOKUP(H30,Results!$A$8:$G$104,2,FALSE)","v":{"$error":"#N/A"}},{"$f":"VLOOKUP(H30,Results!$A$8:$G$104,4,FALSE)","v":{"$error":"#N/A"}},{"$f":"VLOOKUP(H30,Results!$A$8:$G$104,7,FALSE)","v":{"$error":"#N/A"}},{"$f":"VLOOKUP(H30,$B$4:B30,1,FALSE)","v":{"$error":"#N/A"}}]
[null,{"$f":"Results!A34","v":1318},{"$f":"Results!C34","v":"Rob"},{"$f":"Results!B34","v":"Taylor"},{"$f":"Results!D34","v":"Westow"},{"$f":"Results!G34","v":""},"- vs -",{"$f":"VLOOKUP(B31,Results!$A$8:$AK$104,37,FALSE)","v":0},{"$f":"VLOOKUP(H31,Results!A$8:$G$104,3,FALSE)","v":{"$error":"#N/A"}},{"$f":"VLOOKUP(H31,Results!$A$8:$G$104,2,FALSE)","v":{"$error":"#N/A"}},{"$f":"VLOOKUP(H31,Results!$A$8:$G$104,4,FALSE)","v":{"$error":"#N/A"}},{"$f":"VLOOKUP(H31,Results!$A$8:$G$104,7,FALSE)","v":{"$error":"#N/A"}},{"$f":"VLOOKUP(H31,$B$4:B31,1,FALSE)","v":{"$error":"#N/A"}}]
[null,{"$f":"Results!A35","v":1222},{"$f":"Results!C35","v":"Robert"},{"$f":"Results!B35","v":"Middlemist"},{"$f":"Results!D35","v":"Durham"},{"$f":"Results!G35","v":""},"- vs -",{"$f":"VLOOKUP(B32,Results!$A$8:$AK$104,37,FALSE)","v":0},{"$f":"VLOOKUP(H32,Results!A$8:$G$104,3,FALSE)","v":{"$error":"#N/A"}},{"$f":"VLOOKUP(H32,Results!$A$8:$G$104,2,FALSE)","v":{"$error":"#N/A"}},{"$f":"VLOOKUP(H32,Results!$A$8:$G$104,4,FALSE)","v":{"$error":"#N/A"}},{"$f":"VLOOKUP(H32,Results!$A$8:$G$104,7,FALSE)","v":{"$error":"#N/A"}},{"$f":"VLOOKUP(H32,$B$4:B32,1,FALSE)","v":{"$error":"#N/A"}}]
[null,{"$f":"Results!A36","v":1008},{"$f":"Results!C36","v":"Robin"},{"$f":"Results!B36","v":"Jackson"},{"$f":"Results!D36","v":"God Knows"},{"$f":"Results!G36","v":""},"- vs -",{"$f":"VLOOKUP(B33,Results!$A$8:$AK$104,37,FALSE)","v":0},{"$f":"VLOOKUP(H33,Results!A$8:$G$104,3,FALSE)","v":{"$error":"#N/A"}},{"$f":"VLOOKUP(H33,Results!$A$8:$G$104,2,FALSE)","v":{"$error":"#N/A"}},{"$f":"VLOOKUP(H33,Results!$A$8:$G$104,4,FALSE)","v":{"$error":"#N/A"}},{"$f":"VLOOKUP(H33,Results!$A$8:$G$104,7,FALSE)","v":{"$error":"#N/A"}},{"$f":"VLOOKUP(H33,$B$4:B33,1,FALSE)","v":{"$error":"#N/A"}}]
[null,{"$f":"Results!A37","v":1418},{"$f":"Results!C37","v":"Stephen"},{"$f":"Results!B37","v":"Nice"},{"$f":"Results!D37","v":"WAR"},{"$f":"Results!G37","v":""},"- vs -",{"$f":"VLOOKUP(B34,Results!$A$8:$AK$104,37,FALSE)","v":0},{"$f":"VLOOKUP(H34,Results!A$8:$G$104,3,FALSE)","v":{"$error":"#N/A"}},{"$f":"VLOOKUP(H34,Results!$A$8:$G$104,2,FALSE)","v":{"$error":"#N/A"}},{"$f":"VLOOKUP(H34,Results!$A$8:$G$104,4,FALSE)","v":{"$error":"#N/A"}},{"$f":"VLOOKUP(H34,Results!$A$8:$G$104,7,FALSE)","v":{"$error":"#N/A"}},{"$f":"VLOOKUP(H34,$B$4:B34,1,FALSE)","v":{"$error":"#N/A"}}]
[null,{"$f":"Results!A38","v":712},{"$f":"Results!C38","v":"Tim"},{"$f":"Results!B38","v":"Porter"},{"$f":"Results!D38","v":"CLWC"},{"$f":"Results!G38","v":"Parthian"},"- vs -",{"$f":"VLOOKUP(B35,Results!$A$8:$AK$104,37,FALSE)","v":0},{"$f":"VLOOKUP(H35,Results!A$8:$G$104,3,FALSE)","v":{"$error":"#N/A"}},{"$f":"VLOOKUP(H35,Results!$A$8:$G$104,2,FALSE)","v":{"$error":"#N/A"}},{"$f":"VLOOKUP(H35,Results!$A$8:$G$104,4,FALSE)","v":{"$error":"#N/A"}},{"$f":"VLOOKUP(H35,Results!$A$8:$G$104,7,FALSE)","v":{"$error":"#N/A"}},{"$f":"VLOOKUP(H35,$B$4:B35,1,FALSE)","v":{"$error":"#N/A"}}]
[null,{"$f":"Results!A39","v":0},{"$f":"Results!C39","v":0},{"$f":"Results!B39","v":0},{"$f":"Results!D39","v":0},{"$f":"Results!G39","v":""},"- vs -",{"$f":"VLOOKUP(B36,Results!$A$8:$AK$104,37,FALSE)","v":{"$error":"#N/A"}},{"$f":"VLOOKUP(H36,Results!A$8:$G$104,3,FALSE)","v":{"$error":"#N/A"}},{"$f":"VLOOKUP(H36,Results!$A$8:$G$104,2,FALSE)","v":{"$error":"#N/A"}},{"$f":"VLOOKUP(H36,Results!$A$8:$G$104,4,FALSE)","v":{"$error":"#N/A"}},{"$f":"VLOOKUP(H36,Results!$A$8:$G$104,7,FALSE)","v":{"$error":"#N/A"}},{"$f":"VLOOKUP(H36,$B$4:B36,1,FALSE)","v":{"$error":"#N/A"}}]
[null,{"$f":"Results!A40","v":0},{"$f":"Results!C40","v":0},{"$f":"Results!B40","v":0},{"$f":"Results!D40","v":0},{"$f":"Results!G40","v":""},"- vs -",{"$f":"VLOOKUP(B37,Results!$A$8:$AK$104,37,FALSE)","v":{"$error":"#N/A"}},{"$f":"VLOOKUP(H37,Results!A$8:$G$104,3,FALSE)","v":{"$error":"#N/A"}},{"$f":"VLOOKUP(H37,Results!$A$8:$G$104,2,FALSE)","v":{"$error":"#N/A"}},{"$f":"VLOOKUP(H37,Results!$A$8:$G$104,4,FALSE)","v":{"$error":"#N/A"}},{"$f":"VLOOKUP(H37,Results!$A$8:$G$104,7,FALSE)","v":{"$error":"#N/A"}},{"$f":"VLOOKUP(H37,$B$4:B37,1,FALSE)","v":{"$error":"#N/A"}}]
[null,{"$f":"Results!A41","v":0},{"$f":"Results!C41","v":0},{"$f":"Results!B41","v":0},{"$f":"Results!D41","v":0},{"$f":"Results!G41","v":""},"- vs -",{"$f":"VLOOKUP(B38,Results!$A$8:$AK$104,37,FALSE)","v":{"$error":"#N/A"}},{"$f":"VLOOKUP(H38,Results!A$8:$G$104,3,FALSE)","v":{"$error":"#N/A"}},{"$f":"VLOOKUP(H38,Results!$A$8:$G$104,2,FALSE)","v":{"$error":"#N/A"}},{"$f":"VLOOKUP(H38,Results!$A$8:$G$104,4,FALSE)","v":{"$error":"#N/A"}},{"$f":"VLOOKUP(H38,Results!$A$8:$G$104,7,FALSE)","v":{"$error":"#N/A"}},{"$f":"VLOOKUP(H38,$B$4:B38,1,FALSE)","v":{"$error":"#N/A"}}]
[null,{"$f":"Results!A42","v":0},{"$f":"Results!C42","v":0},{"$f":"Results!B42","v":0},{"$f":"Results!D42","v":0},{"$f":"Results!G42","v":""},"- vs -",{"$f":"VLOOKUP(B39,Results!$A$8:$AK$104,37,FALSE)","v":{"$error":"#N/A"}},{"$f":"VLOOKUP(H39,Results!A$8:$G$104,3,FALSE)","v":{"$error":"#N/A"}},{"$f":"VLOOKUP(H39,Results!$A$8:$G$104,2,FALSE)","v":{"$error":"#N/A"}},{"$f":"VLOOKUP(H39,Results!$A$8:$G$104,4,FALSE)","v":{"$error":"#N/A"}},{"$f":"VLOOKUP(H39,Results!$A$8:$G$104,7,FALSE)","v":{"$error":"#N/A"}},{"$f":"VLOOKUP(H39,$B$4:B39,1,FALSE)","v":{"$error":"#N/A"}}]
[null,{"$f":"Results!A43","v":0},{"$f":"Results!C43","v":0},{"$f":"Results!B43","v":0},{"$f":"Results!D43","v":0},{"$f":"Results!G43","v":""},"- vs -",{"$f":"VLOOKUP(B40,Results!$A$8:$AK$104,37,FALSE)","v":{"$error":"#N/A"}},{"$f":"VLOOKUP(H40,Results!A$8:$G$104,3,FALSE)","v":{"$error":"#N/A"}},{"$f":"VLOOKUP(H40,Results!$A$8:$G$104,2,FALSE)","v":{"$error":"#N/A"}},{"$f":"VLOOKUP(H40,Results!$A$8:$G$104,4,FALSE)","v":{"$error":"#N/A"}},{"$f":"VLOOKUP(H40,Results!$A$8:$G$104,7,FALSE)","v":{"$error":"#N/A"}},{"$f":"VLOOKUP(H40,$B$4:B40,1,FALSE)","v":{"$error":"#N/A"}}]
[null,{"$f":"Results!A44","v":0},{"$f":"Results!C44","v":0},{"$f":"Results!B44","v":0},{"$f":"Results!D44","v":0},{"$f":"Results!G44","v":""},"- vs -",{"$f":"VLOOKUP(B41,Results!$A$8:$AK$104,37,FALSE)","v":{"$error":"#N/A"}},{"$f":"VLOOKUP(H41,Results!A$8:$G$104,3,FALSE)","v":{"$error":"#N/A"}},{"$f":"VLOOKUP(H41,Results!$A$8:$G$104,2,FALSE)","v":{"$error":"#N/A"}},{"$f":"VLOOKUP(H41,Results!$A$8:$G$104,4,FALSE)","v":{"$error":"#N/A"}},{"$f":"VLOOKUP(H41,Results!$A$8:$G$104,7,FALSE)","v":{"$error":"#N/A"}},{"$f":"VLOOKUP(H41,$B$4:B41,1,FALSE)","v":{"$error":"#N/A"}}]
[null,{"$f":"Results!A45","v":0},{"$f":"Results!C45","v":0},{"$f":"Results!B45","v":0},{"$f":"Results!D45","v":0},{"$f":"Results!G45","v":""},"- vs -",{"$f":"VLOOKUP(B42,Results!$A$8:$AK$104,37,FALSE)","v":{"$error":"#N/A"}},{"$f":"VLOOKUP(H42,Results!A$8:$G$104,3,FALSE)","v":{"$error":"#N/A"}},{"$f":"VLOOKUP(H42,Results!$A$8:$G$104,2,FALSE)","v":{"$error":"#N/A"}},{"$f":"VLOOKUP(H42,Results!$A$8:$G$104,4,FALSE)","v":{"$error":"#N/A"}},{"$f":"VLOOKUP(H42,Results!$A$8:$G$104,7,FALSE)","v":{"$error":"#N/A"}},{"$f":"VLOOKUP(H42,$B$4:B42,1,FALSE)","v":{"$error":"#N/A"}}]
[null,{"$f":"Results!A46","v":0},{"$f":"Results!C46","v":0},{"$f":"Results!B46","v":0},{"$f":"Results!D46","v":0},{"$f":"Results!G46","v":""},"- vs -",{"$f":"VLOOKUP(B43,Results!$A$8:$AK$104,37,FALSE)","v":{"$error":"#N/A"}},{"$f":"VLOOKUP(H43,Results!A$8:$G$104,3,FALSE)","v":{"$error":"#N/A"}},{"$f":"VLOOKUP(H43,Results!$A$8:$G$104,2,FALSE)","v":{"$error":"#N/A"}},{"$f":"VLOOKUP(H43,Results!$A$8:$G$104,4,FALSE)","v":{"$error":"#N/A"}},{"$f":"VLOOKUP(H43,Results!$A$8:$G$104,7,FALSE)","v":{"$error":"#N/A"}},{"$f":"VLOOKUP(H43,$B$4:B43,1,FALSE)","v":{"$error":"#N/A"}}]
[null,{"$f":"Results!A47","v":0},{"$f":"Results!C47","v":0},{"$f":"Results!B47","v":0},{"$f":"Results!D47","v":0},{"$f":"Results!G47","v":""},"- vs -",{"$f":"VLOOKUP(B44,Results!$A$8:$AK$104,37,FALSE)","v":{"$error":"#N/A"}},{"$f":"VLOOKUP(H44,Results!A$8:$G$104,3,FALSE)","v":{"$error":"#N/A"}},{"$f":"VLOOKUP(H44,Results!$A$8:$G$104,2,FALSE)","v":{"$error":"#N/A"}},{"$f":"VLOOKUP(H44,Results!$A$8:$G$104,4,FALSE)","v":{"$error":"#N/A"}},{"$f":"VLOOKUP(H44,Results!$A$8:$G$104,7,FALSE)","v":{"$error":"#N/A"}},{"$f":"VLOOKUP(H44,$B$4:B44,1,FALSE)","v":{"$error":"#N/A"}}]
[null,{"$f":"Results!A48","v":0},{"$f":"Results!C48","v":0},{"$f":"Results!B48","v":0},{"$f":"Results!D48","v":0},{"$f":"Results!G48","v":""},"- vs -",{"$f":"VLOOKUP(B45,Results!$A$8:$AK$104,37,FALSE)","v":{"$error":"#N/A"}},{"$f":"VLOOKUP(H45,Results!A$8:$G$104,3,FALSE)","v":{"$error":"#N/A"}},{"$f":"VLOOKUP(H45,Results!$A$8:$G$104,2,FALSE)","v":{"$error":"#N/A"}},{"$f":"VLOOKUP(H45,Results!$A$8:$G$104,4,FALSE)","v":{"$error":"#N/A"}},{"$f":"VLOOKUP(H45,Results!$A$8:$G$104,7,FALSE)","v":{"$error":"#N/A"}},{"$f":"VLOOKUP(H45,$B$4:B45,1,FALSE)","v":{"$error":"#N/A"}}]
[null,{"$f":"Results!A49","v":0},{"$f":"Results!C49","v":0},{"$f":"Results!B49","v":0},{"$f":"Results!D49","v":0},{"$f":"Results!G49","v":""},"- vs -",{"$f":"VLOOKUP(B46,Results!$A$8:$AK$104,37,FALSE)","v":{"$error":"#N/A"}},{"$f":"VLOOKUP(H46,Results!A$8:$G$104,3,FALSE)","v":{"$error":"#N/A"}},{"$f":"VLOOKUP(H46,Results!$A$8:$G$104,2,FALSE)","v":{"$error":"#N/A"}},{"$f":"VLOOKUP(H46,Results!$A$8:$G$104,4,FALSE)","v":{"$error":"#N/A"}},{"$f":"VLOOKUP(H46,Results!$A$8:$G$104,7,FALSE)","v":{"$error":"#N/A"}},{"$f":"VLOOKUP(H46,$B$4:B46,1,FALSE)","v":{"$error":"#N/A"}}]
[null,{"$f":"Results!A50","v":0},{"$f":"Results!C50","v":0},{"$f":"Results!B50","v":0},{"$f":"Results!D50","v":0},{"$f":"Results!G50","v":""},"- vs -",{"$f":"VLOOKUP(B47,Results!$A$8:$AK$104,37,FALSE)","v":{"$error":"#N/A"}},{"$f":"VLOOKUP(H47,Results!A$8:$G$104,3,FALSE)","v":{"$error":"#N/A"}},{"$f":"VLOOKUP(H47,Results!$A$8:$G$104,2,FALSE)","v":{"$error":"#N/A"}},{"$f":"VLOOKUP(H47,Results!$A$8:$G$104,4,FALSE)","v":{"$error":"#N/A"}},{"$f":"VLOOKUP(H47,Results!$A$8:$G$104,7,FALSE)","v":{"$error":"#N/A"}},{"$f":"VLOOKUP(H47,$B$4:B47,1,FALSE)","v":{"$error":"#N/A"}}]
[null,{"$f":"Results!A51","v":0},{"$f":"Results!C51","v":0},{"$f":"Results!B51","v":0},{"$f":"Results!D51","v":0},{"$f":"Results!G51","v":""},"- vs -",{"$f":"VLOOKUP(B48,Results!$A$8:$AK$104,37,FALSE)","v":{"$error":"#N/A"}},{"$f":"VLOOKUP(H48,Results!A$8:$G$104,3,FALSE)","v":{"$error":"#N/A"}},{"$f":"VLOOKUP(H48,Results!$A$8:$G$104,2,FALSE)","v":{"$error":"#N/A"}},{"$f":"VLOOKUP(H48,Results!$A$8:$G$104,4,FALSE)","v":{"$error":"#N/A"}},{"$f":"VLOOKUP(H48,Results!$A$8:$G$104,7,FALSE)","v":{"$error":"#N/A"}},{"$f":"VLOOKUP(H48,$B$4:B48,1,FALSE)","v":{"$error":"#N/A"}}]
[null,{"$f":"Results!A52","v":0},{"$f":"Results!C52","v":0},{"$f":"Results!B52","v":0},{"$f":"Results!D52","v":0},{"$f":"Results!G52","v":""},"- vs -",{"$f":"VLOOKUP(B49,Results!$A$8:$AK$104,37,FALSE)","v":{"$error":"#N/A"}},{"$f":"VLOOKUP(H49,Results!A$8:$G$104,3,FALSE)","v":{"$error":"#N/A"}},{"$f":"VLOOKUP(H49,Results!$A$8:$G$104,2,FALSE)","v":{"$error":"#N/A"}},{"$f":"VLOOKUP(H49,Results!$A$8:$G$104,4,FALSE)","v":{"$error":"#N/A"}},{"$f":"VLOOKUP(H49,Results!$A$8:$G$104,7,FALSE)","v":{"$error":"#N/A"}},{"$f":"VLOOKUP(H49,$B$4:B49,1,FALSE)","v":{"$error":"#N/A"}}]
[null,{"$f":"Results!A53","v":0},{"$f":"Results!C53","v":0},{"$f":"Results!B53","v":0},{"$f":"Results!D53","v":0},{"$f":"Results!G53","v":""},"- vs -",{"$f":"VLOOKUP(B50,Results!$A$8:$AK$104,37,FALSE)","v":{"$error":"#N/A"}},{"$f":"VLOOKUP(H50,Results!A$8:$G$104,3,FALSE)","v":{"$error":"#N/A"}},{"$f":"VLOOKUP(H50,Results!$A$8:$G$104,2,FALSE)","v":{"$error":"#N/A"}},{"$f":"VLOOKUP(H50,Results!$A$8:$G$104,4,FALSE)","v":{"$error":"#N/A"}},{"$f":"VLOOKUP(H50,Results!$A$8:$G$104,7,FALSE)","v":{"$error":"#N/A"}},{"$f":"VLOOKUP(H50,$B$4:B50,1,FALSE)","v":{"$error":"#N/A"}}]
[null,{"$f":"Results!A54","v":0},{"$f":"Results!C54","v":0},{"$f":"Results!B54","v":0},{"$f":"Results!D54","v":0},{"$f":"Results!G54","v":""},"- vs -",{"$f":"VLOOKUP(B51,Results!$A$8:$AK$104,37,FALSE)","v":{"$error":"#N/A"}},{"$f":"VLOOKUP(H51,Results!A$8:$G$104,3,FALSE)","v":{"$error":"#N/A"}},{"$f":"VLOOKUP(H51,Results!$A$8:$G$104,2,FALSE)","v":{"$error":"#N/A"}},{"$f":"VLOOKUP(H51,Results!$A$8:$G$104,4,FALSE)","v":{"$error":"#N/A"}},{"$f":"VLOOKUP(H51,Results!$A$8:$G$104,7,FALSE)","v":{"$error":"#N/A"}},{"$f":"VLOOKUP(H51,$B$4:B51,1,FALSE)","v":{"$error":"#N/A"}}]
[null,{"$f":"Results!A55","v":0},{"$f":"Results!C55","v":0},{"$f":"Results!B55","v":0},{"$f":"Results!D55","v":0},{"$f":"Results!G55","v":""},"- vs -",{"$f":"VLOOKUP(B52,Results!$A$8:$AK$104,37,FALSE)","v":{"$error":"#N/A"}},{"$f":"VLOOKUP(H52,Results!A$8:$G$104,3,FALSE)","v":{"$error":"#N/A"}},{"$f":"VLOOKUP(H52,Results!$A$8:$G$104,2,FALSE)","v":{"$error":"#N/A"}},{"$f":"VLOOKUP(H52,Results!$A$8:$G$104,4,FALSE)","v":{"$error":"#N/A"}},{"$f":"VLOOKUP(H52,Results!$A$8:$G$104,7,FALSE)","v":{"$error":"#N/A"}},{"$f":"VLOOKUP(H52,$B$4:B52,1,FALSE)","v":{"$error":"#N/A"}}]
[null,{"$f":"Results!A56","v":0},{"$f":"Results!C56","v":0},{"$f":"Results!B56","v":0},{"$f":"Results!D56","v":0},{"$f":"Results!G56","v":""},"- vs -",{"$f":"VLOOKUP(B53,Results!$A$8:$AK$104,37,FALSE)","v":{"$error":"#N/A"}},{"$f":"VLOOKUP(H53,Results!A$8:$G$104,3,FALSE)","v":{"$error":"#N/A"}},{"$f":"VLOOKUP(H53,Results!$A$8:$G$104,2,FALSE)","v":{"$error":"#N/A"}},{"$f":"VLOOKUP(H53,Results!$A$8:$G$104,4,FALSE)","v":{"$error":"#N/A"}},{"$f":"VLOOKUP(H53,Results!$A$8:$G$104,7,FALSE)","v":{"$error":"#N/A"}},{"$f":"VLOOKUP(H53,$B$4:B53,1,FALSE)","v":{"$error":"#N/A"}}]
[null,{"$f":"Results!A57","v":0},{"$f":"Results!C57","v":0},{"$f":"Results!B57","v":0},{"$f":"Results!D57","v":0},{"$f":"Results!G57","v":""},"- vs -",{"$f":"VLOOKUP(B54,Results!$A$8:$AK$104,37,FALSE)","v":{"$error":"#N/A"}},{"$f":"VLOOKUP(H54,Results!A$8:$G$104,3,FALSE)","v":{"$error":"#N/A"}},{"$f":"VLOOKUP(H54,Results!$A$8:$G$104,2,FALSE)","v":{"$error":"#N/A"}},{"$f":"VLOOKUP(H54,Results!$A$8:$G$104,4,FALSE)","v":{"$error":"#N/A"}},{"$f":"VLOOKUP(H54,Results!$A$8:$G$104,7,FALSE)","v":{"$error":"#N/A"}},{"$f":"VLOOKUP(H54,$B$4:B54,1,FALSE)","v":{"$error":"#N/A"}}]
[null,{"$f":"Results!A58","v":0},{"$f":"Results!C58","v":0},{"$f":"Results!B58","v":0},{"$f":"Results!D58","v":0},{"$f":"Results!G58","v":""},"- vs -",{"$f":"VLOOKUP(B55,Results!$A$8:$AK$104,37,FALSE)","v":{"$error":"#N/A"}},{"$f":"VLOOKUP(H55,Results!A$8:$G$104,3,FALSE)","v":{"$error":"#N/A"}},{"$f":"VLOOKUP(H55,Results!$A$8:$G$104,2,FALSE)","v":{"$error":"#N/A"}},{"$f":"VLOOKUP(H55,Results!$A$8:$G$104,4,FALSE)","v":{"$error":"#N/A"}},{"$f":"VLOOKUP(H55,Results!$A$8:$G$104,7,FALSE)","v":{"$error":"#N/A"}},{"$f":"VLOOKUP(H55,$B$4:B55,1,FALSE)","v":{"$error":"#N/A"}}]
[null,{"$f":"Results!A59","v":0},{"$f":"Results!C59","v":0},{"$f":"Results!B59","v":0},{"$f":"Results!D59","v":0},{"$f":"Results!G59","v":""},"- vs -",{"$f":"VLOOKUP(B56,Results!$A$8:$AK$104,37,FALSE)","v":{"$error":"#N/A"}},{"$f":"VLOOKUP(H56,Results!A$8:$G$104,3,FALSE)","v":{"$error":"#N/A"}},{"$f":"VLOOKUP(H56,Results!$A$8:$G$104,2,FALSE)","v":{"$error":"#N/A"}},{"$f":"VLOOKUP(H56,Results!$A$8:$G$104,4,FALSE)","v":{"$error":"#N/A"}},{"$f":"VLOOKUP(H56,Results!$A$8:$G$104,7,FALSE)","v":{"$error":"#N/A"}},{"$f":"VLOOKUP(H56,$B$4:B56,1,FALSE)","v":{"$error":"#N/A"}}]
[null,{"$f":"Results!A60","v":0},{"$f":"Results!C60","v":0},{"$f":"Results!B60","v":0},{"$f":"Results!D60","v":0},{"$f":"Results!G60","v":""},"- vs -",{"$f":"VLOOKUP(B57,Results!$A$8:$AK$104,37,FALSE)","v":{"$error":"#N/A"}},{"$f":"VLOOKUP(H57,Results!A$8:$G$104,3,FALSE)","v":{"$error":"#N/A"}},{"$f":"VLOOKUP(H57,Results!$A$8:$G$104,2,FALSE)","v":{"$error":"#N/A"}},{"$f":"VLOOKUP(H57,Results!$A$8:$G$104,4,FALSE)","v":{"$error":"#N/A"}},{"$f":"VLOOKUP(H57,Results!$A$8:$G$104,7,FALSE)","v":{"$error":"#N/A"}},{"$f":"VLOOKUP(H57,$B$4:B57,1,FALSE)","v":{"$error":"#N/A"}}]
[null,{"$f":"Results!A61","v":0},{"$f":"Results!C61","v":0},{"$f":"Results!B61","v":0},{"$f":"Results!D61","v":0},{"$f":"Results!G61","v":""},"- vs -",{"$f":"VLOOKUP(B58,Results!$A$8:$AK$104,37,FALSE)","v":{"$error":"#N/A"}},{"$f":"VLOOKUP(H58,Results!A$8:$G$104,3,FALSE)","v":{"$error":"#N/A"}},{"$f":"VLOOKUP(H58,Results!$A$8:$G$104,2,FALSE)","v":{"$error":"#N/A"}},{"$f":"VLOOKUP(H58,Results!$A$8:$G$104,4,FALSE)","v":{"$error":"#N/A"}},{"$f":"VLOOKUP(H58,Results!$A$8:$G$104,7,FALSE)","v":{"$error":"#N/A"}},{"$f":"VLOOKUP(H58,$B$4:B58,1,FALSE)","v":{"$error":"#N/A"}}]
[null,{"$f":"Results!A62","v":0},{"$f":"Results!C62","v":0},{"$f":"Results!B62","v":0},{"$f":"Results!D62","v":0},{"$f":"Results!G62","v":""},"- vs -",{"$f":"VLOOKUP(B59,Results!$A$8:$AK$104,37,FALSE)","v":{"$error":"#N/A"}},{"$f":"VLOOKUP(H59,Results!A$8:$G$104,3,FALSE)","v":{"$error":"#N/A"}},{"$f":"VLOOKUP(H59,Results!$A$8:$G$104,2,FALSE)","v":{"$error":"#N/A"}},{"$f":"VLOOKUP(H59,Results!$A$8:$G$104,4,FALSE)","v":{"$error":"#N/A"}},{"$f":"VLOOKUP(H59,Results!$A$8:$G$104,7,FALSE)","v":{"$error":"#N/A"}},{"$f":"VLOOKUP(H59,$B$4:B59,1,FALSE)","v":{"$error":"#N/A"}}]
[null,{"$f":"Results!A63","v":0},{"$f":"Results!C63","v":0},{"$f":"Results!B63","v":0},{"$f":"Results!D63","v":0},{"$f":"Results!G63","v":""},"- vs -",{"$f":"VLOOKUP(B60,Results!$A$8:$AK$104,37,FALSE)","v":{"$error":"#N/A"}},{"$f":"VLOOKUP(H60,Results!A$8:$G$104,3,FALSE)","v":{"$error":"#N/A"}},{"$f":"VLOOKUP(H60,Results!$A$8:$G$104,2,FALSE)","v":{"$error":"#N/A"}},{"$f":"VLOOKUP(H60,Results!$A$8:$G$104,4,FALSE)","v":{"$error":"#N/A"}},{"$f":"VLOOKUP(H60,Results!$A$8:$G$104,7,FALSE)","v":{"$error":"#N/A"}},{"$f":"VLOOKUP(H60,$B$4:B60,1,FALSE)","v":{"$error":"#N/A"}}]
[null,{"$f":"Results!A64","v":0},{"$f":"Results!C64","v":0},{"$f":"Results!B64","v":0},{"$f":"Results!D64","v":0},{"$f":"Results!G64","v":""},"- vs -",{"$f":"VLOOKUP(B61,Results!$A$8:$AK$104,37,FALSE)","v":{"$error":"#N/A"}},{"$f":"VLOOKUP(H61,Results!A$8:$G$104,3,FALSE)","v":{"$error":"#N/A"}},{"$f":"VLOOKUP(H61,Results!$A$8:$G$104,2,FALSE)","v":{"$error":"#N/A"}},{"$f":"VLOOKUP(H61,Results!$A$8:$G$104,4,FALSE)","v":{"$error":"#N/A"}},{"$f":"VLOOKUP(H61,Results!$A$8:$G$104,7,FALSE)","v":{"$error":"#N/A"}},{"$f":"VLOOKUP(H61,$B$4:B61,1,FALSE)","v":{"$error":"#N/A"}}]
[null,{"$f":"Results!A65","v":0},{"$f":"Results!C65","v":0},{"$f":"Results!B65","v":0},{"$f":"Results!D65","v":0},{"$f":"Results!G65","v":""},"- vs -",{"$f":"VLOOKUP(B62,Results!$A$8:$AK$104,37,FALSE)","v":{"$error":"#N/A"}},{"$f":"VLOOKUP(H62,Results!A$8:$G$104,3,FALSE)","v":{"$error":"#N/A"}},{"$f":"VLOOKUP(H62,Results!$A$8:$G$104,2,FALSE)","v":{"$error":"#N/A"}},{"$f":"VLOOKUP(H62,Results!$A$8:$G$104,4,FALSE)","v":{"$error":"#N/A"}},{"$f":"VLOOKUP(H62,Results!$A$8:$G$104,7,FALSE)","v":{"$error":"#N/A"}},{"$f":"VLOOKUP(H62,$B$4:B62,1,FALSE)","v":{"$error":"#N/A"}}]
[null,{"$f":"Results!A66","v":0},{"$f":"Results!C66","v":0},{"$f":"Results!B66","v":0},{"$f":"Results!D66","v":0},{"$f":"Results!G66","v":""},"- vs -",{"$f":"VLOOKUP(B63,Results!$A$8:$AK$104,37,FALSE)","v":{"$error":"#N/A"}},{"$f":"VLOOKUP(H63,Results!A$8:$G$104,3,FALSE)","v":{"$error":"#N/A"}},{"$f":"VLOOKUP(H63,Results!$A$8:$G$104,2,FALSE)","v":{"$error":"#N/A"}},{"$f":"VLOOKUP(H63,Results!$A$8:$G$104,4,FALSE)","v":{"$error":"#N/A"}},{"$f":"VLOOKUP(H63,Results!$A$8:$G$104,7,FALSE)","v":{"$error":"#N/A"}},{"$f":"VLOOKUP(H63,$B$4:B63,1,FALSE)","v":{"$error":"#N/A"}}]
[null,{"$f":"Results!A67","v":0},{"$f":"Results!C67","v":0},{"$f":"Results!B67","v":0},{"$f":"Results!D67","v":0},{"$f":"Results!G67","v":""},"- vs -",{"$f":"VLOOKUP(B64,Results!$A$8:$AK$104,37,FALSE)","v":{"$error":"#N/A"}},{"$f":"VLOOKUP(H64,Results!A$8:$G$104,3,FALSE)","v":{"$error":"#N/A"}},{"$f":"VLOOKUP(H64,Results!$A$8:$G$104,2,FALSE)","v":{"$error":"#N/A"}},{"$f":"VLOOKUP(H64,Results!$A$8:$G$104,4,FALSE)","v":{"$error":"#N/A"}},{"$f":"VLOOKUP(H64,Results!$A$8:$G$104,7,FALSE)","v":{"$error":"#N/A"}}]
[null,{"$f":"Results!A68","v":0},{"$f":"Results!C68","v":0},{"$f":"Results!B68","v":0},{"$f":"Results!D68","v":0},{"$f":"Results!G68","v":""},"- vs -",{"$f":"VLOOKUP(B65,Results!$A$8:$AK$104,37,FALSE)","v":{"$error":"#N/A"}},{"$f":"VLOOKUP(H65,Results!A$8:$G$104,3,FALSE)","v":{"$error":"#N/A"}},{"$f":"VLOOKUP(H65,Results!$A$8:$G$104,2,FALSE)","v":{"$error":"#N/A"}},{"$f":"VLOOKUP(H65,Results!$A$8:$G$104,4,FALSE)","v":{"$error":"#N/A"}},{"$f":"VLOOKUP(H65,Results!$A$8:$G$104,7,FALSE)","v":{"$error":"#N/A"}}]
[null,{"$f":"Results!A69","v":0},{"$f":"Results!C69","v":0},{"$f":"Results!B69","v":0},{"$f":"Results!D69","v":0},{"$f":"Results!G69","v":""},"- vs -",{"$f":"VLOOKUP(B66,Results!$A$8:$AK$104,37,FALSE)","v":{"$error":"#N/A"}},{"$f":"VLOOKUP(H66,Results!A$8:$G$104,3,FALSE)","v":{"$error":"#N/A"}},{"$f":"VLOOKUP(H66,Results!$A$8:$G$104,2,FALSE)","v":{"$error":"#N/A"}},{"$f":"VLOOKUP(H66,Results!$A$8:$G$104,4,FALSE)","v":{"$error":"#N/A"}},{"$f":"VLOOKUP(H66,Results!$A$8:$G$104,7,FALSE)","v":{"$error":"#N/A"}}]
[null,{"$f":"Results!A70","v":0},{"$f":"Results!C70","v":0},{"$f":"Results!B70","v":0},{"$f":"Results!D70","v":0},{"$f":"Results!G70","v":""},"- vs -",{"$f":"VLOOKUP(B67,Results!$A$8:$AK$104,37,FALSE)","v":{"$error":"#N/A"}},{"$f":"VLOOKUP(H67,Results!A$8:$G$104,3,FALSE)","v":{"$error":"#N/A"}},{"$f":"VLOOKUP(H67,Results!$A$8:$G$104,2,FALSE)","v":{"$error":"#N/A"}},{"$f":"VLOOKUP(H67,Results!$A$8:$G$104,4,FALSE)","v":{"$error":"#N/A"}},{"$f":"VLOOKUP(H67,Results!$A$8:$G$104,7,FALSE)","v":{"$error":"#N/A"}}]
[null,{"$f":"Results!A71","v":0},{"$f":"Results!C71","v":0},{"$f":"Results!B71","v":0},{"$f":"Results!D71","v":0},{"$f":"Results!G71","v":""},"- vs -",{"$f":"VLOOKUP(B68,Results!$A$8:$AK$104,37,FALSE)","v":{"$error":"#N/A"}},{"$f":"VLOOKUP(H68,Results!A$8:$G$104,3,FALSE)","v":{"$error":"#N/A"}},{"$f":"VLOOKUP(H68,Results!$A$8:$G$104,2,FALSE)","v":{"$error":"#N/A"}},{"$f":"VLOOKUP(H68,Results!$A$8:$G$104,4,FALSE)","v":{"$error":"#N/A"}},{"$f":"VLOOKUP(H68,Results!$A$8:$G$104,7,FALSE)","v":{"$error":"#N/A"}}]
[null,{"$f":"Results!A72","v":0},{"$f":"Results!C72","v":0},{"$f":"Results!B72","v":0},{"$f":"Results!D72","v":0},{"$f":"Results!G72","v":""},"- vs -",{"$f":"VLOOKUP(B69,Results!$A$8:$AK$104,37,FALSE)","v":{"$error":"#N/A"}},{"$f":"VLOOKUP(H69,Results!A$8:$G$104,3,FALSE)","v":{"$error":"#N/A"}},{"$f":"VLOOKUP(H69,Results!$A$8:$G$104,2,FALSE)","v":{"$error":"#N/A"}},{"$f":"VLOOKUP(H69,Results!$A$8:$G$104,4,FALSE)","v":{"$error":"#N/A"}},{"$f":"VLOOKUP(H69,Results!$A$8:$G$104,7,FALSE)","v":{"$error":"#N/A"}}]
[null,{"$f":"Results!A76","v":0},{"$f":"Results!C76","v":0},{"$f":"Results!B76","v":0},{"$f":"Results!D76","v":0},{"$f":"Results!G76","v":""},"- vs -",{"$f":"VLOOKUP(B70,Results!$A$8:$AK$104,37,FALSE)","v":{"$error":"#N/A"}},{"$f":"VLOOKUP(H70,Results!A$8:$G$104,3,FALSE)","v":{"$error":"#N/A"}},{"$f":"VLOOKUP(H70,Results!$A$8:$G$104,2,FALSE)","v":{"$error":"#N/A"}},{"$f":"VLOOKUP(H70,Results!$A$8:$G$104,4,FALSE)","v":{"$error":"#N/A"}},{"$f":"VLOOKUP(H70,Results!$A$8:$G$104,7,FALSE)","v":{"$error":"#N/A"}}]
[null,{"$f":"Results!A77","v":0},{"$f":"Results!C77","v":0},{"$f":"Results!B77","v":0},{"$f":"Results!D77","v":0},{"$f":"Results!G77","v":""},"- vs -",{"$f":"VLOOKUP(B71,Results!$A$8:$AK$104,37,FALSE)","v":{"$error":"#N/A"}},{"$f":"VLOOKUP(H71,Results!A$8:$G$104,3,FALSE)","v":{"$error":"#N/A"}},{"$f":"VLOOKUP(H71,Results!$A$8:$G$104,2,FALSE)","v":{"$error":"#N/A"}},{"$f":"VLOOKUP(H71,Results!$A$8:$G$104,4,FALSE)","v":{"$error":"#N/A"}},{"$f":"VLOOKUP(H71,Results!$A$8:$G$104,7,FALSE)","v":{"$error":"#N/A"}}]
[null,{"$f":"Results!A78","v":0},{"$f":"Results!C78","v":0},{"$f":"Results!B78","v":0},{"$f":"Results!D78","v":0},{"$f":"Results!G78","v":""},"- vs -",{"$f":"VLOOKUP(B72,Results!$A$8:$AK$104,37,FALSE)","v":{"$error":"#N/A"}},{"$f":"VLOOKUP(H72,Results!A$8:$G$104,3,FALSE)","v":{"$error":"#N/A"}},{"$f":"VLOOKUP(H72,Results!$A$8:$G$104,2,FALSE)","v":{"$error":"#N/A"}},{"$f":"VLOOKUP(H72,Results!$A$8:$G$104,4,FALSE)","v":{"$error":"#N/A"}},{"$f":"VLOOKUP(H72,Results!$A$8:$G$104,7,FALSE)","v":{"$error":"#N/A"}}]
[null,{"$f":"Results!A79","v":0},{"$f":"Results!C79","v":0},{"$f":"Results!B79","v":0},{"$f":"Results!D79","v":0},{"$f":"Results!G79","v":""},"- vs -",{"$f":"VLOOKUP(B73,Results!$A$8:$AK$104,37,FALSE)","v":{"$error":"#N/A"}},{"$f":"VLOOKUP(H73,Results!A$8:$G$104,3,FALSE)","v":{"$error":"#N/A"}},{"$f":"VLOOKUP(H73,Results!$A$8:$G$104,2,FALSE)","v":{"$error":"#N/A"}},{"$f":"VLOOKUP(H73,Results!$A$8:$G$104,4,FALSE)","v":{"$error":"#N/A"}},{"$f":"VLOOKUP(H73,Results!$A$8:$G$104,7,FALSE)","v":{"$error":"#N/A"}}]
[null,{"$f":"Results!A80","v":0},{"$f":"Results!C80","v":0},{"$f":"Results!B80","v":0},{"$f":"Results!D80","v":0},{"$f":"Results!G80","v":""},"- vs -",{"$f":"VLOOKUP(B74,Results!$A$8:$AK$104,37,FALSE)","v":{"$error":"#N/A"}},{"$f":"VLOOKUP(H74,Results!A$8:$G$104,3,FALSE)","v":{"$error":"#N/A"}},{"$f":"VLOOKUP(H74,Results!$A$8:$G$104,2,FALSE)","v":{"$error":"#N/A"}},{"$f":"VLOOKUP(H74,Results!$A$8:$G$104,4,FALSE)","v":{"$error":"#N/A"}},{"$f":"VLOOKUP(H74,Results!$A$8:$G$104,7,FALSE)","v":{"$error":"#N/A"}}]
[null,{"$f":"Results!A81","v":0},{"$f":"Results!C81","v":0},{"$f":"Results!B81","v":0},{"$f":"Results!D81","v":0},{"$f":"Results!G81","v":""},"- vs -",{"$f":"VLOOKUP(B75,Results!$A$8:$AK$104,37,FALSE)","v":{"$error":"#N/A"}},{"$f":"VLOOKUP(H75,Results!A$8:$G$104,3,FALSE)","v":{"$error":"#N/A"}},{"$f":"VLOOKUP(H75,Results!$A$8:$G$104,2,FALSE)","v":{"$error":"#N/A"}},{"$f":"VLOOKUP(H75,Results!$A$8:$G$104,4,FALSE)","v":{"$error":"#N/A"}},{"$f":"VLOOKUP(H75,Results!$A$8:$G$104,7,FALSE)","v":{"$error":"#N/A"}}]
[null,{"$f":"Results!A82","v":0},{"$f":"Results!C82","v":0},{"$f":"Results!B82","v":0},{"$f":"Results!D82","v":0},{"$f":"Results!G82","v":""},"- vs -",{"$f":"VLOOKUP(B76,Results!$A$8:$AK$104,37,FALSE)","v":{"$error":"#N/A"}},{"$f":"VLOOKUP(H76,Results!A$8:$G$104,3,FALSE)","v":{"$error":"#N/A"}},{"$f":"VLOOKUP(H76,Results!$A$8:$G$104,2,FALSE)","v":{"$error":"#N/A"}},{"$f":"VLOOKUP(H76,Results!$A$8:$G$104,4,FALSE)","v":{"$error":"#N/A"}},{"$f":"VLOOKUP(H76,Results!$A$8:$G$104,7,FALSE)","v":{"$error":"#N/A"}}]
[null,{"$f":"Results!A83","v":0},{"$f":"Results!C83","v":0},{"$f":"Results!B83","v":0},{"$f":"Results!D83","v":0},{"$f":"Results!G83","v":""},"- vs -",{"$f":"VLOOKUP(B77,Results!$A$8:$AK$104,37,FALSE)","v":{"$error":"#N/A"}},{"$f":"VLOOKUP(H77,Results!A$8:$G$104,3,FALSE)","v":{"$error":"#N/A"}},{"$f":"VLOOKUP(H77,Results!$A$8:$G$104,2,FALSE)","v":{"$error":"#N/A"}},{"$f":"VLOOKUP(H77,Results!$A$8:$G$104,4,FALSE)","v":{"$error":"#N/A"}},{"$f":"VLOOKUP(H77,Results!$A$8:$G$104,7,FALSE)","v":{"$error":"#N/A"}}]
[null,{"$f":"Results!A84","v":0},{"$f":"Results!C84","v":0},{"$f":"Results!B84","v":0},{"$f":"Results!D84","v":0},{"$f":"Results!G84","v":""},"- vs -",{"$f":"VLOOKUP(B78,Results!$A$8:$AK$104,37,FALSE)","v":{"$error":"#N/A"}},{"$f":"VLOOKUP(H78,Results!A$8:$G$104,3,FALSE)","v":{"$error":"#N/A"}},{"$f":"VLOOKUP(H78,Results!$A$8:$G$104,2,FALSE)","v":{"$error":"#N/A"}},{"$f":"VLOOKUP(H78,Results!$A$8:$G$104,4,FALSE)","v":{"$error":"#N/A"}},{"$f":"VLOOKUP(H78,Results!$A$8:$G$104,7,FALSE)","v":{"$error":"#N/A"}}]
[null,{"$f":"Results!A85","v":0},{"$f":"Results!C85","v":0},{"$f":"Results!B85","v":0},{"$f":"Results!D85","v":0},{"$f":"Results!G85","v":""},"- vs -",{"$f":"VLOOKUP(B79,Results!$A$8:$AK$104,37,FALSE)","v":{"$error":"#N/A"}},{"$f":"VLOOKUP(H79,Results!A$8:$G$104,3,FALSE)","v":{"$error":"#N/A"}},{"$f":"VLOOKUP(H79,Results!$A$8:$G$104,2,FALSE)","v":{"$error":"#N/A"}},{"$f":"VLOOKUP(H79,Results!$A$8:$G$104,4,FALSE)","v":{"$error":"#N/A"}},{"$f":"VLOOKUP(H79,Results!$A$8:$G$104,7,FALSE)","v":{"$error":"#N/A"}}]
[null,{"$f":"Results!A86","v":0},{"$f":"Results!C86","v":0},{"$f":"Results!B86","v":0},{"$f":"Results!D86","v":0},{"$f":"Results!G86","v":""},"- vs -",{"$f":"VLOOKUP(B80,Results!$A$8:$AK$104,37,FALSE)","v":{"$error":"#N/A"}},{"$f":"VLOOKUP(H80,Results!A$8:$G$104,3,FALSE)","v":{"$error":"#N/A"}},{"$f":"VLOOKUP(H80,Results!$A$8:$G$104,2,FALSE)","v":{"$error":"#N/A"}},{"$f":"VLOOKUP(H80,Results!$A$8:$G$104,4,FALSE)","v":{"$error":"#N/A"}},{"$f":"VLOOKUP(H80,Results!$A$8:$G$104,7,FALSE)","v":{"$error":"#N/A"}}]
[null,{"$f":"Results!A87","v":0},{"$f":"Results!C87","v":0},{"$f":"Results!B87","v":0},{"$f":"Results!D87","v":0},{"$f":"Results!G87","v":""},"- vs -",{"$f":"VLOOKUP(B81,Results!$A$8:$AK$104,37,FALSE)","v":{"$error":"#N/A"}},{"$f":"VLOOKUP(H81,Results!A$8:$G$104,3,FALSE)","v":{"$error":"#N/A"}},{"$f":"VLOOKUP(H81,Results!$A$8:$G$104,2,FALSE)","v":{"$error":"#N/A"}},{"$f":"VLOOKUP(H81,Results!$A$8:$G$104,4,FALSE)","v":{"$error":"#N/A"}},{"$f":"VLOOKUP(H81,Results!$A$8:$G$104,7,FALSE)","v":{"$error":"#N/A"}}]
[null,{"$f":"Results!A88","v":0},{"$f":"Results!C88","v":0},{"$f":"Results!B88","v":0},{"$f":"Results!D88","v":0},{"$f":"Results!G88","v":""},"- vs -",{"$f":"VLOOKUP(B82,Results!$A$8:$AK$104,37,FALSE)","v":{"$error":"#N/A"}},{"$f":"VLOOKUP(H82,Results!A$8:$G$104,3,FALSE)","v":{"$error":"#N/A"}},{"$f":"VLOOKUP(H82,Results!$A$8:$G$104,2,FALSE)","v":{"$error":"#N/A"}},{"$f":"VLOOKUP(H82,Results!$A$8:$G$104,4,FALSE)","v":{"$error":"#N/A"}},{"$f":"VLOOKUP(H82,Results!$A$8:$G$104,7,FALSE)","v":{"$error":"#N/A"}}]
[null,{"$f":"Results!A89","v":0},{"$f":"Results!C89","v":0},{"$f":"Results!B89","v":0},{"$f":"Results!D89","v":0},{"$f":"Results!G89","v":""},"- vs -",{"$f":"VLOOKUP(B83,Results!$A$8:$AK$104,37,FALSE)","v":{"$error":"#N/A"}},{"$f":"VLOOKUP(H83,Results!A$8:$G$104,3,FALSE)","v":{"$error":"#N/A"}},{"$f":"VLOOKUP(H83,Results!$A$8:$G$104,2,FALSE)","v":{"$error":"#N/A"}},{"$f":"VLOOKUP(H83,Results!$A$8:$G$104,4,FALSE)","v":{"$error":"#N/A"}},{"$f":"VLOOKUP(H83,Results!$A$8:$G$104,7,FALSE)","v":{"$error":"#N/A"}}]
[null,{"$f":"Results!A90","v":0},{"$f":"Results!C90","v":0},{"$f":"Results!B90","v":0},{"$f":"Results!D90","v":0},{"$f":"Results!G90","v":""},"- vs -",{"$f":"VLOOKUP(B84,Results!$A$8:$AK$104,37,FALSE)","v":{"$error":"#N/A"}},{"$f":"VLOOKUP(H84,Results!A$8:$G$104,3,FALSE)","v":{"$error":"#N/A"}},{"$f":"VLOOKUP(H84,Results!$A$8:$G$104,2,FALSE)","v":{"$error":"#N/A"}},{"$f":"VLOOKUP(H84,Results!$A$8:$G$104,4,FALSE)","v":{"$error":"#N/A"}},{"$f":"VLOOKUP(H84,Results!$A$8:$G$104,7,FALSE)","v":{"$error":"#N/A"}}]
[null,{"$f":"Results!A91","v":0},{"$f":"Results!C91","v":0},{"$f":"Results!B91","v":0},{"$f":"Results!D91","v":0},{"$f":"Results!G91","v":""},"- vs -",{"$f":"VLOOKUP(B85,Results!$A$8:$AK$104,37,FALSE)","v":{"$error":"#N/A"}},{"$f":"VLOOKUP(H85,Results!A$8:$G$104,3,FALSE)","v":{"$error":"#N/A"}},{"$f":"VLOOKUP(H85,Results!$A$8:$G$104,2,FALSE)","v":{"$error":"#N/A"}},{"$f":"VLOOKUP(H85,Results!$A$8:$G$104,4,FALSE)","v":{"$error":"#N/A"}},{"$f":"VLOOKUP(H85,Results!$A$8:$G$104,7,FALSE)","v":{"$error":"#N/A"}}]
[null,{"$f":"Results!A92","v":0},{"$f":"Results!C92","v":0},{"$f":"Results!B92","v":0},{"$f":"Results!D92","v":0},{"$f":"Results!G92","v":""},"- vs -",{"$f":"VLOOKUP(B86,Results!$A$8:$AK$104,37,FALSE)","v":{"$error":"#N/A"}},{"$f":"VLOOKUP(H86,Results!A$8:$G$104,3,FALSE)","v":{"$error":"#N/A"}},{"$f":"VLOOKUP(H86,Results!$A$8:$G$104,2,FALSE)","v":{"$error":"#N/A"}},{"$f":"VLOOKUP(H86,Results!$A$8:$G$104,4,FALSE)","v":{"$error":"#N/A"}},{"$f":"VLOOKUP(H86,Results!$A$8:$G$104,7,FALSE)","v":{"$error":"#N/A"}}]
[null,{"$f":"Results!A93","v":0},{"$f":"Results!C93","v":0},{"$f":"Results!B93","v":0},{"$f":"Results!D93","v":0},{"$f":"Results!G93","v":""},"- vs -",{"$f":"VLOOKUP(B87,Results!$A$8:$AK$104,37,FALSE)","v":{"$error":"#N/A"}},{"$f":"VLOOKUP(H87,Results!A$8:$G$104,3,FALSE)","v":{"$error":"#N/A"}},{"$f":"VLOOKUP(H87,Results!$A$8:$G$104,2,FALSE)","v":{"$error":"#N/A"}},{"$f":"VLOOKUP(H87,Results!$A$8:$G$104,4,FALSE)","v":{"$error":"#N/A"}},{"$f":"VLOOKUP(H87,Results!$A$8:$G$104,7,FALSE)","v":{"$error":"#N/A"}}]
[null,{"$f":"Results!A94","v":0},{"$f":"Results!C94","v":0},{"$f":"Results!B94","v":0},{"$f":"Results!D94","v":0},{"$f":"Results!G94","v":""},"- vs -",{"$f":"VLOOKUP(B88,Results!$A$8:$AK$104,37,FALSE)","v":{"$error":"#N/A"}},{"$f":"VLOOKUP(H88,Results!A$8:$G$104,3,FALSE)","v":{"$error":"#N/A"}},{"$f":"VLOOKUP(H88,Results!$A$8:$G$104,2,FALSE)","v":{"$error":"#N/A"}},{"$f":"VLOOKUP(H88,Results!$A$8:$G$104,4,FALSE)","v":{"$error":"#N/A"}},{"$f":"VLOOKUP(H88,Results!$A$8:$G$104,7,FALSE)","v":{"$error":"#N/A"}}]
[null,{"$f":"Results!A95","v":0},{"$f":"Results!C95","v":0},{"$f":"Results!B95","v":0},{"$f":"Results!D95","v":0},{"$f":"Results!G95","v":""},"- vs -",{"$f":"VLOOKUP(B89,Results!$A$8:$AK$104,37,FALSE)","v":{"$error":"#N/A"}},{"$f":"VLOOKUP(H89,Results!A$8:$G$104,3,FALSE)","v":{"$error":"#N/A"}},{"$f":"VLOOKUP(H89,Results!$A$8:$G$104,2,FALSE)","v":{"$error":"#N/A"}},{"$f":"VLOOKUP(H89,Results!$A$8:$G$104,4,FALSE)","v":{"$error":"#N/A"}},{"$f":"VLOOKUP(H89,Results!$A$8:$G$104,7,FALSE)","v":{"$error":"#N/A"}}]
[null,{"$f":"Results!A96","v":0},{"$f":"Results!C96","v":0},{"$f":"Results!B96","v":0},{"$f":"Results!D96","v":0},{"$f":"Results!G96","v":""},"- vs -",{"$f":"VLOOKUP(B90,Results!$A$8:$AK$104,37,FALSE)","v":{"$error":"#N/A"}},{"$f":"VLOOKUP(H90,Results!A$8:$G$104,3,FALSE)","v":{"$error":"#N/A"}},{"$f":"VLOOKUP(H90,Results!$A$8:$G$104,2,FALSE)","v":{"$error":"#N/A"}},{"$f":"VLOOKUP(H90,Results!$A$8:$G$104,4,FALSE)","v":{"$error":"#N/A"}},{"$f":"VLOOKUP(H90,Results!$A$8:$G$104,7,FALSE)","v":{"$error":"#N/A"}}]
[null,{"$f":"Results!A97","v":0},{"$f":"Results!C97","v":0},{"$f":"Results!B97","v":0},{"$f":"Results!D97","v":0},{"$f":"Results!G97","v":""},"- vs -",{"$f":"VLOOKUP(B91,Results!$A$8:$AK$104,37,FALSE)","v":{"$error":"#N/A"}},{"$f":"VLOOKUP(H91,Results!A$8:$G$104,3,FALSE)","v":{"$error":"#N/A"}},{"$f":"VLOOKUP(H91,Results!$A$8:$G$104,2,FALSE)","v":{"$error":"#N/A"}},{"$f":"VLOOKUP(H91,Results!$A$8:$G$104,4,FALSE)","v":{"$error":"#N/A"}},{"$f":"VLOOKUP(H91,Results!$A$8:$G$104,7,FALSE)","v":{"$error":"#N/A"}}]
[null,{"$f":"Results!A98","v":0},{"$f":"Results!C98","v":0},{"$f":"Results!B98","v":0},{"$f":"Results!D98","v":0},{"$f":"Results!G98","v":""},"- vs -",{"$f":"VLOOKUP(B92,Results!$A$8:$AK$104,37,FALSE)","v":{"$error":"#N/A"}},{"$f":"VLOOKUP(H92,Results!A$8:$G$104,3,FALSE)","v":{"$error":"#N/A"}},{"$f":"VLOOKUP(H92,Results!$A$8:$G$104,2,FALSE)","v":{"$error":"#N/A"}},{"$f":"VLOOKUP(H92,Results!$A$8:$G$104,4,FALSE)","v":{"$error":"#N/A"}},{"$f":"VLOOKUP(H92,Results!$A$8:$G$104,7,FALSE)","v":{"$error":"#N/A"}}]
[null,{"$f":"Results!A99","v":0},{"$f":"Results!C99","v":0},{"$f":"Results!B99","v":0},{"$f":"Results!D99","v":0},{"$f":"Results!G99","v":""},"- vs -",{"$f":"VLOOKUP(B93,Results!$A$8:$AK$104,37,FALSE)","v":{"$error":"#N/A"}},{"$f":"VLOOKUP(H93,Results!A$8:$G$104,3,FALSE)","v":{"$error":"#N/A"}},{"$f":"VLOOKUP(H93,Results!$A$8:$G$104,2,FALSE)","v":{"$error":"#N/A"}},{"$f":"VLOOKUP(H93,Results!$A$8:$G$104,4,FALSE)","v":{"$error":"#N/A"}},{"$f":"VLOOKUP(H93,Results!$A$8:$G$104,7,FALSE)","v":{"$error":"#N/A"}}]
[null,{"$f":"Results!A100","v":0},{"$f":"Results!C100","v":0},{"$f":"Results!B100","v":0},{"$f":"Results!D100","v":0},{"$f":"Results!G100","v":""},"- vs -",{"$f":"VLOOKUP(B94,Results!$A$8:$AK$104,37,FALSE)","v":{"$error":"#N/A"}},{"$f":"VLOOKUP(H94,Results!A$8:$G$104,3,FALSE)","v":{"$error":"#N/A"}},{"$f":"VLOOKUP(H94,Results!$A$8:$G$104,2,FALSE)","v":{"$error":"#N/A"}},{"$f":"VLOOKUP(H94,Results!$A$8:$G$104,4,FALSE)","v":{"$error":"#N/A"}},{"$f":"VLOOKUP(H94,Results!$A$8:$G$104,7,FALSE)","v":{"$error":"#N/A"}}]
[null,{"$f":"Results!A101","v":0},{"$f":"Results!C101","v":0},{"$f":"Results!B101","v":0},{"$f":"Results!D101","v":0},{"$f":"Results!G101","v":""},"- vs -",{"$f":"VLOOKUP(B95,Results!$A$8:$AK$104,37,FALSE)","v":{"$error":"#N/A"}},{"$f":"VLOOKUP(H95,Results!A$8:$G$104,3,FALSE)","v":{"$error":"#N/A"}},{"$f":"VLOOKUP(H95,Results!$A$8:$G$104,2,FALSE)","v":{"$error":"#N/A"}},{"$f":"VLOOKUP(H95,Results!$A$8:$G$104,4,FALSE)","v":{"$error":"#N/A"}},{"$f":"VLOOKUP(H95,Results!$A$8:$G$104,7,FALSE)","v":{"$error":"#N/A"}}]
[null,{"$f":"Results!A102","v":0},{"$f":"Results!C102","v":0},{"$f":"Results!B102","v":0},{"$f":"Results!D102","v":0},{"$f":"Results!G102","v":""},"- vs -",{"$f":"VLOOKUP(B96,Results!$A$8:$AK$104,37,FALSE)","v":{"$error":"#N/A"}},{"$f":"VLOOKUP(H96,Results!A$8:$G$104,3,FALSE)","v":{"$error":"#N/A"}},{"$f":"VLOOKUP(H96,Results!$A$8:$G$104,2,FALSE)","v":{"$error":"#N/A"}},{"$f":"VLOOKUP(H96,Results!$A$8:$G$104,4,FALSE)","v":{"$error":"#N/A"}},{"$f":"VLOOKUP(H96,Results!$A$8:$G$104,7,FALSE)","v":{"$error":"#N/A"}}]
[null,{"$f":"Results!A103","v":0},{"$f":"Results!C103","v":0},{"$f":"Results!B103","v":0},{"$f":"Results!D103","v":0},{"$f":"Results!G103","v":""},"- vs -",{"$f":"VLOOKUP(B97,Results!$A$8:$AK$104,37,FALSE)","v":{"$error":"#N/A"}},{"$f":"VLOOKUP(H97,Results!A$8:$G$104,3,FALSE)","v":{"$error":"#N/A"}},{"$f":"VLOOKUP(H97,Results!$A$8:$G$104,2,FALSE)","v":{"$error":"#N/A"}},{"$f":"VLOOKUP(H97,Results!$A$8:$G$104,4,FALSE)","v":{"$error":"#N/A"}},{"$f":"VLOOKUP(H97,Results!$A$8:$G$104,7,FALSE)","v":{"$error":"#N/A"}}]
[null,{"$f":"Results!A104","v":0},{"$f":"Results!C104","v":0},{"$f":"Results!B104","v":0},{"$f":"Results!D104","v":0},{"$f":"Results!G104","v":""},"- vs -",{"$f":"VLOOKUP(B98,Results!$A$8:$AK$104,37,FALSE)","v":{"$error":"#N/A"}},{"$f":"VLOOKUP(H98,Results!A$8:$G$104,3,FALSE)","v":{"$error":"#N/A"}},{"$f":"VLOOKUP(H98,Results!$A$8:$G$104,2,FALSE)","v":{"$error":"#N/A"}},{"$f":"VLOOKUP(H98,Results!$A$8:$G$104,4,FALSE)","v":{"$error":"#N/A"}},{"$f":"VLOOKUP(H98,Results!$A$8:$G$104,7,FALSE)","v":{"$error":"#N/A"}}]
[null,{"$f":"Results!A105","v":0},{"$f":"Results!C105","v":0},{"$f":"Results!B105","v":0},{"$f":"Results!D105","v":0},{"$f":"Results!G105","v":""},"- vs -",{"$f":"VLOOKUP(B99,Results!$A$8:$AK$104,37,FALSE)","v":{"$error":"#N/A"}},{"$f":"VLOOKUP(H99,Results!A$8:$G$104,3,FALSE)","v":{"$error":"#N/A"}},{"$f":"VLOOKUP(H99,Results!$A$8:$G$104,2,FALSE)","v":{"$error":"#N/A"}},{"$f":"VLOOKUP(H99,Results!$A$8:$G$104,4,FALSE)","v":{"$error":"#N/A"}},{"$f":"VLOOKUP(H99,Results!$A$8:$G$104,7,FALSE)","v":{"$error":"#N/A"}}]
[null,{"$f":"Results!A106","v":0},{"$f":"Results!C106","v":0},{"$f":"Results!B106","v":0},{"$f":"Results!D106","v":0},{"$f":"Results!G106","v":""},"- vs -",{"$f":"VLOOKUP(B100,Results!$A$8:$AK$104,37,FALSE)","v":{"$error":"#N/A"}},{"$f":"VLOOKUP(H100,Results!A$8:$G$104,3,FALSE)","v":{"$error":"#N/A"}},{"$f":"VLOOKUP(H100,Results!$A$8:$G$104,2,FALSE)","v":{"$error":"#N/A"}},{"$f":"VLOOKUP(H100,Results!$A$8:$G$104,4,FALSE)","v":{"$error":"#N/A"}},{"$f":"VLOOKUP(H100,Results!$A$8:$G$104,7,FALSE)","v":{"$error":"#N/A"}}]
[null,{"$f":"Results!A107","v":0},{"$f":"Results!C107","v":0},{"$f":"Results!B107","v":0},{"$f":"Results!D107","v":0},{"$f":"Results!G107","v":""},"- vs -",{"$f":"VLOOKUP(B101,Results!$A$8:$AK$104,37,FALSE)","v":{"$error":"#N/A"}},{"$f":"VLOOKUP(H101,Results!A$8:$G$104,3,FALSE)","v":{"$error":"#N/A"}},{"$f":"VLOOKUP(H101,Results!$A$8:$G$104,2,FALSE)","v":{"$error":"#N/A"}},{"$f":"VLOOKUP(H101,Results!$A$8:$G$104,4,FALSE)","v":{"$error":"#N/A"}},{"$f":"VLOOKUP(H101,Results!$A$8:$G$104,7,FALSE)","v":{"$error":"#N/A"}}]
[]
[]
[]
[]
[null,712,"Tim","Porter","CLWC","Hittite","- vs -",1318,"Rob","Taylor","Halifax","Achaemenid Persian"]
[null,1509,"Frazer","Watson","Scotland","Maya","- vs -",711,"Harrison","Pearce","MKWS","Assyrian"]
[null,713,"Darrell","Pearce","MKWS","New Kingdom Egyptian","- vs -",1418,"Stephen","Nice","WAR","Classical Indian"]
[null,1444,"Kevin","Olier","France","Assyrian Empire and Sargonid","- vs -",1308,"Paul","Dawson","York","Assyrian"]
[null,1017,"David","Roberts","Cambridge","Syria, Canaan and Ugarit","- vs -",1309,"Paul","Johnston","York","North American tribes"]
[null,1220,"Marco","Baroni","York","Aztec","- vs -",1015,"Nik","Sharp","Warlords","Assyrian Empire and Sargonid"]
[null,1008,"Robin","Jackson",0,"Elamite","- vs -",1161,"Graeme","Carroll","Durham","Classical Indian"]
[null,714,"Andy","Gilbert","Pompey","Libyan Egyptian","- vs -",1797,"Dave","Putt","PAW","Achaemenid Persian"]
[null,1222,"Bob","Middlemist","Durham","Assyrian Empire and Sargonid","- vs -",710,"Dave","Saunders","CLWC","Aztec"]
[null,1598,"Andy","Fyfe","Scotland","Classical Indian","- vs -",397,"Hubert","Bretagne","France","Aztec"]
[null,1538,"Jim","Gibson","Scotland","Warring States","- vs -",1447,"Antony","Robinson","Durham","Classical Indian"]
[null,1468,"Andy","Ellis","Leeds","Ancient Bedouin","- vs -",1618,"Jens","Harbarth","Germany","Zhou and Spring and Autumn Chinese"]
[null,261,"Lionel","Morvan","France","Lydian","- vs -",485,"Jesse","Schoor","WAR","Medes"]
[null,1721,"Lance","Flint","Farnboro","Inca","- vs -",874,"Simon","Ellis","WAR","Later Achaemenid Persian"]
[null,1811,"Steve","Tresadern","Arsenal","Lydian","- vs -",1583,"Philip","Powell","WAR","Tupi"]
[null,1602,"Uwe","Urbitch","Germany","Zhou and Spring and Autumn Chinese","- vs -",1483,"Ian","Sewell","WAR","Early Carthaginian"]
[null,1489,"Kevin","Ellis","Leeds","Early Macedonian","- vs -",795,"Mark","Fry","Bristol","Zhou and Spring and Autumn Chinese"]
[null,1810,"Steve","Hammond","Arsenal","New Kingdom Egyptian","- vs -",1536,"Pete","Sanger","Pompey","Assyrian Empire and Sargonid"]

{"sheet":"Round 6","index":14,"n_rows":69,"n_cols":13,"rows_kept":69,"cut":false,"hidden":true,"merged":[]}
[null,null,null,null,"Round 6 Draw"]
[null,null,{"$f":"Results!B3","v":"Kegworth Codgers 2024"}]
[null,null,{"$f":"Results!B4","v":"Roman Period"}]
[null,null,null,null,null,null,null,null,null,null,null,null,"VALID?"]
[null,{"$f":"Results!A8","v":486},{"$f":"Results!C8","v":"Alan"},{"$f":"Results!B8","v":"Cutner"},{"$f":"Results!D8","v":"Tradeston"},{"$f":"Results!G8","v":""},"- vs -",{"$f":"VLOOKUP(B5,Results!$A$8:$AR$104,44,FALSE)","v":0},{"$f":"VLOOKUP(H5,Results!A$8:$G$104,3,FALSE)","v":{"$error":"#N/A"}},{"$f":"VLOOKUP(H5,Results!$A$8:$G$104,2,FALSE)","v":{"$error":"#N/A"}},{"$f":"VLOOKUP(H5,Results!$A$8:$G$104,4,FALSE)","v":{"$error":"#N/A"}},{"$f":"VLOOKUP(H5,Results!$A$8:$G$104,7,FALSE)","v":{"$error":"#N/A"}},{"$f":"VLOOKUP(H5,$B$4:B5,1,FALSE)","v":{"$error":"#N/A"}}]
[null,{"$f":"Results!A9","v":1579},{"$f":"Results!C9","v":"Alistair"},{"$f":"Results!B9","v":"Wright"},{"$f":"Results!D9","v":"Millbrook"},{"$f":"Results!G9","v":""},"- vs -",{"$f":"VLOOKUP(B6,Results!$A$8:$AR$104,44,FALSE)","v":0},{"$f":"VLOOKUP(H6,Results!A$8:$G$104,3,FALSE)","v":{"$error":"#N/A"}},{"$f":"VLOOKUP(H6,Results!$A$8:$G$104,2,FALSE)","v":{"$error":"#N/A"}},{"$f":"VLOOKUP(H6,Results!$A$8:$G$104,4,FALSE)","v":{"$error":"#N/A"}},{"$f":"VLOOKUP(H6,Results!$A$8:$G$104,7,FALSE)","v":{"$error":"#N/A"}},{"$f":"VLOOKUP(H6,$B$4:B6,1,FALSE)","v":{"$error":"#N/A"}}]
[null,{"$f":"Results!A10","v":748},{"$f":"Results!C10","v":"Andrew"},{"$f":"Results!B10","v":"Whitby"},{"$f":"Results!D10","v":"Bristol"},{"$f":"Results!G10","v":""},"- vs -",{"$f":"VLOOKUP(B7,Results!$A$8:$AR$104,44,FALSE)","v":0},{"$f":"VLOOKUP(H7,Results!A$8:$G$104,3,FALSE)","v":{"$error":"#N/A"}},{"$f":"VLOOKUP(H7,Results!$A$8:$G$104,2,FALSE)","v":{"$error":"#N/A"}},{"$f":"VLOOKUP(H7,Results!$A$8:$G$104,4,FALSE)","v":{"$error":"#N/A"}},{"$f":"VLOOKUP(H7,Results!$A$8:$G$104,7,FALSE)","v":{"$error":"#N/A"}},{"$f":"VLOOKUP(H7,$B$4:B7,1,FALSE)","v":{"$error":"#N/A"}}]
[null,{"$f":"Results!A11","v":1598},{"$f":"Results!C11","v":"Andy"},{"$f":"Results!B11","v":"Fyfe"},{"$f":"Results!D11","v":"FDWG"},{"$f":"Results!G11","v":""},"- vs -",{"$f":"VLOOKUP(B8,Results!$A$8:$AR$104,44,FALSE)","v":0},{"$f":"VLOOKUP(H8,Results!A$8:$G$104,3,FALSE)","v":{"$error":"#N/A"}},{"$f":"VLOOKUP(H8,Results!$A$8:$G$104,2,FALSE)","v":{"$error":"#N/A"}},{"$f":"VLOOKUP(H8,Results!$A$8:$G$104,4,FALSE)","v":{"$error":"#N/A"}},{"$f":"VLOOKUP(H8,Results!$A$8:$G$104,7,FALSE)","v":{"$error":"#N/A"}},{"$f":"VLOOKUP(H8,$B$4:B8,1,FALSE)","v":{"$error":"#N/A"}}]
[null,{"$f":"Results!A12","v":714},{"$f":"Results!C12","v":"Andy"},{"$f":"Results!B12","v":"Gilbert"},{"$f":"Results!D12","v":"Pompey"},{"$f":"Results!G12","v":""},"- vs -",{"$f":"VLOOKUP(B9,Results!$A$8:$AR$104,44,FALSE)","v":0},{"$f":"VLOOKUP(H9,Results!A$8:$G$104,3,FALSE)","v":{"$error":"#N/A"}},{"$f":"VLOOKUP(H9,Results!$A$8:$G$104,2,FALSE)","v":{"$error":"#N/A"}},{"$f":"VLOOKUP(H9,Results!$A$8:$G$104,4,FALSE)","v":{"$error":"#N/A"}},{"$f":"VLOOKUP(H9,Results!$A$8:$G$104,7,FALSE)","v":{"$error":"#N/A"}},{"$f":"VLOOKUP(H9,$B$4:B9,1,FALSE)","v":{"$error":"#N/A"}}]
[null,{"$f":"Results!A13","v":1447},{"$f":"Results!C13","v":"Antony"},{"$f":"Results!B13","v":"Robinson"},{"$f":"Results!D13","v":"Durham"},{"$f":"Results!G13","v":""},"- vs -",{"$f":"VLOOKUP(B10,Results!$A$8:$AR$104,44,FALSE)","v":0},{"$f":"VLOOKUP(H10,Results!A$8:$G$104,3,FALSE)","v":{"$error":"#N/A"}},{"$f":"VLOOKUP(H10,Results!$A$8:$G$104,2,FALSE)","v":{"$error":"#N/A"}},{"$f":"VLOOKUP(H10,Results!$A$8:$G$104,4,FALSE)","v":{"$error":"#N/A"}},{"$f":"VLOOKUP(H10,Results!$A$8:$G$104,7,FALSE)","v":{"$error":"#N/A"}},{"$f":"VLOOKUP(H10,$B$4:B10,1,FALSE)","v":{"$error":"#N/A"}}]
[null,{"$f":"Results!A14","v":773},{"$f":"Results!C14","v":"Charles"},{"$f":"Results!B14","v":"Masefield"},{"$f":"Results!D14","v":"Oxford"},{"$f":"Results!G14","v":""},"- vs -",{"$f":"VLOOKUP(B11,Results!$A$8:$AR$104,44,FALSE)","v":0},{"$f":"VLOOKUP(H11,Results!A$8:$G$104,3,FALSE)","v":{"$error":"#N/A"}},{"$f":"VLOOKUP(H11,Results!$A$8:$G$104,2,FALSE)","v":{"$error":"#N/A"}},{"$f":"VLOOKUP(H11,Results!$A$8:$G$104,4,FALSE)","v":{"$error":"#N/A"}},{"$f":"VLOOKUP(H11,Results!$A$8:$G$104,7,FALSE)","v":{"$error":"#N/A"}},{"$f":"VLOOKUP(H11,$B$4:B11,1,FALSE)","v":{"$error":"#N/A"}}]
[null,{"$f":"Results!A15","v":1549},{"$f":"Results!C15","v":"Colin"},{"$f":"Results!B15","v":"Whittaker"},{"$f":"Results!D15","v":"Entoyment"},{"$f":"Results!G15","v":""},"- vs -",{"$f":"VLOOKUP(B12,Results!$A$8:$AR$104,44,FALSE)","v":0},{"$f":"VLOOKUP(H12,Results!A$8:$G$104,3,FALSE)","v":{"$error":"#N/A"}},{"$f":"VLOOKUP(H12,Results!$A$8:$G$104,2,FALSE)","v":{"$error":"#N/A"}},{"$f":"VLOOKUP(H12,Results!$A$8:$G$104,4,FALSE)","v":{"$error":"#N/A"}},{"$f":"VLOOKUP(H12,Results!$A$8:$G$104,7,FALSE)","v":{"$error":"#N/A"}},{"$f":"VLOOKUP(H12,$B$4:B12,1,FALSE)","v":{"$error":"#N/A"}}]
[null,{"$f":"Results!A16","v":1435},{"$f":"Results!C16","v":"Dave"},{"$f":"Results!B16","v":"Hutchby"},{"$f":"Results!D16","v":"Derby"},{"$f":"Results!G16","v":"Chinese Northern and Southern Dynasties"},"- vs -",{"$f":"VLOOKUP(B13,Results!$A$8:$AR$104,44,FALSE)","v":0},{"$f":"VLOOKUP(H13,Results!A$8:$G$104,3,FALSE)","v":{"$error":"#N/A"}},{"$f":"VLOOKUP(H13,Results!$A$8:$G$104,2,FALSE)","v":{"$error":"#N/A"}},{"$f":"VLOOKUP(H13,Results!$A$8:$G$104,4,FALSE)","v":{"$error":"#N/A"}},{"$f":"VLOOKUP(H13,Results!$A$8:$G$104,7,FALSE)","v":{"$error":"#N/A"}},{"$f":"VLOOKUP(H13,$B$4:B13,1,FALSE)","v":{"$error":"#N/A"}}]
[null,{"$f":"Results!A17","v":1017},{"$f":"Results!C17","v":"David"},{"$f":"Results!B17","v":"Roberts"},{"$f":"Results!D17","v":"Cambridge"},{"$f":"Results!G17","v":""},"- vs -",{"$f":"VLOOKUP(B14,Results!$A$8:$AR$104,44,FALSE)","v":0},{"$f":"VLOOKUP(H14,Results!A$8:$G$104,3,FALSE)","v":{"$error":"#N/A"}},{"$f":"VLOOKUP(H14,Results!$A$8:$G$104,2,FALSE)","v":{"$error":"#N/A"}},{"$f":"VLOOKUP(H14,Results!$A$8:$G$104,4,FALSE)","v":{"$error":"#N/A"}},{"$f":"VLOOKUP(H14,Results!$A$8:$G$104,7,FALSE)","v":{"$error":"#N/A"}},{"$f":"VLOOKUP(H14,$B$4:B14,1,FALSE)","v":{"$error":"#N/A"}}]
[null,{"$f":"Results!A18","v":1576},{"$f":"Results!C18","v":"David"},{"$f":"Results!B18","v":"Dryden"},{"$f":"Results!D18","v":"FDWC"},{"$f":"Results!G18","v":""},"- vs -",{"$f":"VLOOKUP(B15,Results!$A$8:$AR$104,44,FALSE)","v":0},{"$f":"VLOOKUP(H15,Results!A$8:$G$104,3,FALSE)","v":{"$error":"#N/A"}},{"$f":"VLOOKUP(H15,Results!$A$8:$G$104,2,FALSE)","v":{"$error":"#N/A"}},{"$f":"VLOOKUP(H15,Results!$A$8:$G$104,4,FALSE)","v":{"$error":"#N/A"}},{"$f":"VLOOKUP(H15,Results!$A$8:$G$104,7,FALSE)","v":{"$error":"#N/A"}},{"$f":"VLOOKUP(H15,$B$4:B15,1,FALSE)","v":{"$error":"#N/A"}}]
[null,{"$f":"Results!A19","v":1509},{"$f":"Results!C19","v":"Frazer"},{"$f":"Results!B19","v":"Watson"},{"$f":"Results!D19","v":"FDWG"},{"$f":"Results!G19","v":"Kingdom of Axum"},"- vs -",{"$f":"VLOOKUP(B16,Results!$A$8:$AR$104,44,FALSE)","v":0},{"$f":"VLOOKUP(H16,Results!A$8:$G$104,3,FALSE)","v":{"$error":"#N/A"}},{"$f":"VLOOKUP(H16,Results!$A$8:$G$104,2,FALSE)","v":{"$error":"#N/A"}},{"$f":"VLOOKUP(H16,Results!$A$8:$G$104,4,FALSE)","v":{"$error":"#N/A"}},{"$f":"VLOOKUP(H16,Results!$A$8:$G$104,7,FALSE)","v":{"$error":"#N/A"}},{"$f":"VLOOKUP(H16,$B$4:B16,1,FALSE)","v":{"$error":"#N/A"}}]
[null,{"$f":"Results!A20","v":715},{"$f":"Results!C20","v":"Gordon"},{"$f":"Results!B20","v":"Jamieson"},{"$f":"Results!D20","v":"CLWC"},{"$f":"Results!G20","v":""},"- vs -",{"$f":"VLOOKUP(B17,Results!$A$8:$AR$104,44,FALSE)","v":0},{"$f":"VLOOKUP(H17,Results!A$8:$G$104,3,FALSE)","v":{"$error":"#N/A"}},{"$f":"VLOOKUP(H17,Results!$A$8:$G$104,2,FALSE)","v":{"$error":"#N/A"}},{"$f":"VLOOKUP(H17,Results!$A$8:$G$104,4,FALSE)","v":{"$error":"#N/A"}},{"$f":"VLOOKUP(H17,Results!$A$8:$G$104,7,FALSE)","v":{"$error":"#N/A"}},{"$f":"VLOOKUP(H17,$B$4:B17,1,FALSE)","v":{"$error":"#N/A"}}]
[null,{"$f":"Results!A21","v":1131},{"$f":"Results!C21","v":"Gordon"},{"$f":"Results!B21","v":"Miller"},{"$f":"Results!D21","v":"FDWC"},{"$f":"Results!G21","v":""},"- vs -",{"$f":"VLOOKUP(B18,Results!$A$8:$AR$104,44,FALSE)","v":0},{"$f":"VLOOKUP(H18,Results!A$8:$G$104,3,FALSE)","v":{"$error":"#N/A"}},{"$f":"VLOOKUP(H18,Results!$A$8:$G$104,2,FALSE)","v":{"$error":"#N/A"}},{"$f":"VLOOKUP(H18,Results!$A$8:$G$104,4,FALSE)","v":{"$error":"#N/A"}},{"$f":"VLOOKUP(H18,Results!$A$8:$G$104,7,FALSE)","v":{"$error":"#N/A"}},{"$f":"VLOOKUP(H18,$B$4:B18,1,FALSE)","v":{"$error":"#N/A"}}]
[null,{"$f":"Results!A22","v":1483},{"$f":"Results!C22","v":"Ian"},{"$f":"Results!B22","v":"Sewell"},{"$f":"Results!D22","v":"WAR"},{"$f":"Results!G22","v":""},"- vs -",{"$f":"VLOOKUP(B19,Results!$A$8:$AR$104,44,FALSE)","v":0},{"$f":"VLOOKUP(H19,Results!A$8:$G$104,3,FALSE)","v":{"$error":"#N/A"}},{"$f":"VLOOKUP(H19,Results!$A$8:$G$104,2,FALSE)","v":{"$error":"#N/A"}},{"$f":"VLOOKUP(H19,Results!$A$8:$G$104,4,FALSE)","v":{"$error":"#N/A"}},{"$f":"VLOOKUP(H19,Results!$A$8:$G$104,7,FALSE)","v":{"$error":"#N/A"}},{"$f":"VLOOKUP(H19,$B$4:B19,1,FALSE)","v":{"$error":"#N/A"}}]
[null,{"$f":"Results!A23","v":1538},{"$f":"Results!C23","v":"James"},{"$f":"Results!B23","v":"Gibson"},{"$f":"Results!D23","v":"FDWG"},{"$f":"Results!G23","v":""},"- vs -",{"$f":"VLOOKUP(B20,Results!$A$8:$AR$104,44,FALSE)","v":0},{"$f":"VLOOKUP(H20,Results!A$8:$G$104,3,FALSE)","v":{"$error":"#N/A"}},{"$f":"VLOOKUP(H20,Results!$A$8:$G$104,2,FALSE)","v":{"$error":"#N/A"}},{"$f":"VLOOKUP(H20,Results!$A$8:$G$104,4,FALSE)","v":{"$error":"#N/A"}},{"$f":"VLOOKUP(H20,Results!$A$8:$G$104,7,FALSE)","v":{"$error":"#N/A"}},{"$f":"VLOOKUP(H20,$B$4:B20,1,FALSE)","v":{"$error":"#N/A"}}]
[null,{"$f":"Results!A24","v":485},{"$f":"Results!C24","v":"Jesse"},{"$f":"Results!B24","v":"Schoor"},{"$f":"Results!D24","v":"WAR"},{"$f":"Results!G24","v":""},"- vs -",{"$f":"VLOOKUP(B21,Results!$A$8:$AR$104,44,FALSE)","v":0},{"$f":"VLOOKUP(H21,Results!A$8:$G$104,3,FALSE)","v":{"$error":"#N/A"}},{"$f":"VLOOKUP(H21,Results!$A$8:$G$104,2,FALSE)","v":{"$error":"#N/A"}},{"$f":"VLOOKUP(H21,Results!$A$8:$G$104,4,FALSE)","v":{"$error":"#N/A"}},{"$f":"VLOOKUP(H21,Results!$A$8:$G$104,7,FALSE)","v":{"$error":"#N/A"}},{"$f":"VLOOKUP(H21,$B$4:B21,1,FALSE)","v":{"$error":"#N/A"}}]
[null,{"$f":"Results!A25","v":795},{"$f":"Results!C25","v":"Mark"},{"$f":"Results!B25","v":"Fry"},{"$f":"Results!D25","v":"Bristol"},{"$f":"Results!G25","v":""},"- vs -",{"$f":"VLOOKUP(B22,Results!$A$8:$AR$104,44,FALSE)","v":0},{"$f":"VLOOKUP(H22,Results!A$8:$G$104,3,FALSE)","v":{"$error":"#N/A"}},{"$f":"VLOOKUP(H22,Results!$A$8:$G$104,2,FALSE)","v":{"$error":"#N/A"}},{"$f":"VLOOKUP(H22,Results!$A$8:$G$104,4,FALSE)","v":{"$error":"#N/A"}},{"$f":"VLOOKUP(H22,Results!$A$8:$G$104,7,FALSE)","v":{"$error":"#N/A"}},{"$f":"VLOOKUP(H22,$B$4:B22,1,FALSE)","v":{"$error":"#N/A"}}]
[null,{"$f":"Results!A26","v":1807},{"$f":"Results!C26","v":"Mark"},{"$f":"Results!B26","v":"Gilby"},{"$f":"Results!D26","v":"CLWC"},{"$f":"Results!G26","v":""},"- vs -",{"$f":"VLOOKUP(B23,Results!$A$8:$AR$104,44,FALSE)","v":0},{"$f":"VLOOKUP(H23,Results!A$8:$G$104,3,FALSE)","v":{"$error":"#N/A"}},{"$f":"VLOOKUP(H23,Results!$A$8:$G$104,2,FALSE)","v":{"$error":"#N/A"}},{"$f":"VLOOKUP(H23,Results!$A$8:$G$104,4,FALSE)","v":{"$error":"#N/A"}},{"$f":"VLOOKUP(H23,Results!$A$8:$G$104,7,FALSE)","v":{"$error":"#N/A"}},{"$f":"VLOOKUP(H23,$B$4:B23,1,FALSE)","v":{"$error":"#N/A"}}]
[null,{"$f":"Results!A27","v":858},{"$f":"Results!C27","v":"Mike"},{"$f":"Results!B27","v":"Bennett"},{"$f":"Results!D27","v":"Carnforth"},{"$f":"Results!G27","v":""},"- vs -",{"$f":"VLOOKUP(B24,Results!$A$8:$AR$104,44,FALSE)","v":0},{"$f":"VLOOKUP(H24,Results!A$8:$G$104,3,FALSE)","v":{"$error":"#N/A"}},{"$f":"VLOOKUP(H24,Results!$A$8:$G$104,2,FALSE)","v":{"$error":"#N/A"}},{"$f":"VLOOKUP(H24,Results!$A$8:$G$104,4,FALSE)","v":{"$error":"#N/A"}},{"$f":"VLOOKUP(H24,Results!$A$8:$G$104,7,FALSE)","v":{"$error":"#N/A"}},{"$f":"VLOOKUP(H24,$B$4:B24,1,FALSE)","v":{"$error":"#N/A"}}]
[null,{"$f":"Results!A28","v":1015},{"$f":"Results!C28","v":"Nik"},{"$f":"Results!B28","v":"Sharp"},{"$f":"Results!D28","v":"Warlords"},{"$f":"Results!G28","v":""},"- vs -",{"$f":"VLOOKUP(B25,Results!$A$8:$AR$104,44,FALSE)","v":0},{"$f":"VLOOKUP(H25,Results!A$8:$G$104,3,FALSE)","v":{"$error":"#N/A"}},{"$f":"VLOOKUP(H25,Results!$A$8:$G$104,2,FALSE)","v":{"$error":"#N/A"}},{"$f":"VLOOKUP(H25,Results!$A$8:$G$104,4,FALSE)","v":{"$error":"#N/A"}},{"$f":"VLOOKUP(H25,Results!$A$8:$G$104,7,FALSE)","v":{"$error":"#N/A"}},{"$f":"VLOOKUP(H25,$B$4:B25,1,FALSE)","v":{"$error":"#N/A"}}]
[null,{"$f":"Results!A29","v":1308},{"$f":"Results!C29","v":"Paul"},{"$f":"Results!B29","v":"Dawson"},{"$f":"Results!D29","v":"York"},{"$f":"Results!G29","v":""},"- vs -",{"$f":"VLOOKUP(B26,Results!$A$8:$AR$104,44,FALSE)","v":0},{"$f":"VLOOKUP(H26,Results!A$8:$G$104,3,FALSE)","v":{"$error":"#N/A"}},{"$f":"VLOOKUP(H26,Results!$A$8:$G$104,2,FALSE)","v":{"$error":"#N/A"}},{"$f":"VLOOKUP(H26,Results!$A$8:$G$104,4,FALSE)","v":{"$error":"#N/A"}},{"$f":"VLOOKUP(H26,Results!$A$8:$G$104,7,FALSE)","v":{"$error":"#N/A"}},{"$f":"VLOOKUP(H26,$B$4:B26,1,FALSE)","v":{"$error":"#N/A"}}]
[null,{"$f":"Results!A30","v":1309},{"$f":"Results!C30","v":"Paul"},{"$f":"Results!B30","v":"Johnston"},{"$f":"Results!D30","v":"York"},{"$f":"Results!G30","v":""},"- vs -",{"$f":"VLOOKUP(B27,Results!$A$8:$AR$104,44,FALSE)","v":0},{"$f":"VLOOKUP(H27,Results!A$8:$G$104,3,FALSE)","v":{"$error":"#N/A"}},{"$f":"VLOOKUP(H27,Results!$A$8:$G$104,2,FALSE)","v":{"$error":"#N/A"}},{"$f":"VLOOKUP(H27,Results!$A$8:$G$104,4,FALSE)","v":{"$error":"#N/A"}},{"$f":"VLOOKUP(H27,Results!$A$8:$G$104,7,FALSE)","v":{"$error":"#N/A"}},{"$f":"VLOOKUP(H27,$B$4:B27,1,FALSE)","v":{"$error":"#N/A"}}]
[null,{"$f":"Results!A31","v":1239},{"$f":"Results!C31","v":"Paul"},{"$f":"Results!B31","v":"Frith"},{"$f":"Results!D31","v":"Dorset Nomads"},{"$f":"Results!G31","v":""},"- vs -",{"$f":"VLOOKUP(B28,Results!$A$8:$AR$104,44,FALSE)","v":0},{"$f":"VLOOKUP(H28,Results!A$8:$G$104,3,FALSE)","v":{"$error":"#N/A"}},{"$f":"VLOOKUP(H28,Results!$A$8:$G$104,2,FALSE)","v":{"$error":"#N/A"}},{"$f":"VLOOKUP(H28,Results!$A$8:$G$104,4,FALSE)","v":{"$error":"#N/A"}},{"$f":"VLOOKUP(H28,Results!$A$8:$G$104,7,FALSE)","v":{"$error":"#N/A"}},{"$f":"VLOOKUP(H28,$B$4:B28,1,FALSE)","v":{"$error":"#N/A"}}]
[null,{"$f":"Results!A32","v":1536},{"$f":"Results!C32","v":"Pete"},{"$f":"Results!B32","v":"Sanger"},{"$f":"Results!D32","v":"Pompey"},{"$f":"Results!G32","v":""},"- vs -",{"$f":"VLOOKUP(B29,Results!$A$8:$AR$104,44,FALSE)","v":0},{"$f":"VLOOKUP(H29,Results!A$8:$G$104,3,FALSE)","v":{"$error":"#N/A"}},{"$f":"VLOOKUP(H29,Results!$A$8:$G$104,2,FALSE)","v":{"$error":"#N/A"}},{"$f":"VLOOKUP(H29,Results!$A$8:$G$104,4,FALSE)","v":{"$error":"#N/A"}},{"$f":"VLOOKUP(H29,Results!$A$8:$G$104,7,FALSE)","v":{"$error":"#N/A"}},{"$f":"VLOOKUP(H29,$B$4:B29,1,FALSE)","v":{"$error":"#N/A"}}]
[null,{"$f":"Results!A33","v":772},{"$f":"Results!C33","v":"Richard"},{"$f":"Results!B33","v":"Young"},{"$f":"Results!D33","v":"SOA"},{"$f":"Results!G33","v":""},"- vs -",{"$f":"VLOOKUP(B30,Results!$A$8:$AR$104,44,FALSE)","v":0},{"$f":"VLOOKUP(H30,Results!A$8:$G$104,3,FALSE)","v":{"$error":"#N/A"}},{"$f":"VLOOKUP(H30,Results!$A$8:$G$104,2,FALSE)","v":{"$error":"#N/A"}},{"$f":"VLOOKUP(H30,Results!$A$8:$G$104,4,FALSE)","v":{"$error":"#N/A"}},{"$f":"VLOOKUP(H30,Results!$A$8:$G$104,7,FALSE)","v":{"$error":"#N/A"}},{"$f":"VLOOKUP(H30,$B$4:B30,1,FALSE)","v":{"$error":"#N/A"}}]
[null,{"$f":"Results!A34","v":1318},{"$f":"Results!C34","v":"Rob"},{"$f":"Results!B34","v":"Taylor"},{"$f":"Results!D34","v":"Westow"},{"$f":"Results!G34","v":""},"- vs -",{"$f":"VLOOKUP(B31,Results!$A$8:$AR$104,44,FALSE)","v":0},{"$f":"VLOOKUP(H31,Results!A$8:$G$104,3,FALSE)","v":{"$error":"#N/A"}},{"$f":"VLOOKUP(H31,Results!$A$8:$G$104,2,FALSE)","v":{"$error":"#N/A"}},{"$f":"VLOOKUP(H31,Results!$A$8:$G$104,4,FALSE)","v":{"$error":"#N/A"}},{"$f":"VLOOKUP(H31,Results!$A$8:$G$104,7,FALSE)","v":{"$error":"#N/A"}},{"$f":"VLOOKUP(H31,$B$4:B31,1,FALSE)","v":{"$error":"#N/A"}}]
[null,{"$f":"Results!A35","v":1222},{"$f":"Results!C35","v":"Robert"},{"$f":"Results!B35","v":"Middlemist"},{"$f":"Results!D35","v":"Durham"},{"$f":"Results!G35","v":""},"- vs -",{"$f":"VLOOKUP(B32,Results!$A$8:$AR$104,44,FALSE)","v":0},{"$f":"VLOOKUP(H32,Results!A$8:$G$104,3,FALSE)","v":{"$error":"#N/A"}},{"$f":"VLOOKUP(H32,Results!$A$8:$G$104,2,FALSE)","v":{"$error":"#N/A"}},{"$f":"VLOOKUP(H32,Results!$A$8:$G$104,4,FALSE)","v":{"$error":"#N/A"}},{"$f":"VLOOKUP(H32,Results!$A$8:$G$104,7,FALSE)","v":{"$error":"#N/A"}},{"$f":"VLOOKUP(H32,$B$4:B32,1,FALSE)","v":{"$error":"#N/A"}}]
[null,{"$f":"Results!A36","v":1008},{"$f":"Results!C36","v":"Robin"},{"$f":"Results!B36","v":"Jackson"},{"$f":"Results!D36","v":"God Knows"},{"$f":"Results!G36","v":""},"- vs -",{"$f":"VLOOKUP(B33,Results!$A$8:$AR$104,44,FALSE)","v":0},{"$f":"VLOOKUP(H33,Results!A$8:$G$104,3,FALSE)","v":{"$error":"#N/A"}},{"$f":"VLOOKUP(H33,Results!$A$8:$G$104,2,FALSE)","v":{"$error":"#N/A"}},{"$f":"VLOOKUP(H33,Results!$A$8:$G$104,4,FALSE)","v":{"$error":"#N/A"}},{"$f":"VLOOKUP(H33,Results!$A$8:$G$104,7,FALSE)","v":{"$error":"#N/A"}},{"$f":"VLOOKUP(H33,$B$4:B33,1,FALSE)","v":{"$error":"#N/A"}}]
[null,{"$f":"Results!A37","v":1418},{"$f":"Results!C37","v":"Stephen"},{"$f":"Results!B37","v":"Nice"},{"$f":"Results!D37","v":"WAR"},{"$f":"Results!G37","v":""},"- vs -",{"$f":"VLOOKUP(B34,Results!$A$8:$AR$104,44,FALSE)","v":0},{"$f":"VLOOKUP(H34,Results!A$8:$G$104,3,FALSE)","v":{"$error":"#N/A"}},{"$f":"VLOOKUP(H34,Results!$A$8:$G$104,2,FALSE)","v":{"$error":"#N/A"}},{"$f":"VLOOKUP(H34,Results!$A$8:$G$104,4,FALSE)","v":{"$error":"#N/A"}},{"$f":"VLOOKUP(H34,Results!$A$8:$G$104,7,FALSE)","v":{"$error":"#N/A"}},{"$f":"VLOOKUP(H34,$B$4:B34,1,FALSE)","v":{"$error":"#N/A"}}]
[null,{"$f":"Results!A38","v":712},{"$f":"Results!C38","v":"Tim"},{"$f":"Results!B38","v":"Porter"},{"$f":"Results!D38","v":"CLWC"},{"$f":"Results!G38","v":"Parthian"},"- vs -",{"$f":"VLOOKUP(B35,Results!$A$8:$AR$104,44,FALSE)","v":0},{"$f":"VLOOKUP(H35,Results!A$8:$G$104,3,FALSE)","v":{"$error":"#N/A"}},{"$f":"VLOOKUP(H35,Results!$A$8:$G$104,2,FALSE)","v":{"$error":"#N/A"}},{"$f":"VLOOKUP(H35,Results!$A$8:$G$104,4,FALSE)","v":{"$error":"#N/A"}},{"$f":"VLOOKUP(H35,Results!$A$8:$G$104,7,FALSE)","v":{"$error":"#N/A"}},{"$f":"VLOOKUP(H35,$B$4:B35,1,FALSE)","v":{"$error":"#N/A"}}]
[null,{"$f":"Results!A39","v":0},{"$f":"Results!C39","v":0},{"$f":"Results!B39","v":0},{"$f":"Results!D39","v":0},{"$f":"Results!G39","v":""},"- vs -",{"$f":"VLOOKUP(B36,Results!$A$8:$AR$104,44,FALSE)","v":{"$error":"#N/A"}},{"$f":"VLOOKUP(H36,Results!A$8:$G$104,3,FALSE)","v":{"$error":"#N/A"}},{"$f":"VLOOKUP(H36,Results!$A$8:$G$104,2,FALSE)","v":{"$error":"#N/A"}},{"$f":"VLOOKUP(H36,Results!$A$8:$G$104,4,FALSE)","v":{"$error":"#N/A"}},{"$f":"VLOOKUP(H36,Results!$A$8:$G$104,7,FALSE)","v":{"$error":"#N/A"}},{"$f":"VLOOKUP(H36,$B$4:B36,1,FALSE)","v":{"$error":"#N/A"}}]
[null,{"$f":"Results!A40","v":0},{"$f":"Results!C40","v":0},{"$f":"Results!B40","v":0},{"$f":"Results!D40","v":0},{"$f":"Results!G40","v":""},"- vs -",{"$f":"VLOOKUP(B37,Results!$A$8:$AR$104,44,FALSE)","v":{"$error":"#N/A"}},{"$f":"VLOOKUP(H37,Results!A$8:$G$104,3,FALSE)","v":{"$error":"#N/A"}},{"$f":"VLOOKUP(H37,Results!$A$8:$G$104,2,FALSE)","v":{"$error":"#N/A"}},{"$f":"VLOOKUP(H37,Results!$A$8:$G$104,4,FALSE)","v":{"$error":"#N/A"}},{"$f":"VLOOKUP(H37,Results!$A$8:$G$104,7,FALSE)","v":{"$error":"#N/A"}},{"$f":"VLOOKUP(H37,$B$4:B37,1,FALSE)","v":{"$error":"#N/A"}}]
[null,{"$f":"Results!A41","v":0},{"$f":"Results!C41","v":0},{"$f":"Results!B41","v":0},{"$f":"Results!D41","v":0},{"$f":"Results!G41","v":""},"- vs -",{"$f":"VLOOKUP(B38,Results!$A$8:$AR$104,44,FALSE)","v":{"$error":"#N/A"}},{"$f":"VLOOKUP(H38,Results!A$8:$G$104,3,FALSE)","v":{"$error":"#N/A"}},{"$f":"VLOOKUP(H38,Results!$A$8:$G$104,2,FALSE)","v":{"$error":"#N/A"}},{"$f":"VLOOKUP(H38,Results!$A$8:$G$104,4,FALSE)","v":{"$error":"#N/A"}},{"$f":"VLOOKUP(H38,Results!$A$8:$G$104,7,FALSE)","v":{"$error":"#N/A"}},{"$f":"VLOOKUP(H38,$B$4:B38,1,FALSE)","v":{"$error":"#N/A"}}]
[null,{"$f":"Results!A42","v":0},{"$f":"Results!C42","v":0},{"$f":"Results!B42","v":0},{"$f":"Results!D42","v":0},{"$f":"Results!G42","v":""},"- vs -",{"$f":"VLOOKUP(B39,Results!$A$8:$AR$104,44,FALSE)","v":{"$error":"#N/A"}},{"$f":"VLOOKUP(H39,Results!A$8:$G$104,3,FALSE)","v":{"$error":"#N/A"}},{"$f":"VLOOKUP(H39,Results!$A$8:$G$104,2,FALSE)","v":{"$error":"#N/A"}},{"$f":"VLOOKUP(H39,Results!$A$8:$G$104,4,FALSE)","v":{"$error":"#N/A"}},{"$f":"VLOOKUP(H39,Results!$A$8:$G$104,7,FALSE)","v":{"$error":"#N/A"}},{"$f":"VLOOKUP(H39,$B$4:B39,1,FALSE)","v":{"$error":"#N/A"}}]
[null,{"$f":"Results!A43","v":0},{"$f":"Results!C43","v":0},{"$f":"Results!B43","v":0},{"$f":"Results!D43","v":0},{"$f":"Results!G43","v":""},"- vs -",{"$f":"VLOOKUP(B40,Results!$A$8:$AR$104,44,FALSE)","v":{"$error":"#N/A"}},{"$f":"VLOOKUP(H40,Results!A$8:$G$104,3,FALSE)","v":{"$error":"#N/A"}},{"$f":"VLOOKUP(H40,Results!$A$8:$G$104,2,FALSE)","v":{"$error":"#N/A"}},{"$f":"VLOOKUP(H40,Results!$A$8:$G$104,4,FALSE)","v":{"$error":"#N/A"}},{"$f":"VLOOKUP(H40,Results!$A$8:$G$104,7,FALSE)","v":{"$error":"#N/A"}},{"$f":"VLOOKUP(H40,$B$4:B40,1,FALSE)","v":{"$error":"#N/A"}}]
[null,{"$f":"Results!A44","v":0},{"$f":"Results!C44","v":0},{"$f":"Results!B44","v":0},{"$f":"Results!D44","v":0},{"$f":"Results!G44","v":""},"- vs -",{"$f":"VLOOKUP(B41,Results!$A$8:$AR$104,44,FALSE)","v":{"$error":"#N/A"}},{"$f":"VLOOKUP(H41,Results!A$8:$G$104,3,FALSE)","v":{"$error":"#N/A"}},{"$f":"VLOOKUP(H41,Results!$A$8:$G$104,2,FALSE)","v":{"$error":"#N/A"}},{"$f":"VLOOKUP(H41,Results!$A$8:$G$104,4,FALSE)","v":{"$error":"#N/A"}},{"$f":"VLOOKUP(H41,Results!$A$8:$G$104,7,FALSE)","v":{"$error":"#N/A"}},{"$f":"VLOOKUP(H41,$B$4:B41,1,FALSE)","v":{"$error":"#N/A"}}]
[null,{"$f":"Results!A45","v":0},{"$f":"Results!C45","v":0},{"$f":"Results!B45","v":0},{"$f":"Results!D45","v":0},{"$f":"Results!G45","v":""},"- vs -",{"$f":"VLOOKUP(B42,Results!$A$8:$AR$104,44,FALSE)","v":{"$error":"#N/A"}},{"$f":"VLOOKUP(H42,Results!A$8:$G$104,3,FALSE)","v":{"$error":"#N/A"}},{"$f":"VLOOKUP(H42,Results!$A$8:$G$104,2,FALSE)","v":{"$error":"#N/A"}},{"$f":"VLOOKUP(H42,Results!$A$8:$G$104,4,FALSE)","v":{"$error":"#N/A"}},{"$f":"VLOOKUP(H42,Results!$A$8:$G$104,7,FALSE)","v":{"$error":"#N/A"}},{"$f":"VLOOKUP(H42,$B$4:B42,1,FALSE)","v":{"$error":"#N/A"}}]
[null,{"$f":"Results!A46","v":0},{"$f":"Results!C46","v":0},{"$f":"Results!B46","v":0},{"$f":"Results!D46","v":0},{"$f":"Results!G46","v":""},"- vs -",{"$f":"VLOOKUP(B43,Results!$A$8:$AR$104,44,FALSE)","v":{"$error":"#N/A"}},{"$f":"VLOOKUP(H43,Results!A$8:$G$104,3,FALSE)","v":{"$error":"#N/A"}},{"$f":"VLOOKUP(H43,Results!$A$8:$G$104,2,FALSE)","v":{"$error":"#N/A"}},{"$f":"VLOOKUP(H43,Results!$A$8:$G$104,4,FALSE)","v":{"$error":"#N/A"}},{"$f":"VLOOKUP(H43,Results!$A$8:$G$104,7,FALSE)","v":{"$error":"#N/A"}},{"$f":"VLOOKUP(H43,$B$4:B43,1,FALSE)","v":{"$error":"#N/A"}}]
[null,{"$f":"Results!A47","v":0},{"$f":"Results!C47","v":0},{"$f":"Results!B47","v":0},{"$f":"Results!D47","v":0},{"$f":"Results!G47","v":""},"- vs -",{"$f":"VLOOKUP(B44,Results!$A$8:$AR$104,44,FALSE)","v":{"$error":"#N/A"}},{"$f":"VLOOKUP(H44,Results!A$8:$G$104,3,FALSE)","v":{"$error":"#N/A"}},{"$f":"VLOOKUP(H44,Results!$A$8:$G$104,2,FALSE)","v":{"$error":"#N/A"}},{"$f":"VLOOKUP(H44,Results!$A$8:$G$104,4,FALSE)","v":{"$error":"#N/A"}},{"$f":"VLOOKUP(H44,Results!$A$8:$G$104,7,FALSE)","v":{"$error":"#N/A"}},{"$f":"VLOOKUP(H44,$B$4:B44,1,FALSE)","v":{"$error":"#N/A"}}]
[null,{"$f":"Results!A48","v":0},{"$f":"Results!C48","v":0},{"$f":"Results!B48","v":0},{"$f":"Results!D48","v":0},{"$f":"Results!G48","v":""},"- vs -",{"$f":"VLOOKUP(B45,Results!$A$8:$AR$104,44,FALSE)","v":{"$error":"#N/A"}},{"$f":"VLOOKUP(H45,Results!A$8:$G$104,3,FALSE)","v":{"$error":"#N/A"}},{"$f":"VLOOKUP(H45,Results!$A$8:$G$104,2,FALSE)","v":{"$error":"#N/A"}},{"$f":"VLOOKUP(H45,Results!$A$8:$G$104,4,FALSE)","v":{"$error":"#N/A"}},{"$f":"VLOOKUP(H45,Results!$A$8:$G$104,7,FALSE)","v":{"$error":"#N/A"}},{"$f":"VLOOKUP(H45,$B$4:B45,1,FALSE)","v":{"$error":"#N/A"}}]
[null,{"$f":"Results!A49","v":0},{"$f":"Results!C49","v":0},{"$f":"Results!B49","v":0},{"$f":"Results!D49","v":0},{"$f":"Results!G49","v":""},"- vs -",{"$f":"VLOOKUP(B46,Results!$A$8:$AR$104,44,FALSE)","v":{"$error":"#N/A"}},{"$f":"VLOOKUP(H46,Results!A$8:$G$104,3,FALSE)","v":{"$error":"#N/A"}},{"$f":"VLOOKUP(H46,Results!$A$8:$G$104,2,FALSE)","v":{"$error":"#N/A"}},{"$f":"VLOOKUP(H46,Results!$A$8:$G$104,4,FALSE)","v":{"$error":"#N/A"}},{"$f":"VLOOKUP(H46,Results!$A$8:$G$104,7,FALSE)","v":{"$error":"#N/A"}},{"$f":"VLOOKUP(H46,$B$4:B46,1,FALSE)","v":{"$error":"#N/A"}}]
[null,{"$f":"Results!A50","v":0},{"$f":"Results!C50","v":0},{"$f":"Results!B50","v":0},{"$f":"Results!D50","v":0},{"$f":"Results!G50","v":""},"- vs -",{"$f":"VLOOKUP(B47,Results!$A$8:$AR$104,44,FALSE)","v":{"$error":"#N/A"}},{"$f":"VLOOKUP(H47,Results!A$8:$G$104,3,FALSE)","v":{"$error":"#N/A"}},{"$f":"VLOOKUP(H47,Results!$A$8:$G$104,2,FALSE)","v":{"$error":"#N/A"}},{"$f":"VLOOKUP(H47,Results!$A$8:$G$104,4,FALSE)","v":{"$error":"#N/A"}},{"$f":"VLOOKUP(H47,Results!$A$8:$G$104,7,FALSE)","v":{"$error":"#N/A"}},{"$f":"VLOOKUP(H47,$B$4:B47,1,FALSE)","v":{"$error":"#N/A"}}]
[null,{"$f":"Results!A51","v":0},{"$f":"Results!C51","v":0},{"$f":"Results!B51","v":0},{"$f":"Results!D51","v":0},{"$f":"Results!G51","v":""},"- vs -",{"$f":"VLOOKUP(B48,Results!$A$8:$AR$104,44,FALSE)","v":{"$error":"#N/A"}},{"$f":"VLOOKUP(H48,Results!A$8:$G$104,3,FALSE)","v":{"$error":"#N/A"}},{"$f":"VLOOKUP(H48,Results!$A$8:$G$104,2,FALSE)","v":{"$error":"#N/A"}},{"$f":"VLOOKUP(H48,Results!$A$8:$G$104,4,FALSE)","v":{"$error":"#N/A"}},{"$f":"VLOOKUP(H48,Results!$A$8:$G$104,7,FALSE)","v":{"$error":"#N/A"}},{"$f":"VLOOKUP(H48,$B$4:B48,1,FALSE)","v":{"$error":"#N/A"}}]
[null,{"$f":"Results!A52","v":0},{"$f":"Results!C52","v":0},{"$f":"Results!B52","v":0},{"$f":"Results!D52","v":0},{"$f":"Results!G52","v":""},"- vs -",{"$f":"VLOOKUP(B49,Results!$A$8:$AR$104,44,FALSE)","v":{"$error":"#N/A"}},{"$f":"VLOOKUP(H49,Results!A$8:$G$104,3,FALSE)","v":{"$error":"#N/A"}},{"$f":"VLOOKUP(H49,Results!$A$8:$G$104,2,FALSE)","v":{"$error":"#N/A"}},{"$f":"VLOOKUP(H49,Results!$A$8:$G$104,4,FALSE)","v":{"$error":"#N/A"}},{"$f":"VLOOKUP(H49,Results!$A$8:$G$104,7,FALSE)","v":{"$error":"#N/A"}},{"$f":"VLOOKUP(H49,$B$4:B49,1,FALSE)","v":{"$error":"#N/A"}}]
[null,{"$f":"Results!A53","v":0},{"$f":"Results!C53","v":0},{"$f":"Results!B53","v":0},{"$f":"Results!D53","v":0},{"$f":"Results!G53","v":""},"- vs -",{"$f":"VLOOKUP(B50,Results!$A$8:$AR$104,44,FALSE)","v":{"$error":"#N/A"}},{"$f":"VLOOKUP(H50,Results!A$8:$G$104,3,FALSE)","v":{"$error":"#N/A"}},{"$f":"VLOOKUP(H50,Results!$A$8:$G$104,2,FALSE)","v":{"$error":"#N/A"}},{"$f":"VLOOKUP(H50,Results!$A$8:$G$104,4,FALSE)","v":{"$error":"#N/A"}},{"$f":"VLOOKUP(H50,Results!$A$8:$G$104,7,FALSE)","v":{"$error":"#N/A"}},{"$f":"VLOOKUP(H50,$B$4:B50,1,FALSE)","v":{"$error":"#N/A"}}]
[null,{"$f":"Results!A54","v":0},{"$f":"Results!C54","v":0},{"$f":"Results!B54","v":0},{"$f":"Results!D54","v":0},{"$f":"Results!G54","v":""},"- vs -",{"$f":"VLOOKUP(B51,Results!$A$8:$AR$104,44,FALSE)","v":{"$error":"#N/A"}},{"$f":"VLOOKUP(H51,Results!A$8:$G$104,3,FALSE)","v":{"$error":"#N/A"}},{"$f":"VLOOKUP(H51,Results!$A$8:$G$104,2,FALSE)","v":{"$error":"#N/A"}},{"$f":"VLOOKUP(H51,Results!$A$8:$G$104,4,FALSE)","v":{"$error":"#N/A"}},{"$f":"VLOOKUP(H51,Results!$A$8:$G$104,7,FALSE)","v":{"$error":"#N/A"}},{"$f":"VLOOKUP(H51,$B$4:B51,1,FALSE)","v":{"$error":"#N/A"}}]
[null,{"$f":"Results!A55","v":0},{"$f":"Results!C55","v":0},{"$f":"Results!B55","v":0},{"$f":"Results!D55","v":0},{"$f":"Results!G55","v":""},"- vs -",{"$f":"VLOOKUP(B52,Results!$A$8:$AR$104,44,FALSE)","v":{"$error":"#N/A"}},{"$f":"VLOOKUP(H52,Results!A$8:$G$104,3,FALSE)","v":{"$error":"#N/A"}},{"$f":"VLOOKUP(H52,Results!$A$8:$G$104,2,FALSE)","v":{"$error":"#N/A"}},{"$f":"VLOOKUP(H52,Results!$A$8:$G$104,4,FALSE)","v":{"$error":"#N/A"}},{"$f":"VLOOKUP(H52,Results!$A$8:$G$104,7,FALSE)","v":{"$error":"#N/A"}},{"$f":"VLOOKUP(H52,$B$4:B52,1,FALSE)","v":{"$error":"#N/A"}}]
[null,{"$f":"Results!A56","v":0},{"$f":"Results!C56","v":0},{"$f":"Results!B56","v":0},{"$f":"Results!D56","v":0},{"$f":"Results!G56","v":""},"- vs -",{"$f":"VLOOKUP(B53,Results!$A$8:$AR$104,44,FALSE)","v":{"$error":"#N/A"}},{"$f":"VLOOKUP(H53,Results!A$8:$G$104,3,FALSE)","v":{"$error":"#N/A"}},{"$f":"VLOOKUP(H53,Results!$A$8:$G$104,2,FALSE)","v":{"$error":"#N/A"}},{"$f":"VLOOKUP(H53,Results!$A$8:$G$104,4,FALSE)","v":{"$error":"#N/A"}},{"$f":"VLOOKUP(H53,Results!$A$8:$G$104,7,FALSE)","v":{"$error":"#N/A"}},{"$f":"VLOOKUP(H53,$B$4:B53,1,FALSE)","v":{"$error":"#N/A"}}]
[null,{"$f":"Results!A57","v":0},{"$f":"Results!C57","v":0},{"$f":"Results!B57","v":0},{"$f":"Results!D57","v":0},{"$f":"Results!G57","v":""},"- vs -",{"$f":"VLOOKUP(B54,Results!$A$8:$AR$104,44,FALSE)","v":{"$error":"#N/A"}},{"$f":"VLOOKUP(H54,Results!A$8:$G$104,3,FALSE)","v":{"$error":"#N/A"}},{"$f":"VLOOKUP(H54,Results!$A$8:$G$104,2,FALSE)","v":{"$error":"#N/A"}},{"$f":"VLOOKUP(H54,Results!$A$8:$G$104,4,FALSE)","v":{"$error":"#N/A"}},{"$f":"VLOOKUP(H54,Results!$A$8:$G$104,7,FALSE)","v":{"$error":"#N/A"}},{"$f":"VLOOKUP(H54,$B$4:B54,1,FALSE)","v":{"$error":"#N/A"}}]
[null,{"$f":"Results!A58","v":0},{"$f":"Results!C58","v":0},{"$f":"Results!B58","v":0},{"$f":"Results!D58","v":0},{"$f":"Results!G58","v":""},"- vs -",{"$f":"VLOOKUP(B55,Results!$A$8:$AR$104,44,FALSE)","v":{"$error":"#N/A"}},{"$f":"VLOOKUP(H55,Results!A$8:$G$104,3,FALSE)","v":{"$error":"#N/A"}},{"$f":"VLOOKUP(H55,Results!$A$8:$G$104,2,FALSE)","v":{"$error":"#N/A"}},{"$f":"VLOOKUP(H55,Results!$A$8:$G$104,4,FALSE)","v":{"$error":"#N/A"}},{"$f":"VLOOKUP(H55,Results!$A$8:$G$104,7,FALSE)","v":{"$error":"#N/A"}},{"$f":"VLOOKUP(H55,$B$4:B55,1,FALSE)","v":{"$error":"#N/A"}}]
[null,{"$f":"Results!A59","v":0},{"$f":"Results!C59","v":0},{"$f":"Results!B59","v":0},{"$f":"Results!D59","v":0},{"$f":"Results!G59","v":""},"- vs -",{"$f":"VLOOKUP(B56,Results!$A$8:$AR$104,44,FALSE)","v":{"$error":"#N/A"}},{"$f":"VLOOKUP(H56,Results!A$8:$G$104,3,FALSE)","v":{"$error":"#N/A"}},{"$f":"VLOOKUP(H56,Results!$A$8:$G$104,2,FALSE)","v":{"$error":"#N/A"}},{"$f":"VLOOKUP(H56,Results!$A$8:$G$104,4,FALSE)","v":{"$error":"#N/A"}},{"$f":"VLOOKUP(H56,Results!$A$8:$G$104,7,FALSE)","v":{"$error":"#N/A"}},{"$f":"VLOOKUP(H56,$B$4:B56,1,FALSE)","v":{"$error":"#N/A"}}]
[null,{"$f":"Results!A60","v":0},{"$f":"Results!C60","v":0},{"$f":"Results!B60","v":0},{"$f":"Results!D60","v":0},{"$f":"Results!G60","v":""},"- vs -",{"$f":"VLOOKUP(B57,Results!$A$8:$AR$104,44,FALSE)","v":{"$error":"#N/A"}},{"$f":"VLOOKUP(H57,Results!A$8:$G$104,3,FALSE)","v":{"$error":"#N/A"}},{"$f":"VLOOKUP(H57,Results!$A$8:$G$104,2,FALSE)","v":{"$error":"#N/A"}},{"$f":"VLOOKUP(H57,Results!$A$8:$G$104,4,FALSE)","v":{"$error":"#N/A"}},{"$f":"VLOOKUP(H57,Results!$A$8:$G$104,7,FALSE)","v":{"$error":"#N/A"}},{"$f":"VLOOKUP(H57,$B$4:B57,1,FALSE)","v":{"$error":"#N/A"}}]
[null,{"$f":"Results!A61","v":0},{"$f":"Results!C61","v":0},{"$f":"Results!B61","v":0},{"$f":"Results!D61","v":0},{"$f":"Results!G61","v":""},"- vs -",{"$f":"VLOOKUP(B58,Results!$A$8:$AR$104,44,FALSE)","v":{"$error":"#N/A"}},{"$f":"VLOOKUP(H58,Results!A$8:$G$104,3,FALSE)","v":{"$error":"#N/A"}},{"$f":"VLOOKUP(H58,Results!$A$8:$G$104,2,FALSE)","v":{"$error":"#N/A"}},{"$f":"VLOOKUP(H58,Results!$A$8:$G$104,4,FALSE)","v":{"$error":"#N/A"}},{"$f":"VLOOKUP(H58,Results!$A$8:$G$104,7,FALSE)","v":{"$error":"#N/A"}},{"$f":"VLOOKUP(H58,$B$4:B58,1,FALSE)","v":{"$error":"#N/A"}}]
[null,{"$f":"Results!A62","v":0},{"$f":"Results!C62","v":0},{"$f":"Results!B62","v":0},{"$f":"Results!D62","v":0},{"$f":"Results!G62","v":""},"- vs -",{"$f":"VLOOKUP(B59,Results!$A$8:$AR$104,44,FALSE)","v":{"$error":"#N/A"}},{"$f":"VLOOKUP(H59,Results!A$8:$G$104,3,FALSE)","v":{"$error":"#N/A"}},{"$f":"VLOOKUP(H59,Results!$A$8:$G$104,2,FALSE)","v":{"$error":"#N/A"}},{"$f":"VLOOKUP(H59,Results!$A$8:$G$104,4,FALSE)","v":{"$error":"#N/A"}},{"$f":"VLOOKUP(H59,Results!$A$8:$G$104,7,FALSE)","v":{"$error":"#N/A"}},{"$f":"VLOOKUP(H59,$B$4:B59,1,FALSE)","v":{"$error":"#N/A"}}]
[null,{"$f":"Results!A63","v":0},{"$f":"Results!C63","v":0},{"$f":"Results!B63","v":0},{"$f":"Results!D63","v":0},{"$f":"Results!G63","v":""},"- vs -",{"$f":"VLOOKUP(B60,Results!$A$8:$AR$104,44,FALSE)","v":{"$error":"#N/A"}},{"$f":"VLOOKUP(H60,Results!A$8:$G$104,3,FALSE)","v":{"$error":"#N/A"}},{"$f":"VLOOKUP(H60,Results!$A$8:$G$104,2,FALSE)","v":{"$error":"#N/A"}},{"$f":"VLOOKUP(H60,Results!$A$8:$G$104,4,FALSE)","v":{"$error":"#N/A"}},{"$f":"VLOOKUP(H60,Results!$A$8:$G$104,7,FALSE)","v":{"$error":"#N/A"}},{"$f":"VLOOKUP(H60,$B$4:B60,1,FALSE)","v":{"$error":"#N/A"}}]
[null,{"$f":"Results!A64","v":0},{"$f":"Results!C64","v":0},{"$f":"Results!B64","v":0},{"$f":"Results!D64","v":0},{"$f":"Results!G64","v":""},"- vs -",{"$f":"VLOOKUP(B61,Results!$A$8:$AR$104,44,FALSE)","v":{"$error":"#N/A"}},{"$f":"VLOOKUP(H61,Results!A$8:$G$104,3,FALSE)","v":{"$error":"#N/A"}},{"$f":"VLOOKUP(H61,Results!$A$8:$G$104,2,FALSE)","v":{"$error":"#N/A"}},{"$f":"VLOOKUP(H61,Results!$A$8:$G$104,4,FALSE)","v":{"$error":"#N/A"}},{"$f":"VLOOKUP(H61,Results!$A$8:$G$104,7,FALSE)","v":{"$error":"#N/A"}},{"$f":"VLOOKUP(H61,$B$4:B61,1,FALSE)","v":{"$error":"#N/A"}}]
[null,{"$f":"Results!A65","v":0},{"$f":"Results!C65","v":0},{"$f":"Results!B65","v":0},{"$f":"Results!D65","v":0},{"$f":"Results!G65","v":""},"- vs -",{"$f":"VLOOKUP(B62,Results!$A$8:$AR$104,44,FALSE)","v":{"$error":"#N/A"}},{"$f":"VLOOKUP(H62,Results!A$8:$G$104,3,FALSE)","v":{"$error":"#N/A"}},{"$f":"VLOOKUP(H62,Results!$A$8:$G$104,2,FALSE)","v":{"$error":"#N/A"}},{"$f":"VLOOKUP(H62,Results!$A$8:$G$104,4,FALSE)","v":{"$error":"#N/A"}},{"$f":"VLOOKUP(H62,Results!$A$8:$G$104,7,FALSE)","v":{"$error":"#N/A"}},{"$f":"VLOOKUP(H62,$B$4:B62,1,FALSE)","v":{"$error":"#N/A"}}]
[null,{"$f":"Results!A66","v":0},{"$f":"Results!C66","v":0},{"$f":"Results!B66","v":0},{"$f":"Results!D66","v":0},{"$f":"Results!G66","v":""},"- vs -",{"$f":"VLOOKUP(B63,Results!$A$8:$AR$104,44,FALSE)","v":{"$error":"#N/A"}},{"$f":"VLOOKUP(H63,Results!A$8:$G$104,3,FALSE)","v":{"$error":"#N/A"}},{"$f":"VLOOKUP(H63,Results!$A$8:$G$104,2,FALSE)","v":{"$error":"#N/A"}},{"$f":"VLOOKUP(H63,Results!$A$8:$G$104,4,FALSE)","v":{"$error":"#N/A"}},{"$f":"VLOOKUP(H63,Results!$A$8:$G$104,7,FALSE)","v":{"$error":"#N/A"}},{"$f":"VLOOKUP(H63,$B$4:B63,1,FALSE)","v":{"$error":"#N/A"}}]
[null,{"$f":"Results!A67","v":0},{"$f":"Results!C67","v":0},{"$f":"Results!B67","v":0},{"$f":"Results!D67","v":0},{"$f":"Results!G67","v":""},"- vs -",{"$f":"VLOOKUP(B64,Results!$A$8:$AR$104,44,FALSE)","v":{"$error":"#N/A"}},{"$f":"VLOOKUP(H64,Results!A$8:$G$104,3,FALSE)","v":{"$error":"#N/A"}},{"$f":"VLOOKUP(H64,Results!$A$8:$G$104,2,FALSE)","v":{"$error":"#N/A"}},{"$f":"VLOOKUP(H64,Results!$A$8:$G$104,4,FALSE)","v":{"$error":"#N/A"}},{"$f":"VLOOKUP(H64,Results!$A$8:$G$104,7,FALSE)","v":{"$error":"#N/A"}}]
[null,{"$f":"Results!A68","v":0},{"$f":"Results!C68","v":0},{"$f":"Results!B68","v":0},{"$f":"Results!D68","v":0},{"$f":"Results!G68","v":""},"- vs -",{"$f":"VLOOKUP(B65,Results!$A$8:$AR$104,44,FALSE)","v":{"$error":"#N/A"}},{"$f":"VLOOKUP(H65,Results!A$8:$G$104,3,FALSE)","v":{"$error":"#N/A"}},{"$f":"VLOOKUP(H65,Results!$A$8:$G$104,2,FALSE)","v":{"$error":"#N/A"}},{"$f":"VLOOKUP(H65,Results!$A$8:$G$104,4,FALSE)","v":{"$error":"#N/A"}},{"$f":"VLOOKUP(H65,Results!$A$8:$G$104,7,FALSE)","v":{"$error":"#N/A"}}]
[null,{"$f":"Results!A69","v":0},{"$f":"Results!C69","v":0},{"$f":"Results!B69","v":0},{"$f":"Results!D69","v":0},{"$f":"Results!G69","v":""},"- vs -",{"$f":"VLOOKUP(B66,Results!$A$8:$AR$104,44,FALSE)","v":{"$error":"#N/A"}},{"$f":"VLOOKUP(H66,Results!A$8:$G$104,3,FALSE)","v":{"$error":"#N/A"}},{"$f":"VLOOKUP(H66,Results!$A$8:$G$104,2,FALSE)","v":{"$error":"#N/A"}},{"$f":"VLOOKUP(H66,Results!$A$8:$G$104,4,FALSE)","v":{"$error":"#N/A"}},{"$f":"VLOOKUP(H66,Results!$A$8:$G$104,7,FALSE)","v":{"$error":"#N/A"}}]
[null,{"$f":"Results!A70","v":0},{"$f":"Results!C70","v":0},{"$f":"Results!B70","v":0},{"$f":"Results!D70","v":0},{"$f":"Results!G70","v":""},"- vs -",{"$f":"VLOOKUP(B67,Results!$A$8:$AR$104,44,FALSE)","v":{"$error":"#N/A"}},{"$f":"VLOOKUP(H67,Results!A$8:$G$104,3,FALSE)","v":{"$error":"#N/A"}},{"$f":"VLOOKUP(H67,Results!$A$8:$G$104,2,FALSE)","v":{"$error":"#N/A"}},{"$f":"VLOOKUP(H67,Results!$A$8:$G$104,4,FALSE)","v":{"$error":"#N/A"}},{"$f":"VLOOKUP(H67,Results!$A$8:$G$104,7,FALSE)","v":{"$error":"#N/A"}}]
[null,{"$f":"Results!A71","v":0},{"$f":"Results!C71","v":0},{"$f":"Results!B71","v":0},{"$f":"Results!D71","v":0},{"$f":"Results!G71","v":""},"- vs -",{"$f":"VLOOKUP(B68,Results!$A$8:$AR$104,44,FALSE)","v":{"$error":"#N/A"}},{"$f":"VLOOKUP(H68,Results!A$8:$G$104,3,FALSE)","v":{"$error":"#N/A"}},{"$f":"VLOOKUP(H68,Results!$A$8:$G$104,2,FALSE)","v":{"$error":"#N/A"}},{"$f":"VLOOKUP(H68,Results!$A$8:$G$104,4,FALSE)","v":{"$error":"#N/A"}},{"$f":"VLOOKUP(H68,Results!$A$8:$G$104,7,FALSE)","v":{"$error":"#N/A"}}]
[null,{"$f":"Results!A72","v":0},{"$f":"Results!C72","v":0},{"$f":"Results!B72","v":0},{"$f":"Results!D72","v":0},{"$f":"Results!G72","v":""},"- vs -",{"$f":"VLOOKUP(B69,Results!$A$8:$AR$104,44,FALSE)","v":{"$error":"#N/A"}},{"$f":"VLOOKUP(H69,Results!A$8:$G$104,3,FALSE)","v":{"$error":"#N/A"}},{"$f":"VLOOKUP(H69,Results!$A$8:$G$104,2,FALSE)","v":{"$error":"#N/A"}},{"$f":"VLOOKUP(H69,Results!$A$8:$G$104,4,FALSE)","v":{"$error":"#N/A"}},{"$f":"VLOOKUP(H69,Results!$A$8:$G$104,7,FALSE)","v":{"$error":"#N/A"}}]

{"sheet":"Round 7","index":15,"n_rows":69,"n_cols":13,"rows_kept":69,"cut":false,"hidden":true,"merged":[]}
[null,null,null,null,"Round 7 Draw"]
[null,null,{"$f":"Results!B3","v":"Kegworth Codgers 2024"}]
[null,null,{"$f":"Results!B4","v":"Roman Period"}]
[null,null,null,null,null,null,null,null,null,null,null,null,"VALID?"]
[null,{"$f":"Results!A8","v":486},{"$f":"Results!C8","v":"Alan"},{"$f":"Results!B8","v":"Cutner"},{"$f":"Results!D8","v":"Tradeston"},{"$f":"Results!G8","v":""},"- vs -",{"$f":"VLOOKUP(B5,Results!$A$8:$AY$104,51,FALSE)","v":0},{"$f":"VLOOKUP(H5,Results!A$8:$G$104,3,FALSE)","v":{"$error":"#N/A"}},{"$f":"VLOOKUP(H5,Results!$A$8:$G$104,2,FALSE)","v":{"$error":"#N/A"}},{"$f":"VLOOKUP(H5,Results!$A$8:$G$104,4,FALSE)","v":{"$error":"#N/A"}},{"$f":"VLOOKUP(H5,Results!$A$8:$G$104,7,FALSE)","v":{"$error":"#N/A"}},{"$f":"VLOOKUP(H5,$B$4:B5,1,FALSE)","v":{"$error":"#N/A"}}]
[null,{"$f":"Results!A9","v":1579},{"$f":"Results!C9","v":"Alistair"},{"$f":"Results!B9","v":"Wright"},{"$f":"Results!D9","v":"Millbrook"},{"$f":"Results!G9","v":""},"- vs -",{"$f":"VLOOKUP(B6,Results!$A$8:$AY$104,51,FALSE)","v":0},{"$f":"VLOOKUP(H6,Results!A$8:$G$104,3,FALSE)","v":{"$error":"#N/A"}},{"$f":"VLOOKUP(H6,Results!$A$8:$G$104,2,FALSE)","v":{"$error":"#N/A"}},{"$f":"VLOOKUP(H6,Results!$A$8:$G$104,4,FALSE)","v":{"$error":"#N/A"}},{"$f":"VLOOKUP(H6,Results!$A$8:$G$104,7,FALSE)","v":{"$error":"#N/A"}},{"$f":"VLOOKUP(H6,$B$4:B6,1,FALSE)","v":{"$error":"#N/A"}}]
[null,{"$f":"Results!A10","v":748},{"$f":"Results!C10","v":"Andrew"},{"$f":"Results!B10","v":"Whitby"},{"$f":"Results!D10","v":"Bristol"},{"$f":"Results!G10","v":""},"- vs -",{"$f":"VLOOKUP(B7,Results!$A$8:$AY$104,51,FALSE)","v":0},{"$f":"VLOOKUP(H7,Results!A$8:$G$104,3,FALSE)","v":{"$error":"#N/A"}},{"$f":"VLOOKUP(H7,Results!$A$8:$G$104,2,FALSE)","v":{"$error":"#N/A"}},{"$f":"VLOOKUP(H7,Results!$A$8:$G$104,4,FALSE)","v":{"$error":"#N/A"}},{"$f":"VLOOKUP(H7,Results!$A$8:$G$104,7,FALSE)","v":{"$error":"#N/A"}},{"$f":"VLOOKUP(H7,$B$4:B7,1,FALSE)","v":{"$error":"#N/A"}}]
[null,{"$f":"Results!A11","v":1598},{"$f":"Results!C11","v":"Andy"},{"$f":"Results!B11","v":"Fyfe"},{"$f":"Results!D11","v":"FDWG"},{"$f":"Results!G11","v":""},"- vs -",{"$f":"VLOOKUP(B8,Results!$A$8:$AY$104,51,FALSE)","v":0},{"$f":"VLOOKUP(H8,Results!A$8:$G$104,3,FALSE)","v":{"$error":"#N/A"}},{"$f":"VLOOKUP(H8,Results!$A$8:$G$104,2,FALSE)","v":{"$error":"#N/A"}},{"$f":"VLOOKUP(H8,Results!$A$8:$G$104,4,FALSE)","v":{"$error":"#N/A"}},{"$f":"VLOOKUP(H8,Results!$A$8:$G$104,7,FALSE)","v":{"$error":"#N/A"}},{"$f":"VLOOKUP(H8,$B$4:B8,1,FALSE)","v":{"$error":"#N/A"}}]
[null,{"$f":"Results!A12","v":714},{"$f":"Results!C12","v":"Andy"},{"$f":"Results!B12","v":"Gilbert"},{"$f":"Results!D12","v":"Pompey"},{"$f":"Results!G12","v":""},"- vs -",{"$f":"VLOOKUP(B9,Results!$A$8:$AY$104,51,FALSE)","v":0},{"$f":"VLOOKUP(H9,Results!A$8:$G$104,3,FALSE)","v":{"$error":"#N/A"}},{"$f":"VLOOKUP(H9,Results!$A$8:$G$104,2,FALSE)","v":{"$error":"#N/A"}},{"$f":"VLOOKUP(H9,Results!$A$8:$G$104,4,FALSE)","v":{"$error":"#N/A"}},{"$f":"VLOOKUP(H9,Results!$A$8:$G$104,7,FALSE)","v":{"$error":"#N/A"}},{"$f":"VLOOKUP(H9,$B$4:B9,1,FALSE)","v":{"$error":"#N/A"}}]
[null,{"$f":"Results!A13","v":1447},{"$f":"Results!C13","v":"Antony"},{"$f":"Results!B13","v":"Robinson"},{"$f":"Results!D13","v":"Durham"},{"$f":"Results!G13","v":""},"- vs -",{"$f":"VLOOKUP(B10,Results!$A$8:$AY$104,51,FALSE)","v":0},{"$f":"VLOOKUP(H10,Results!A$8:$G$104,3,FALSE)","v":{"$error":"#N/A"}},{"$f":"VLOOKUP(H10,Results!$A$8:$G$104,2,FALSE)","v":{"$error":"#N/A"}},{"$f":"VLOOKUP(H10,Results!$A$8:$G$104,4,FALSE)","v":{"$error":"#N/A"}},{"$f":"VLOOKUP(H10,Results!$A$8:$G$104,7,FALSE)","v":{"$error":"#N/A"}},{"$f":"VLOOKUP(H10,$B$4:B10,1,FALSE)","v":{"$error":"#N/A"}}]
[null,{"$f":"Results!A14","v":773},{"$f":"Results!C14","v":"Charles"},{"$f":"Results!B14","v":"Masefield"},{"$f":"Results!D14","v":"Oxford"},{"$f":"Results!G14","v":""},"- vs -",{"$f":"VLOOKUP(B11,Results!$A$8:$AY$104,51,FALSE)","v":0},{"$f":"VLOOKUP(H11,Results!A$8:$G$104,3,FALSE)","v":{"$error":"#N/A"}},{"$f":"VLOOKUP(H11,Results!$A$8:$G$104,2,FALSE)","v":{"$error":"#N/A"}},{"$f":"VLOOKUP(H11,Results!$A$8:$G$104,4,FALSE)","v":{"$error":"#N/A"}},{"$f":"VLOOKUP(H11,Results!$A$8:$G$104,7,FALSE)","v":{"$error":"#N/A"}},{"$f":"VLOOKUP(H11,$B$4:B11,1,FALSE)","v":{"$error":"#N/A"}}]
[null,{"$f":"Results!A15","v":1549},{"$f":"Results!C15","v":"Colin"},{"$f":"Results!B15","v":"Whittaker"},{"$f":"Results!D15","v":"Entoyment"},{"$f":"Results!G15","v":""},"- vs -",{"$f":"VLOOKUP(B12,Results!$A$8:$AY$104,51,FALSE)","v":0},{"$f":"VLOOKUP(H12,Results!A$8:$G$104,3,FALSE)","v":{"$error":"#N/A"}},{"$f":"VLOOKUP(H12,Results!$A$8:$G$104,2,FALSE)","v":{"$error":"#N/A"}},{"$f":"VLOOKUP(H12,Results!$A$8:$G$104,4,FALSE)","v":{"$error":"#N/A"}},{"$f":"VLOOKUP(H12,Results!$A$8:$G$104,7,FALSE)","v":{"$error":"#N/A"}},{"$f":"VLOOKUP(H12,$B$4:B12,1,FALSE)","v":{"$error":"#N/A"}}]
[null,{"$f":"Results!A16","v":1435},{"$f":"Results!C16","v":"Dave"},{"$f":"Results!B16","v":"Hutchby"},{"$f":"Results!D16","v":"Derby"},{"$f":"Results!G16","v":"Chinese Northern and Southern Dynasties"},"- vs -",{"$f":"VLOOKUP(B13,Results!$A$8:$AY$104,51,FALSE)","v":0},{"$f":"VLOOKUP(H13,Results!A$8:$G$104,3,FALSE)","v":{"$error":"#N/A"}},{"$f":"VLOOKUP(H13,Results!$A$8:$G$104,2,FALSE)","v":{"$error":"#N/A"}},{"$f":"VLOOKUP(H13,Results!$A$8:$G$104,4,FALSE)","v":{"$error":"#N/A"}},{"$f":"VLOOKUP(H13,Results!$A$8:$G$104,7,FALSE)","v":{"$error":"#N/A"}},{"$f":"VLOOKUP(H13,$B$4:B13,1,FALSE)","v":{"$error":"#N/A"}}]
[null,{"$f":"Results!A17","v":1017},{"$f":"Results!C17","v":"David"},{"$f":"Results!B17","v":"Roberts"},{"$f":"Results!D17","v":"Cambridge"},{"$f":"Results!G17","v":""},"- vs -",{"$f":"VLOOKUP(B14,Results!$A$8:$AY$104,51,FALSE)","v":0},{"$f":"VLOOKUP(H14,Results!A$8:$G$104,3,FALSE)","v":{"$error":"#N/A"}},{"$f":"VLOOKUP(H14,Results!$A$8:$G$104,2,FALSE)","v":{"$error":"#N/A"}},{"$f":"VLOOKUP(H14,Results!$A$8:$G$104,4,FALSE)","v":{"$error":"#N/A"}},{"$f":"VLOOKUP(H14,Results!$A$8:$G$104,7,FALSE)","v":{"$error":"#N/A"}},{"$f":"VLOOKUP(H14,$B$4:B14,1,FALSE)","v":{"$error":"#N/A"}}]
[null,{"$f":"Results!A18","v":1576},{"$f":"Results!C18","v":"David"},{"$f":"Results!B18","v":"Dryden"},{"$f":"Results!D18","v":"FDWC"},{"$f":"Results!G18","v":""},"- vs -",{"$f":"VLOOKUP(B15,Results!$A$8:$AY$104,51,FALSE)","v":0},{"$f":"VLOOKUP(H15,Results!A$8:$G$104,3,FALSE)","v":{"$error":"#N/A"}},{"$f":"VLOOKUP(H15,Results!$A$8:$G$104,2,FALSE)","v":{"$error":"#N/A"}},{"$f":"VLOOKUP(H15,Results!$A$8:$G$104,4,FALSE)","v":{"$error":"#N/A"}},{"$f":"VLOOKUP(H15,Results!$A$8:$G$104,7,FALSE)","v":{"$error":"#N/A"}},{"$f":"VLOOKUP(H15,$B$4:B15,1,FALSE)","v":{"$error":"#N/A"}}]
[null,{"$f":"Results!A19","v":1509},{"$f":"Results!C19","v":"Frazer"},{"$f":"Results!B19","v":"Watson"},{"$f":"Results!D19","v":"FDWG"},{"$f":"Results!G19","v":"Kingdom of Axum"},"- vs -",{"$f":"VLOOKUP(B16,Results!$A$8:$AY$104,51,FALSE)","v":0},{"$f":"VLOOKUP(H16,Results!A$8:$G$104,3,FALSE)","v":{"$error":"#N/A"}},{"$f":"VLOOKUP(H16,Results!$A$8:$G$104,2,FALSE)","v":{"$error":"#N/A"}},{"$f":"VLOOKUP(H16,Results!$A$8:$G$104,4,FALSE)","v":{"$error":"#N/A"}},{"$f":"VLOOKUP(H16,Results!$A$8:$G$104,7,FALSE)","v":{"$error":"#N/A"}},{"$f":"VLOOKUP(H16,$B$4:B16,1,FALSE)","v":{"$error":"#N/A"}}]
[null,{"$f":"Results!A20","v":715},{"$f":"Results!C20","v":"Gordon"},{"$f":"Results!B20","v":"Jamieson"},{"$f":"Results!D20","v":"CLWC"},{"$f":"Results!G20","v":""},"- vs -",{"$f":"VLOOKUP(B17,Results!$A$8:$AY$104,51,FALSE)","v":0},{"$f":"VLOOKUP(H17,Results!A$8:$G$104,3,FALSE)","v":{"$error":"#N/A"}},{"$f":"VLOOKUP(H17,Results!$A$8:$G$104,2,FALSE)","v":{"$error":"#N/A"}},{"$f":"VLOOKUP(H17,Results!$A$8:$G$104,4,FALSE)","v":{"$error":"#N/A"}},{"$f":"VLOOKUP(H17,Results!$A$8:$G$104,7,FALSE)","v":{"$error":"#N/A"}},{"$f":"VLOOKUP(H17,$B$4:B17,1,FALSE)","v":{"$error":"#N/A"}}]
[null,{"$f":"Results!A21","v":1131},{"$f":"Results!C21","v":"Gordon"},{"$f":"Results!B21","v":"Miller"},{"$f":"Results!D21","v":"FDWC"},{"$f":"Results!G21","v":""},"- vs -",{"$f":"VLOOKUP(B18,Results!$A$8:$AY$104,51,FALSE)","v":0},{"$f":"VLOOKUP(H18,Results!A$8:$G$104,3,FALSE)","v":{"$error":"#N/A"}},{"$f":"VLOOKUP(H18,Results!$A$8:$G$104,2,FALSE)","v":{"$error":"#N/A"}},{"$f":"VLOOKUP(H18,Results!$A$8:$G$104,4,FALSE)","v":{"$error":"#N/A"}},{"$f":"VLOOKUP(H18,Results!$A$8:$G$104,7,FALSE)","v":{"$error":"#N/A"}},{"$f":"VLOOKUP(H18,$B$4:B18,1,FALSE)","v":{"$error":"#N/A"}}]
[null,{"$f":"Results!A22","v":1483},{"$f":"Results!C22","v":"Ian"},{"$f":"Results!B22","v":"Sewell"},{"$f":"Results!D22","v":"WAR"},{"$f":"Results!G22","v":""},"- vs -",{"$f":"VLOOKUP(B19,Results!$A$8:$AY$104,51,FALSE)","v":0},{"$f":"VLOOKUP(H19,Results!A$8:$G$104,3,FALSE)","v":{"$error":"#N/A"}},{"$f":"VLOOKUP(H19,Results!$A$8:$G$104,2,FALSE)","v":{"$error":"#N/A"}},{"$f":"VLOOKUP(H19,Results!$A$8:$G$104,4,FALSE)","v":{"$error":"#N/A"}},{"$f":"VLOOKUP(H19,Results!$A$8:$G$104,7,FALSE)","v":{"$error":"#N/A"}},{"$f":"VLOOKUP(H19,$B$4:B19,1,FALSE)","v":{"$error":"#N/A"}}]
[null,{"$f":"Results!A23","v":1538},{"$f":"Results!C23","v":"James"},{"$f":"Results!B23","v":"Gibson"},{"$f":"Results!D23","v":"FDWG"},{"$f":"Results!G23","v":""},"- vs -",{"$f":"VLOOKUP(B20,Results!$A$8:$AY$104,51,FALSE)","v":0},{"$f":"VLOOKUP(H20,Results!A$8:$G$104,3,FALSE)","v":{"$error":"#N/A"}},{"$f":"VLOOKUP(H20,Results!$A$8:$G$104,2,FALSE)","v":{"$error":"#N/A"}},{"$f":"VLOOKUP(H20,Results!$A$8:$G$104,4,FALSE)","v":{"$error":"#N/A"}},{"$f":"VLOOKUP(H20,Results!$A$8:$G$104,7,FALSE)","v":{"$error":"#N/A"}},{"$f":"VLOOKUP(H20,$B$4:B20,1,FALSE)","v":{"$error":"#N/A"}}]
[null,{"$f":"Results!A24","v":485},{"$f":"Results!C24","v":"Jesse"},{"$f":"Results!B24","v":"Schoor"},{"$f":"Results!D24","v":"WAR"},{"$f":"Results!G24","v":""},"- vs -",{"$f":"VLOOKUP(B21,Results!$A$8:$AY$104,51,FALSE)","v":0},{"$f":"VLOOKUP(H21,Results!A$8:$G$104,3,FALSE)","v":{"$error":"#N/A"}},{"$f":"VLOOKUP(H21,Results!$A$8:$G$104,2,FALSE)","v":{"$error":"#N/A"}},{"$f":"VLOOKUP(H21,Results!$A$8:$G$104,4,FALSE)","v":{"$error":"#N/A"}},{"$f":"VLOOKUP(H21,Results!$A$8:$G$104,7,FALSE)","v":{"$error":"#N/A"}},{"$f":"VLOOKUP(H21,$B$4:B21,1,FALSE)","v":{"$error":"#N/A"}}]
[null,{"$f":"Results!A25","v":795},{"$f":"Results!C25","v":"Mark"},{"$f":"Results!B25","v":"Fry"},{"$f":"Results!D25","v":"Bristol"},{"$f":"Results!G25","v":""},"- vs -",{"$f":"VLOOKUP(B22,Results!$A$8:$AY$104,51,FALSE)","v":0},{"$f":"VLOOKUP(H22,Results!A$8:$G$104,3,FALSE)","v":{"$error":"#N/A"}},{"$f":"VLOOKUP(H22,Results!$A$8:$G$104,2,FALSE)","v":{"$error":"#N/A"}},{"$f":"VLOOKUP(H22,Results!$A$8:$G$104,4,FALSE)","v":{"$error":"#N/A"}},{"$f":"VLOOKUP(H22,Results!$A$8:$G$104,7,FALSE)","v":{"$error":"#N/A"}},{"$f":"VLOOKUP(H22,$B$4:B22,1,FALSE)","v":{"$error":"#N/A"}}]
[null,{"$f":"Results!A26","v":1807},{"$f":"Results!C26","v":"Mark"},{"$f":"Results!B26","v":"Gilby"},{"$f":"Results!D26","v":"CLWC"},{"$f":"Results!G26","v":""},"- vs -",{"$f":"VLOOKUP(B23,Results!$A$8:$AY$104,51,FALSE)","v":0},{"$f":"VLOOKUP(H23,Results!A$8:$G$104,3,FALSE)","v":{"$error":"#N/A"}},{"$f":"VLOOKUP(H23,Results!$A$8:$G$104,2,FALSE)","v":{"$error":"#N/A"}},{"$f":"VLOOKUP(H23,Results!$A$8:$G$104,4,FALSE)","v":{"$error":"#N/A"}},{"$f":"VLOOKUP(H23,Results!$A$8:$G$104,7,FALSE)","v":{"$error":"#N/A"}},{"$f":"VLOOKUP(H23,$B$4:B23,1,FALSE)","v":{"$error":"#N/A"}}]
[null,{"$f":"Results!A27","v":858},{"$f":"Results!C27","v":"Mike"},{"$f":"Results!B27","v":"Bennett"},{"$f":"Results!D27","v":"Carnforth"},{"$f":"Results!G27","v":""},"- vs -",{"$f":"VLOOKUP(B24,Results!$A$8:$AY$104,51,FALSE)","v":0},{"$f":"VLOOKUP(H24,Results!A$8:$G$104,3,FALSE)","v":{"$error":"#N/A"}},{"$f":"VLOOKUP(H24,Results!$A$8:$G$104,2,FALSE)","v":{"$error":"#N/A"}},{"$f":"VLOOKUP(H24,Results!$A$8:$G$104,4,FALSE)","v":{"$error":"#N/A"}},{"$f":"VLOOKUP(H24,Results!$A$8:$G$104,7,FALSE)","v":{"$error":"#N/A"}},{"$f":"VLOOKUP(H24,$B$4:B24,1,FALSE)","v":{"$error":"#N/A"}}]
[null,{"$f":"Results!A28","v":1015},{"$f":"Results!C28","v":"Nik"},{"$f":"Results!B28","v":"Sharp"},{"$f":"Results!D28","v":"Warlords"},{"$f":"Results!G28","v":""},"- vs -",{"$f":"VLOOKUP(B25,Results!$A$8:$AY$104,51,FALSE)","v":0},{"$f":"VLOOKUP(H25,Results!A$8:$G$104,3,FALSE)","v":{"$error":"#N/A"}},{"$f":"VLOOKUP(H25,Results!$A$8:$G$104,2,FALSE)","v":{"$error":"#N/A"}},{"$f":"VLOOKUP(H25,Results!$A$8:$G$104,4,FALSE)","v":{"$error":"#N/A"}},{"$f":"VLOOKUP(H25,Results!$A$8:$G$104,7,FALSE)","v":{"$error":"#N/A"}},{"$f":"VLOOKUP(H25,$B$4:B25,1,FALSE)","v":{"$error":"#N/A"}}]
[null,{"$f":"Results!A29","v":1308},{"$f":"Results!C29","v":"Paul"},{"$f":"Results!B29","v":"Dawson"},{"$f":"Results!D29","v":"York"},{"$f":"Results!G29","v":""},"- vs -",{"$f":"VLOOKUP(B26,Results!$A$8:$AY$104,51,FALSE)","v":0},{"$f":"VLOOKUP(H26,Results!A$8:$G$104,3,FALSE)","v":{"$error":"#N/A"}},{"$f":"VLOOKUP(H26,Results!$A$8:$G$104,2,FALSE)","v":{"$error":"#N/A"}},{"$f":"VLOOKUP(H26,Results!$A$8:$G$104,4,FALSE)","v":{"$error":"#N/A"}},{"$f":"VLOOKUP(H26,Results!$A$8:$G$104,7,FALSE)","v":{"$error":"#N/A"}},{"$f":"VLOOKUP(H26,$B$4:B26,1,FALSE)","v":{"$error":"#N/A"}}]
[null,{"$f":"Results!A30","v":1309},{"$f":"Results!C30","v":"Paul"},{"$f":"Results!B30","v":"Johnston"},{"$f":"Results!D30","v":"York"},{"$f":"Results!G30","v":""},"- vs -",{"$f":"VLOOKUP(B27,Results!$A$8:$AY$104,51,FALSE)","v":0},{"$f":"VLOOKUP(H27,Results!A$8:$G$104,3,FALSE)","v":{"$error":"#N/A"}},{"$f":"VLOOKUP(H27,Results!$A$8:$G$104,2,FALSE)","v":{"$error":"#N/A"}},{"$f":"VLOOKUP(H27,Results!$A$8:$G$104,4,FALSE)","v":{"$error":"#N/A"}},{"$f":"VLOOKUP(H27,Results!$A$8:$G$104,7,FALSE)","v":{"$error":"#N/A"}},{"$f":"VLOOKUP(H27,$B$4:B27,1,FALSE)","v":{"$error":"#N/A"}}]
[null,{"$f":"Results!A31","v":1239},{"$f":"Results!C31","v":"Paul"},{"$f":"Results!B31","v":"Frith"},{"$f":"Results!D31","v":"Dorset Nomads"},{"$f":"Results!G31","v":""},"- vs -",{"$f":"VLOOKUP(B28,Results!$A$8:$AY$104,51,FALSE)","v":0},{"$f":"VLOOKUP(H28,Results!A$8:$G$104,3,FALSE)","v":{"$error":"#N/A"}},{"$f":"VLOOKUP(H28,Results!$A$8:$G$104,2,FALSE)","v":{"$error":"#N/A"}},{"$f":"VLOOKUP(H28,Results!$A$8:$G$104,4,FALSE)","v":{"$error":"#N/A"}},{"$f":"VLOOKUP(H28,Results!$A$8:$G$104,7,FALSE)","v":{"$error":"#N/A"}},{"$f":"VLOOKUP(H28,$B$4:B28,1,FALSE)","v":{"$error":"#N/A"}}]
[null,{"$f":"Results!A32","v":1536},{"$f":"Results!C32","v":"Pete"},{"$f":"Results!B32","v":"Sanger"},{"$f":"Results!D32","v":"Pompey"},{"$f":"Results!G32","v":""},"- vs -",{"$f":"VLOOKUP(B29,Results!$A$8:$AY$104,51,FALSE)","v":0},{"$f":"VLOOKUP(H29,Results!A$8:$G$104,3,FALSE)","v":{"$error":"#N/A"}},{"$f":"VLOOKUP(H29,Results!$A$8:$G$104,2,FALSE)","v":{"$error":"#N/A"}},{"$f":"VLOOKUP(H29,Results!$A$8:$G$104,4,FALSE)","v":{"$error":"#N/A"}},{"$f":"VLOOKUP(H29,Results!$A$8:$G$104,7,FALSE)","v":{"$error":"#N/A"}},{"$f":"VLOOKUP(H29,$B$4:B29,1,FALSE)","v":{"$error":"#N/A"}}]
[null,{"$f":"Results!A33","v":772},{"$f":"Results!C33","v":"Richard"},{"$f":"Results!B33","v":"Young"},{"$f":"Results!D33","v":"SOA"},{"$f":"Results!G33","v":""},"- vs -",{"$f":"VLOOKUP(B30,Results!$A$8:$AY$104,51,FALSE)","v":0},{"$f":"VLOOKUP(H30,Results!A$8:$G$104,3,FALSE)","v":{"$error":"#N/A"}},{"$f":"VLOOKUP(H30,Results!$A$8:$G$104,2,FALSE)","v":{"$error":"#N/A"}},{"$f":"VLOOKUP(H30,Results!$A$8:$G$104,4,FALSE)","v":{"$error":"#N/A"}},{"$f":"VLOOKUP(H30,Results!$A$8:$G$104,7,FALSE)","v":{"$error":"#N/A"}},{"$f":"VLOOKUP(H30,$B$4:B30,1,FALSE)","v":{"$error":"#N/A"}}]
[null,{"$f":"Results!A34","v":1318},{"$f":"Results!C34","v":"Rob"},{"$f":"Results!B34","v":"Taylor"},{"$f":"Results!D34","v":"Westow"},{"$f":"Results!G34","v":""},"- vs -",{"$f":"VLOOKUP(B31,Results!$A$8:$AY$104,51,FALSE)","v":0},{"$f":"VLOOKUP(H31,Results!A$8:$G$104,3,FALSE)","v":{"$error":"#N/A"}},{"$f":"VLOOKUP(H31,Results!$A$8:$G$104,2,FALSE)","v":{"$error":"#N/A"}},{"$f":"VLOOKUP(H31,Results!$A$8:$G$104,4,FALSE)","v":{"$error":"#N/A"}},{"$f":"VLOOKUP(H31,Results!$A$8:$G$104,7,FALSE)","v":{"$error":"#N/A"}},{"$f":"VLOOKUP(H31,$B$4:B31,1,FALSE)","v":{"$error":"#N/A"}}]
[null,{"$f":"Results!A35","v":1222},{"$f":"Results!C35","v":"Robert"},{"$f":"Results!B35","v":"Middlemist"},{"$f":"Results!D35","v":"Durham"},{"$f":"Results!G35","v":""},"- vs -",{"$f":"VLOOKUP(B32,Results!$A$8:$AY$104,51,FALSE)","v":0},{"$f":"VLOOKUP(H32,Results!A$8:$G$104,3,FALSE)","v":{"$error":"#N/A"}},{"$f":"VLOOKUP(H32,Results!$A$8:$G$104,2,FALSE)","v":{"$error":"#N/A"}},{"$f":"VLOOKUP(H32,Results!$A$8:$G$104,4,FALSE)","v":{"$error":"#N/A"}},{"$f":"VLOOKUP(H32,Results!$A$8:$G$104,7,FALSE)","v":{"$error":"#N/A"}},{"$f":"VLOOKUP(H32,$B$4:B32,1,FALSE)","v":{"$error":"#N/A"}}]
[null,{"$f":"Results!A36","v":1008},{"$f":"Results!C36","v":"Robin"},{"$f":"Results!B36","v":"Jackson"},{"$f":"Results!D36","v":"God Knows"},{"$f":"Results!G36","v":""},"- vs -",{"$f":"VLOOKUP(B33,Results!$A$8:$AY$104,51,FALSE)","v":0},{"$f":"VLOOKUP(H33,Results!A$8:$G$104,3,FALSE)","v":{"$error":"#N/A"}},{"$f":"VLOOKUP(H33,Results!$A$8:$G$104,2,FALSE)","v":{"$error":"#N/A"}},{"$f":"VLOOKUP(H33,Results!$A$8:$G$104,4,FALSE)","v":{"$error":"#N/A"}},{"$f":"VLOOKUP(H33,Results!$A$8:$G$104,7,FALSE)","v":{"$error":"#N/A"}},{"$f":"VLOOKUP(H33,$B$4:B33,1,FALSE)","v":{"$error":"#N/A"}}]
[null,{"$f":"Results!A37","v":1418},{"$f":"Results!C37","v":"Stephen"},{"$f":"Results!B37","v":"Nice"},{"$f":"Results!D37","v":"WAR"},{"$f":"Results!G37","v":""},"- vs -",{"$f":"VLOOKUP(B34,Results!$A$8:$AY$104,51,FALSE)","v":0},{"$f":"VLOOKUP(H34,Results!A$8:$G$104,3,FALSE)","v":{"$error":"#N/A"}},{"$f":"VLOOKUP(H34,Results!$A$8:$G$104,2,FALSE)","v":{"$error":"#N/A"}},{"$f":"VLOOKUP(H34,Results!$A$8:$G$104,4,FALSE)","v":{"$error":"#N/A"}},{"$f":"VLOOKUP(H34,Results!$A$8:$G$104,7,FALSE)","v":{"$error":"#N/A"}},{"$f":"VLOOKUP(H34,$B$4:B34,1,FALSE)","v":{"$error":"#N/A"}}]
[null,{"$f":"Results!A38","v":712},{"$f":"Results!C38","v":"Tim"},{"$f":"Results!B38","v":"Porter"},{"$f":"Results!D38","v":"CLWC"},{"$f":"Results!G38","v":"Parthian"},"- vs -",{"$f":"VLOOKUP(B35,Results!$A$8:$AY$104,51,FALSE)","v":0},{"$f":"VLOOKUP(H35,Results!A$8:$G$104,3,FALSE)","v":{"$error":"#N/A"}},{"$f":"VLOOKUP(H35,Results!$A$8:$G$104,2,FALSE)","v":{"$error":"#N/A"}},{"$f":"VLOOKUP(H35,Results!$A$8:$G$104,4,FALSE)","v":{"$error":"#N/A"}},{"$f":"VLOOKUP(H35,Results!$A$8:$G$104,7,FALSE)","v":{"$error":"#N/A"}},{"$f":"VLOOKUP(H35,$B$4:B35,1,FALSE)","v":{"$error":"#N/A"}}]
[null,{"$f":"Results!A39","v":0},{"$f":"Results!C39","v":0},{"$f":"Results!B39","v":0},{"$f":"Results!D39","v":0},{"$f":"Results!G39","v":""},"- vs -",{"$f":"VLOOKUP(B36,Results!$A$8:$AY$104,51,FALSE)","v":{"$error":"#N/A"}},{"$f":"VLOOKUP(H36,Results!A$8:$G$104,3,FALSE)","v":{"$error":"#N/A"}},{"$f":"VLOOKUP(H36,Results!$A$8:$G$104,2,FALSE)","v":{"$error":"#N/A"}},{"$f":"VLOOKUP(H36,Results!$A$8:$G$104,4,FALSE)","v":{"$error":"#N/A"}},{"$f":"VLOOKUP(H36,Results!$A$8:$G$104,7,FALSE)","v":{"$error":"#N/A"}},{"$f":"VLOOKUP(H36,$B$4:B36,1,FALSE)","v":{"$error":"#N/A"}}]
[null,{"$f":"Results!A40","v":0},{"$f":"Results!C40","v":0},{"$f":"Results!B40","v":0},{"$f":"Results!D40","v":0},{"$f":"Results!G40","v":""},"- vs -",{"$f":"VLOOKUP(B37,Results!$A$8:$AY$104,51,FALSE)","v":{"$error":"#N/A"}},{"$f":"VLOOKUP(H37,Results!A$8:$G$104,3,FALSE)","v":{"$error":"#N/A"}},{"$f":"VLOOKUP(H37,Results!$A$8:$G$104,2,FALSE)","v":{"$error":"#N/A"}},{"$f":"VLOOKUP(H37,Results!$A$8:$G$104,4,FALSE)","v":{"$error":"#N/A"}},{"$f":"VLOOKUP(H37,Results!$A$8:$G$104,7,FALSE)","v":{"$error":"#N/A"}},{"$f":"VLOOKUP(H37,$B$4:B37,1,FALSE)","v":{"$error":"#N/A"}}]
[null,{"$f":"Results!A41","v":0},{"$f":"Results!C41","v":0},{"$f":"Results!B41","v":0},{"$f":"Results!D41","v":0},{"$f":"Results!G41","v":""},"- vs -",{"$f":"VLOOKUP(B38,Results!$A$8:$AY$104,51,FALSE)","v":{"$error":"#N/A"}},{"$f":"VLOOKUP(H38,Results!A$8:$G$104,3,FALSE)","v":{"$error":"#N/A"}},{"$f":"VLOOKUP(H38,Results!$A$8:$G$104,2,FALSE)","v":{"$error":"#N/A"}},{"$f":"VLOOKUP(H38,Results!$A$8:$G$104,4,FALSE)","v":{"$error":"#N/A"}},{"$f":"VLOOKUP(H38,Results!$A$8:$G$104,7,FALSE)","v":{"$error":"#N/A"}},{"$f":"VLOOKUP(H38,$B$4:B38,1,FALSE)","v":{"$error":"#N/A"}}]
[null,{"$f":"Results!A42","v":0},{"$f":"Results!C42","v":0},{"$f":"Results!B42","v":0},{"$f":"Results!D42","v":0},{"$f":"Results!G42","v":""},"- vs -",{"$f":"VLOOKUP(B39,Results!$A$8:$AY$104,51,FALSE)","v":{"$error":"#N/A"}},{"$f":"VLOOKUP(H39,Results!A$8:$G$104,3,FALSE)","v":{"$error":"#N/A"}},{"$f":"VLOOKUP(H39,Results!$A$8:$G$104,2,FALSE)","v":{"$error":"#N/A"}},{"$f":"VLOOKUP(H39,Results!$A$8:$G$104,4,FALSE)","v":{"$error":"#N/A"}},{"$f":"VLOOKUP(H39,Results!$A$8:$G$104,7,FALSE)","v":{"$error":"#N/A"}},{"$f":"VLOOKUP(H39,$B$4:B39,1,FALSE)","v":{"$error":"#N/A"}}]
[null,{"$f":"Results!A43","v":0},{"$f":"Results!C43","v":0},{"$f":"Results!B43","v":0},{"$f":"Results!D43","v":0},{"$f":"Results!G43","v":""},"- vs -",{"$f":"VLOOKUP(B40,Results!$A$8:$AY$104,51,FALSE)","v":{"$error":"#N/A"}},{"$f":"VLOOKUP(H40,Results!A$8:$G$104,3,FALSE)","v":{"$error":"#N/A"}},{"$f":"VLOOKUP(H40,Results!$A$8:$G$104,2,FALSE)","v":{"$error":"#N/A"}},{"$f":"VLOOKUP(H40,Results!$A$8:$G$104,4,FALSE)","v":{"$error":"#N/A"}},{"$f":"VLOOKUP(H40,Results!$A$8:$G$104,7,FALSE)","v":{"$error":"#N/A"}},{"$f":"VLOOKUP(H40,$B$4:B40,1,FALSE)","v":{"$error":"#N/A"}}]
[null,{"$f":"Results!A44","v":0},{"$f":"Results!C44","v":0},{"$f":"Results!B44","v":0},{"$f":"Results!D44","v":0},{"$f":"Results!G44","v":""},"- vs -",{"$f":"VLOOKUP(B41,Results!$A$8:$AY$104,51,FALSE)","v":{"$error":"#N/A"}},{"$f":"VLOOKUP(H41,Results!A$8:$G$104,3,FALSE)","v":{"$error":"#N/A"}},{"$f":"VLOOKUP(H41,Results!$A$8:$G$104,2,FALSE)","v":{"$error":"#N/A"}},{"$f":"VLOOKUP(H41,Results!$A$8:$G$104,4,FALSE)","v":{"$error":"#N/A"}},{"$f":"VLOOKUP(H41,Results!$A$8:$G$104,7,FALSE)","v":{"$error":"#N/A"}},{"$f":"VLOOKUP(H41,$B$4:B41,1,FALSE)","v":{"$error":"#N/A"}}]
[null,{"$f":"Results!A45","v":0},{"$f":"Results!C45","v":0},{"$f":"Results!B45","v":0},{"$f":"Results!D45","v":0},{"$f":"Results!G45","v":""},"- vs -",{"$f":"VLOOKUP(B42,Results!$A$8:$AY$104,51,FALSE)","v":{"$error":"#N/A"}},{"$f":"VLOOKUP(H42,Results!A$8:$G$104,3,FALSE)","v":{"$error":"#N/A"}},{"$f":"VLOOKUP(H42,Results!$A$8:$G$104,2,FALSE)","v":{"$error":"#N/A"}},{"$f":"VLOOKUP(H42,Results!$A$8:$G$104,4,FALSE)","v":{"$error":"#N/A"}},{"$f":"VLOOKUP(H42,Results!$A$8:$G$104,7,FALSE)","v":{"$error":"#N/A"}},{"$f":"VLOOKUP(H42,$B$4:B42,1,FALSE)","v":{"$error":"#N/A"}}]
[null,{"$f":"Results!A46","v":0},{"$f":"Results!C46","v":0},{"$f":"Results!B46","v":0},{"$f":"Results!D46","v":0},{"$f":"Results!G46","v":""},"- vs -",{"$f":"VLOOKUP(B43,Results!$A$8:$AY$104,51,FALSE)","v":{"$error":"#N/A"}},{"$f":"VLOOKUP(H43,Results!A$8:$G$104,3,FALSE)","v":{"$error":"#N/A"}},{"$f":"VLOOKUP(H43,Results!$A$8:$G$104,2,FALSE)","v":{"$error":"#N/A"}},{"$f":"VLOOKUP(H43,Results!$A$8:$G$104,4,FALSE)","v":{"$error":"#N/A"}},{"$f":"VLOOKUP(H43,Results!$A$8:$G$104,7,FALSE)","v":{"$error":"#N/A"}},{"$f":"VLOOKUP(H43,$B$4:B43,1,FALSE)","v":{"$error":"#N/A"}}]
[null,{"$f":"Results!A47","v":0},{"$f":"Results!C47","v":0},{"$f":"Results!B47","v":0},{"$f":"Results!D47","v":0},{"$f":"Results!G47","v":""},"- vs -",{"$f":"VLOOKUP(B44,Results!$A$8:$AY$104,51,FALSE)","v":{"$error":"#N/A"}},{"$f":"VLOOKUP(H44,Results!A$8:$G$104,3,FALSE)","v":{"$error":"#N/A"}},{"$f":"VLOOKUP(H44,Results!$A$8:$G$104,2,FALSE)","v":{"$error":"#N/A"}},{"$f":"VLOOKUP(H44,Results!$A$8:$G$104,4,FALSE)","v":{"$error":"#N/A"}},{"$f":"VLOOKUP(H44,Results!$A$8:$G$104,7,FALSE)","v":{"$error":"#N/A"}},{"$f":"VLOOKUP(H44,$B$4:B44,1,FALSE)","v":{"$error":"#N/A"}}]
[null,{"$f":"Results!A48","v":0},{"$f":"Results!C48","v":0},{"$f":"Results!B48","v":0},{"$f":"Results!D48","v":0},{"$f":"Results!G48","v":""},"- vs -",{"$f":"VLOOKUP(B45,Results!$A$8:$AY$104,51,FALSE)","v":{"$error":"#N/A"}},{"$f":"VLOOKUP(H45,Results!A$8:$G$104,3,FALSE)","v":{"$error":"#N/A"}},{"$f":"VLOOKUP(H45,Results!$A$8:$G$104,2,FALSE)","v":{"$error":"#N/A"}},{"$f":"VLOOKUP(H45,Results!$A$8:$G$104,4,FALSE)","v":{"$error":"#N/A"}},{"$f":"VLOOKUP(H45,Results!$A$8:$G$104,7,FALSE)","v":{"$error":"#N/A"}},{"$f":"VLOOKUP(H45,$B$4:B45,1,FALSE)","v":{"$error":"#N/A"}}]
[null,{"$f":"Results!A49","v":0},{"$f":"Results!C49","v":0},{"$f":"Results!B49","v":0},{"$f":"Results!D49","v":0},{"$f":"Results!G49","v":""},"- vs -",{"$f":"VLOOKUP(B46,Results!$A$8:$AY$104,51,FALSE)","v":{"$error":"#N/A"}},{"$f":"VLOOKUP(H46,Results!A$8:$G$104,3,FALSE)","v":{"$error":"#N/A"}},{"$f":"VLOOKUP(H46,Results!$A$8:$G$104,2,FALSE)","v":{"$error":"#N/A"}},{"$f":"VLOOKUP(H46,Results!$A$8:$G$104,4,FALSE)","v":{"$error":"#N/A"}},{"$f":"VLOOKUP(H46,Results!$A$8:$G$104,7,FALSE)","v":{"$error":"#N/A"}},{"$f":"VLOOKUP(H46,$B$4:B46,1,FALSE)","v":{"$error":"#N/A"}}]
[null,{"$f":"Results!A50","v":0},{"$f":"Results!C50","v":0},{"$f":"Results!B50","v":0},{"$f":"Results!D50","v":0},{"$f":"Results!G50","v":""},"- vs -",{"$f":"VLOOKUP(B47,Results!$A$8:$AY$104,51,FALSE)","v":{"$error":"#N/A"}},{"$f":"VLOOKUP(H47,Results!A$8:$G$104,3,FALSE)","v":{"$error":"#N/A"}},{"$f":"VLOOKUP(H47,Results!$A$8:$G$104,2,FALSE)","v":{"$error":"#N/A"}},{"$f":"VLOOKUP(H47,Results!$A$8:$G$104,4,FALSE)","v":{"$error":"#N/A"}},{"$f":"VLOOKUP(H47,Results!$A$8:$G$104,7,FALSE)","v":{"$error":"#N/A"}},{"$f":"VLOOKUP(H47,$B$4:B47,1,FALSE)","v":{"$error":"#N/A"}}]
[null,{"$f":"Results!A51","v":0},{"$f":"Results!C51","v":0},{"$f":"Results!B51","v":0},{"$f":"Results!D51","v":0},{"$f":"Results!G51","v":""},"- vs -",{"$f":"VLOOKUP(B48,Results!$A$8:$AY$104,51,FALSE)","v":{"$error":"#N/A"}},{"$f":"VLOOKUP(H48,Results!A$8:$G$104,3,FALSE)","v":{"$error":"#N/A"}},{"$f":"VLOOKUP(H48,Results!$A$8:$G$104,2,FALSE)","v":{"$error":"#N/A"}},{"$f":"VLOOKUP(H48,Results!$A$8:$G$104,4,FALSE)","v":{"$error":"#N/A"}},{"$f":"VLOOKUP(H48,Results!$A$8:$G$104,7,FALSE)","v":{"$error":"#N/A"}},{"$f":"VLOOKUP(H48,$B$4:B48,1,FALSE)","v":{"$error":"#N/A"}}]
[null,{"$f":"Results!A52","v":0},{"$f":"Results!C52","v":0},{"$f":"Results!B52","v":0},{"$f":"Results!D52","v":0},{"$f":"Results!G52","v":""},"- vs -",{"$f":"VLOOKUP(B49,Results!$A$8:$AY$104,51,FALSE)","v":{"$error":"#N/A"}},{"$f":"VLOOKUP(H49,Results!A$8:$G$104,3,FALSE)","v":{"$error":"#N/A"}},{"$f":"VLOOKUP(H49,Results!$A$8:$G$104,2,FALSE)","v":{"$error":"#N/A"}},{"$f":"VLOOKUP(H49,Results!$A$8:$G$104,4,FALSE)","v":{"$error":"#N/A"}},{"$f":"VLOOKUP(H49,Results!$A$8:$G$104,7,FALSE)","v":{"$error":"#N/A"}},{"$f":"VLOOKUP(H49,$B$4:B49,1,FALSE)","v":{"$error":"#N/A"}}]
[null,{"$f":"Results!A53","v":0},{"$f":"Results!C53","v":0},{"$f":"Results!B53","v":0},{"$f":"Results!D53","v":0},{"$f":"Results!G53","v":""},"- vs -",{"$f":"VLOOKUP(B50,Results!$A$8:$AY$104,51,FALSE)","v":{"$error":"#N/A"}},{"$f":"VLOOKUP(H50,Results!A$8:$G$104,3,FALSE)","v":{"$error":"#N/A"}},{"$f":"VLOOKUP(H50,Results!$A$8:$G$104,2,FALSE)","v":{"$error":"#N/A"}},{"$f":"VLOOKUP(H50,Results!$A$8:$G$104,4,FALSE)","v":{"$error":"#N/A"}},{"$f":"VLOOKUP(H50,Results!$A$8:$G$104,7,FALSE)","v":{"$error":"#N/A"}},{"$f":"VLOOKUP(H50,$B$4:B50,1,FALSE)","v":{"$error":"#N/A"}}]
[null,{"$f":"Results!A54","v":0},{"$f":"Results!C54","v":0},{"$f":"Results!B54","v":0},{"$f":"Results!D54","v":0},{"$f":"Results!G54","v":""},"- vs -",{"$f":"VLOOKUP(B51,Results!$A$8:$AY$104,51,FALSE)","v":{"$error":"#N/A"}},{"$f":"VLOOKUP(H51,Results!A$8:$G$104,3,FALSE)","v":{"$error":"#N/A"}},{"$f":"VLOOKUP(H51,Results!$A$8:$G$104,2,FALSE)","v":{"$error":"#N/A"}},{"$f":"VLOOKUP(H51,Results!$A$8:$G$104,4,FALSE)","v":{"$error":"#N/A"}},{"$f":"VLOOKUP(H51,Results!$A$8:$G$104,7,FALSE)","v":{"$error":"#N/A"}},{"$f":"VLOOKUP(H51,$B$4:B51,1,FALSE)","v":{"$error":"#N/A"}}]
[null,{"$f":"Results!A55","v":0},{"$f":"Results!C55","v":0},{"$f":"Results!B55","v":0},{"$f":"Results!D55","v":0},{"$f":"Results!G55","v":""},"- vs -",{"$f":"VLOOKUP(B52,Results!$A$8:$AY$104,51,FALSE)","v":{"$error":"#N/A"}},{"$f":"VLOOKUP(H52,Results!A$8:$G$104,3,FALSE)","v":{"$error":"#N/A"}},{"$f":"VLOOKUP(H52,Results!$A$8:$G$104,2,FALSE)","v":{"$error":"#N/A"}},{"$f":"VLOOKUP(H52,Results!$A$8:$G$104,4,FALSE)","v":{"$error":"#N/A"}},{"$f":"VLOOKUP(H52,Results!$A$8:$G$104,7,FALSE)","v":{"$error":"#N/A"}},{"$f":"VLOOKUP(H52,$B$4:B52,1,FALSE)","v":{"$error":"#N/A"}}]
[null,{"$f":"Results!A56","v":0},{"$f":"Results!C56","v":0},{"$f":"Results!B56","v":0},{"$f":"Results!D56","v":0},{"$f":"Results!G56","v":""},"- vs -",{"$f":"VLOOKUP(B53,Results!$A$8:$AY$104,51,FALSE)","v":{"$error":"#N/A"}},{"$f":"VLOOKUP(H53,Results!A$8:$G$104,3,FALSE)","v":{"$error":"#N/A"}},{"$f":"VLOOKUP(H53,Results!$A$8:$G$104,2,FALSE)","v":{"$error":"#N/A"}},{"$f":"VLOOKUP(H53,Results!$A$8:$G$104,4,FALSE)","v":{"$error":"#N/A"}},{"$f":"VLOOKUP(H53,Results!$A$8:$G$104,7,FALSE)","v":{"$error":"#N/A"}},{"$f":"VLOOKUP(H53,$B$4:B53,1,FALSE)","v":{"$error":"#N/A"}}]
[null,{"$f":"Results!A57","v":0},{"$f":"Results!C57","v":0},{"$f":"Results!B57","v":0},{"$f":"Results!D57","v":0},{"$f":"Results!G57","v":""},"- vs -",{"$f":"VLOOKUP(B54,Results!$A$8:$AY$104,51,FALSE)","v":{"$error":"#N/A"}},{"$f":"VLOOKUP(H54,Results!A$8:$G$104,3,FALSE)","v":{"$error":"#N/A"}},{"$f":"VLOOKUP(H54,Results!$A$8:$G$104,2,FALSE)","v":{"$error":"#N/A"}},{"$f":"VLOOKUP(H54,Results!$A$8:$G$104,4,FALSE)","v":{"$error":"#N/A"}},{"$f":"VLOOKUP(H54,Results!$A$8:$G$104,7,FALSE)","v":{"$error":"#N/A"}},{"$f":"VLOOKUP(H54,$B$4:B54,1,FALSE)","v":{"$error":"#N/A"}}]
[null,{"$f":"Results!A58","v":0},{"$f":"Results!C58","v":0},{"$f":"Results!B58","v":0},{"$f":"Results!D58","v":0},{"$f":"Results!G58","v":""},"- vs -",{"$f":"VLOOKUP(B55,Results!$A$8:$AY$104,51,FALSE)","v":{"$error":"#N/A"}},{"$f":"VLOOKUP(H55,Results!A$8:$G$104,3,FALSE)","v":{"$error":"#N/A"}},{"$f":"VLOOKUP(H55,Results!$A$8:$G$104,2,FALSE)","v":{"$error":"#N/A"}},{"$f":"VLOOKUP(H55,Results!$A$8:$G$104,4,FALSE)","v":{"$error":"#N/A"}},{"$f":"VLOOKUP(H55,Results!$A$8:$G$104,7,FALSE)","v":{"$error":"#N/A"}},{"$f":"VLOOKUP(H55,$B$4:B55,1,FALSE)","v":{"$error":"#N/A"}}]
[null,{"$f":"Results!A59","v":0},{"$f":"Results!C59","v":0},{"$f":"Results!B59","v":0},{"$f":"Results!D59","v":0},{"$f":"Results!G59","v":""},"- vs -",{"$f":"VLOOKUP(B56,Results!$A$8:$AY$104,51,FALSE)","v":{"$error":"#N/A"}},{"$f":"VLOOKUP(H56,Results!A$8:$G$104,3,FALSE)","v":{"$error":"#N/A"}},{"$f":"VLOOKUP(H56,Results!$A$8:$G$104,2,FALSE)","v":{"$error":"#N/A"}},{"$f":"VLOOKUP(H56,Results!$A$8:$G$104,4,FALSE)","v":{"$error":"#N/A"}},{"$f":"VLOOKUP(H56,Results!$A$8:$G$104,7,FALSE)","v":{"$error":"#N/A"}},{"$f":"VLOOKUP(H56,$B$4:B56,1,FALSE)","v":{"$error":"#N/A"}}]
[null,{"$f":"Results!A60","v":0},{"$f":"Results!C60","v":0},{"$f":"Results!B60","v":0},{"$f":"Results!D60","v":0},{"$f":"Results!G60","v":""},"- vs -",{"$f":"VLOOKUP(B57,Results!$A$8:$AY$104,51,FALSE)","v":{"$error":"#N/A"}},{"$f":"VLOOKUP(H57,Results!A$8:$G$104,3,FALSE)","v":{"$error":"#N/A"}},{"$f":"VLOOKUP(H57,Results!$A$8:$G$104,2,FALSE)","v":{"$error":"#N/A"}},{"$f":"VLOOKUP(H57,Results!$A$8:$G$104,4,FALSE)","v":{"$error":"#N/A"}},{"$f":"VLOOKUP(H57,Results!$A$8:$G$104,7,FALSE)","v":{"$error":"#N/A"}},{"$f":"VLOOKUP(H57,$B$4:B57,1,FALSE)","v":{"$error":"#N/A"}}]
[null,{"$f":"Results!A61","v":0},{"$f":"Results!C61","v":0},{"$f":"Results!B61","v":0},{"$f":"Results!D61","v":0},{"$f":"Results!G61","v":""},"- vs -",{"$f":"VLOOKUP(B58,Results!$A$8:$AY$104,51,FALSE)","v":{"$error":"#N/A"}},{"$f":"VLOOKUP(H58,Results!A$8:$G$104,3,FALSE)","v":{"$error":"#N/A"}},{"$f":"VLOOKUP(H58,Results!$A$8:$G$104,2,FALSE)","v":{"$error":"#N/A"}},{"$f":"VLOOKUP(H58,Results!$A$8:$G$104,4,FALSE)","v":{"$error":"#N/A"}},{"$f":"VLOOKUP(H58,Results!$A$8:$G$104,7,FALSE)","v":{"$error":"#N/A"}},{"$f":"VLOOKUP(H58,$B$4:B58,1,FALSE)","v":{"$error":"#N/A"}}]
[null,{"$f":"Results!A62","v":0},{"$f":"Results!C62","v":0},{"$f":"Results!B62","v":0},{"$f":"Results!D62","v":0},{"$f":"Results!G62","v":""},"- vs -",{"$f":"VLOOKUP(B59,Results!$A$8:$AY$104,51,FALSE)","v":{"$error":"#N/A"}},{"$f":"VLOOKUP(H59,Results!A$8:$G$104,3,FALSE)","v":{"$error":"#N/A"}},{"$f":"VLOOKUP(H59,Results!$A$8:$G$104,2,FALSE)","v":{"$error":"#N/A"}},{"$f":"VLOOKUP(H59,Results!$A$8:$G$104,4,FALSE)","v":{"$error":"#N/A"}},{"$f":"VLOOKUP(H59,Results!$A$8:$G$104,7,FALSE)","v":{"$error":"#N/A"}},{"$f":"VLOOKUP(H59,$B$4:B59,1,FALSE)","v":{"$error":"#N/A"}}]
[null,{"$f":"Results!A63","v":0},{"$f":"Results!C63","v":0},{"$f":"Results!B63","v":0},{"$f":"Results!D63","v":0},{"$f":"Results!G63","v":""},"- vs -",{"$f":"VLOOKUP(B60,Results!$A$8:$AY$104,51,FALSE)","v":{"$error":"#N/A"}},{"$f":"VLOOKUP(H60,Results!A$8:$G$104,3,FALSE)","v":{"$error":"#N/A"}},{"$f":"VLOOKUP(H60,Results!$A$8:$G$104,2,FALSE)","v":{"$error":"#N/A"}},{"$f":"VLOOKUP(H60,Results!$A$8:$G$104,4,FALSE)","v":{"$error":"#N/A"}},{"$f":"VLOOKUP(H60,Results!$A$8:$G$104,7,FALSE)","v":{"$error":"#N/A"}},{"$f":"VLOOKUP(H60,$B$4:B60,1,FALSE)","v":{"$error":"#N/A"}}]
[null,{"$f":"Results!A64","v":0},{"$f":"Results!C64","v":0},{"$f":"Results!B64","v":0},{"$f":"Results!D64","v":0},{"$f":"Results!G64","v":""},"- vs -",{"$f":"VLOOKUP(B61,Results!$A$8:$AY$104,51,FALSE)","v":{"$error":"#N/A"}},{"$f":"VLOOKUP(H61,Results!A$8:$G$104,3,FALSE)","v":{"$error":"#N/A"}},{"$f":"VLOOKUP(H61,Results!$A$8:$G$104,2,FALSE)","v":{"$error":"#N/A"}},{"$f":"VLOOKUP(H61,Results!$A$8:$G$104,4,FALSE)","v":{"$error":"#N/A"}},{"$f":"VLOOKUP(H61,Results!$A$8:$G$104,7,FALSE)","v":{"$error":"#N/A"}},{"$f":"VLOOKUP(H61,$B$4:B61,1,FALSE)","v":{"$error":"#N/A"}}]
[null,{"$f":"Results!A65","v":0},{"$f":"Results!C65","v":0},{"$f":"Results!B65","v":0},{"$f":"Results!D65","v":0},{"$f":"Results!G65","v":""},"- vs -",{"$f":"VLOOKUP(B62,Results!$A$8:$AY$104,51,FALSE)","v":{"$error":"#N/A"}},{"$f":"VLOOKUP(H62,Results!A$8:$G$104,3,FALSE)","v":{"$error":"#N/A"}},{"$f":"VLOOKUP(H62,Results!$A$8:$G$104,2,FALSE)","v":{"$error":"#N/A"}},{"$f":"VLOOKUP(H62,Results!$A$8:$G$104,4,FALSE)","v":{"$error":"#N/A"}},{"$f":"VLOOKUP(H62,Results!$A$8:$G$104,7,FALSE)","v":{"$error":"#N/A"}},{"$f":"VLOOKUP(H62,$B$4:B62,1,FALSE)","v":{"$error":"#N/A"}}]
[null,{"$f":"Results!A66","v":0},{"$f":"Results!C66","v":0},{"$f":"Results!B66","v":0},{"$f":"Results!D66","v":0},{"$f":"Results!G66","v":""},"- vs -",{"$f":"VLOOKUP(B63,Results!$A$8:$AY$104,51,FALSE)","v":{"$error":"#N/A"}},{"$f":"VLOOKUP(H63,Results!A$8:$G$104,3,FALSE)","v":{"$error":"#N/A"}},{"$f":"VLOOKUP(H63,Results!$A$8:$G$104,2,FALSE)","v":{"$error":"#N/A"}},{"$f":"VLOOKUP(H63,Results!$A$8:$G$104,4,FALSE)","v":{"$error":"#N/A"}},{"$f":"VLOOKUP(H63,Results!$A$8:$G$104,7,FALSE)","v":{"$error":"#N/A"}},{"$f":"VLOOKUP(H63,$B$4:B63,1,FALSE)","v":{"$error":"#N/A"}}]
[null,{"$f":"Results!A67","v":0},{"$f":"Results!C67","v":0},{"$f":"Results!B67","v":0},{"$f":"Results!D67","v":0},{"$f":"Results!G67","v":""},"- vs -",{"$f":"VLOOKUP(B64,Results!$A$8:$AY$104,51,FALSE)","v":{"$error":"#N/A"}},{"$f":"VLOOKUP(H64,Results!A$8:$G$104,3,FALSE)","v":{"$error":"#N/A"}},{"$f":"VLOOKUP(H64,Results!$A$8:$G$104,2,FALSE)","v":{"$error":"#N/A"}},{"$f":"VLOOKUP(H64,Results!$A$8:$G$104,4,FALSE)","v":{"$error":"#N/A"}},{"$f":"VLOOKUP(H64,Results!$A$8:$G$104,7,FALSE)","v":{"$error":"#N/A"}}]
[null,{"$f":"Results!A68","v":0},{"$f":"Results!C68","v":0},{"$f":"Results!B68","v":0},{"$f":"Results!D68","v":0},{"$f":"Results!G68","v":""},"- vs -",{"$f":"VLOOKUP(B65,Results!$A$8:$AY$104,51,FALSE)","v":{"$error":"#N/A"}},{"$f":"VLOOKUP(H65,Results!A$8:$G$104,3,FALSE)","v":{"$error":"#N/A"}},{"$f":"VLOOKUP(H65,Results!$A$8:$G$104,2,FALSE)","v":{"$error":"#N/A"}},{"$f":"VLOOKUP(H65,Results!$A$8:$G$104,4,FALSE)","v":{"$error":"#N/A"}},{"$f":"VLOOKUP(H65,Results!$A$8:$G$104,7,FALSE)","v":{"$error":"#N/A"}}]
[null,{"$f":"Results!A69","v":0},{"$f":"Results!C69","v":0},{"$f":"Results!B69","v":0},{"$f":"Results!D69","v":0},{"$f":"Results!G69","v":""},"- vs -",{"$f":"VLOOKUP(B66,Results!$A$8:$AY$104,51,FALSE)","v":{"$error":"#N/A"}},{"$f":"VLOOKUP(H66,Results!A$8:$G$104,3,FALSE)","v":{"$error":"#N/A"}},{"$f":"VLOOKUP(H66,Results!$A$8:$G$104,2,FALSE)","v":{"$error":"#N/A"}},{"$f":"VLOOKUP(H66,Results!$A$8:$G$104,4,FALSE)","v":{"$error":"#N/A"}},{"$f":"VLOOKUP(H66,Results!$A$8:$G$104,7,FALSE)","v":{"$error":"#N/A"}}]
[null,{"$f":"Results!A70","v":0},{"$f":"Results!C70","v":0},{"$f":"Results!B70","v":0},{"$f":"Results!D70","v":0},{"$f":"Results!G70","v":""},"- vs -",{"$f":"VLOOKUP(B67,Results!$A$8:$AY$104,51,FALSE)","v":{"$error":"#N/A"}},{"$f":"VLOOKUP(H67,Results!A$8:$G$104,3,FALSE)","v":{"$error":"#N/A"}},{"$f":"VLOOKUP(H67,Results!$A$8:$G$104,2,FALSE)","v":{"$error":"#N/A"}},{"$f":"VLOOKUP(H67,Results!$A$8:$G$104,4,FALSE)","v":{"$error":"#N/A"}},{"$f":"VLOOKUP(H67,Results!$A$8:$G$104,7,FALSE)","v":{"$error":"#N/A"}}]
[null,{"$f":"Results!A71","v":0},{"$f":"Results!C71","v":0},{"$f":"Results!B71","v":0},{"$f":"Results!D71","v":0},{"$f":"Results!G71","v":""},"- vs -",{"$f":"VLOOKUP(B68,Results!$A$8:$AY$104,51,FALSE)","v":{"$error":"#N/A"}},{"$f":"VLOOKUP(H68,Results!A$8:$G$104,3,FALSE)","v":{"$error":"#N/A"}},{"$f":"VLOOKUP(H68,Results!$A$8:$G$104,2,FALSE)","v":{"$error":"#N/A"}},{"$f":"VLOOKUP(H68,Results!$A$8:$G$104,4,FALSE)","v":{"$error":"#N/A"}},{"$f":"VLOOKUP(H68,Results!$A$8:$G$104,7,FALSE)","v":{"$error":"#N/A"}}]
[null,{"$f":"Results!A72","v":0},{"$f":"Results!C72","v":0},{"$f":"Results!B72","v":0},{"$f":"Results!D72","v":0},{"$f":"Results!G72","v":""},"- vs -",{"$f":"VLOOKUP(B69,Results!$A$8:$AY$104,51,FALSE)","v":{"$error":"#N/A"}},{"$f":"VLOOKUP(H69,Results!A$8:$G$104,3,FALSE)","v":{"$error":"#N/A"}},{"$f":"VLOOKUP(H69,Results!$A$8:$G$104,2,FALSE)","v":{"$error":"#N/A"}},{"$f":"VLOOKUP(H69,Results!$A$8:$G$104,4,FALSE)","v":{"$error":"#N/A"}},{"$f":"VLOOKUP(H69,Results!$A$8:$G$104,7,FALSE)","v":{"$error":"#N/A"}}]

{"sheet":"Round 8","index":16,"n_rows":104,"n_cols":13,"rows_kept":104,"cut":false,"hidden":true,"merged":[]}
[null,null,null,null,"Round 8 Draw"]
[null,null,{"$f":"Results!B3","v":"Kegworth Codgers 2024"}]
[null,null,{"$f":"Results!B4","v":"Roman Period"}]
[null,null,null,null,null,null,null,null,null,null,null,null,"VALID?"]
[null,{"$f":"Results!A8","v":486},{"$f":"Results!C8","v":"Alan"},{"$f":"Results!B8","v":"Cutner"},{"$f":"Results!D8","v":"Tradeston"},{"$f":"Results!G8","v":""},"- vs -",{"$f":"VLOOKUP(B5,Results!$A$8:$BF$104,58,FALSE)","v":0},{"$f":"VLOOKUP(H5,Results!A$8:$G$104,3,FALSE)","v":{"$error":"#N/A"}},{"$f":"VLOOKUP(H5,Results!$A$8:$G$104,2,FALSE)","v":{"$error":"#N/A"}},{"$f":"VLOOKUP(H5,Results!$A$8:$G$104,4,FALSE)","v":{"$error":"#N/A"}},{"$f":"VLOOKUP(H5,Results!$A$8:$G$104,7,FALSE)","v":{"$error":"#N/A"}},{"$f":"VLOOKUP(H5,$B$4:B5,1,FALSE)","v":{"$error":"#N/A"}}]
[null,{"$f":"Results!A9","v":1579},{"$f":"Results!C9","v":"Alistair"},{"$f":"Results!B9","v":"Wright"},{"$f":"Results!D9","v":"Millbrook"},{"$f":"Results!G9","v":""},"- vs -",{"$f":"VLOOKUP(B6,Results!$A$8:$BF$104,58,FALSE)","v":0},{"$f":"VLOOKUP(H6,Results!A$8:$G$104,3,FALSE)","v":{"$error":"#N/A"}},{"$f":"VLOOKUP(H6,Results!$A$8:$G$104,2,FALSE)","v":{"$error":"#N/A"}},{"$f":"VLOOKUP(H6,Results!$A$8:$G$104,4,FALSE)","v":{"$error":"#N/A"}},{"$f":"VLOOKUP(H6,Results!$A$8:$G$104,7,FALSE)","v":{"$error":"#N/A"}},{"$f":"VLOOKUP(H6,$B$4:B6,1,FALSE)","v":{"$error":"#N/A"}}]
[null,{"$f":"Results!A10","v":748},{"$f":"Results!C10","v":"Andrew"},{"$f":"Results!B10","v":"Whitby"},{"$f":"Results!D10","v":"Bristol"},{"$f":"Results!G10","v":""},"- vs -",{"$f":"VLOOKUP(B7,Results!$A$8:$BF$104,58,FALSE)","v":0},{"$f":"VLOOKUP(H7,Results!A$8:$G$104,3,FALSE)","v":{"$error":"#N/A"}},{"$f":"VLOOKUP(H7,Results!$A$8:$G$104,2,FALSE)","v":{"$error":"#N/A"}},{"$f":"VLOOKUP(H7,Results!$A$8:$G$104,4,FALSE)","v":{"$error":"#N/A"}},{"$f":"VLOOKUP(H7,Results!$A$8:$G$104,7,FALSE)","v":{"$error":"#N/A"}},{"$f":"VLOOKUP(H7,$B$4:B7,1,FALSE)","v":{"$error":"#N/A"}}]
[null,{"$f":"Results!A11","v":1598},{"$f":"Results!C11","v":"Andy"},{"$f":"Results!B11","v":"Fyfe"},{"$f":"Results!D11","v":"FDWG"},{"$f":"Results!G11","v":""},"- vs -",{"$f":"VLOOKUP(B8,Results!$A$8:$BF$104,58,FALSE)","v":0},{"$f":"VLOOKUP(H8,Results!A$8:$G$104,3,FALSE)","v":{"$error":"#N/A"}},{"$f":"VLOOKUP(H8,Results!$A$8:$G$104,2,FALSE)","v":{"$error":"#N/A"}},{"$f":"VLOOKUP(H8,Results!$A$8:$G$104,4,FALSE)","v":{"$error":"#N/A"}},{"$f":"VLOOKUP(H8,Results!$A$8:$G$104,7,FALSE)","v":{"$error":"#N/A"}},{"$f":"VLOOKUP(H8,$B$4:B8,1,FALSE)","v":{"$error":"#N/A"}}]
[null,{"$f":"Results!A12","v":714},{"$f":"Results!C12","v":"Andy"},{"$f":"Results!B12","v":"Gilbert"},{"$f":"Results!D12","v":"Pompey"},{"$f":"Results!G12","v":""},"- vs -",{"$f":"VLOOKUP(B9,Results!$A$8:$BF$104,58,FALSE)","v":0},{"$f":"VLOOKUP(H9,Results!A$8:$G$104,3,FALSE)","v":{"$error":"#N/A"}},{"$f":"VLOOKUP(H9,Results!$A$8:$G$104,2,FALSE)","v":{"$error":"#N/A"}},{"$f":"VLOOKUP(H9,Results!$A$8:$G$104,4,FALSE)","v":{"$error":"#N/A"}},{"$f":"VLOOKUP(H9,Results!$A$8:$G$104,7,FALSE)","v":{"$error":"#N/A"}},{"$f":"VLOOKUP(H9,$B$4:B9,1,FALSE)","v":{"$error":"#N/A"}}]
[null,{"$f":"Results!A13","v":1447},{"$f":"Results!C13","v":"Antony"},{"$f":"Results!B13","v":"Robinson"},{"$f":"Results!D13","v":"Durham"},{"$f":"Results!G13","v":""},"- vs -",{"$f":"VLOOKUP(B10,Results!$A$8:$BF$104,58,FALSE)","v":0},{"$f":"VLOOKUP(H10,Results!A$8:$G$104,3,FALSE)","v":{"$error":"#N/A"}},{"$f":"VLOOKUP(H10,Results!$A$8:$G$104,2,FALSE)","v":{"$error":"#N/A"}},{"$f":"VLOOKUP(H10,Results!$A$8:$G$104,4,FALSE)","v":{"$error":"#N/A"}},{"$f":"VLOOKUP(H10,Results!$A$8:$G$104,7,FALSE)","v":{"$error":"#N/A"}},{"$f":"VLOOKUP(H10,$B$4:B10,1,FALSE)","v":{"$error":"#N/A"}}]
[null,{"$f":"Results!A14","v":773},{"$f":"Results!C14","v":"Charles"},{"$f":"Results!B14","v":"Masefield"},{"$f":"Results!D14","v":"Oxford"},{"$f":"Results!G14","v":""},"- vs -",{"$f":"VLOOKUP(B11,Results!$A$8:$BF$104,58,FALSE)","v":0},{"$f":"VLOOKUP(H11,Results!A$8:$G$104,3,FALSE)","v":{"$error":"#N/A"}},{"$f":"VLOOKUP(H11,Results!$A$8:$G$104,2,FALSE)","v":{"$error":"#N/A"}},{"$f":"VLOOKUP(H11,Results!$A$8:$G$104,4,FALSE)","v":{"$error":"#N/A"}},{"$f":"VLOOKUP(H11,Results!$A$8:$G$104,7,FALSE)","v":{"$error":"#N/A"}},{"$f":"VLOOKUP(H11,$B$4:B11,1,FALSE)","v":{"$error":"#N/A"}}]
[null,{"$f":"Results!A15","v":1549},{"$f":"Results!C15","v":"Colin"},{"$f":"Results!B15","v":"Whittaker"},{"$f":"Results!D15","v":"Entoyment"},{"$f":"Results!G15","v":""},"- vs -",{"$f":"VLOOKUP(B12,Results!$A$8:$BF$104,58,FALSE)","v":0},{"$f":"VLOOKUP(H12,Results!A$8:$G$104,3,FALSE)","v":{"$error":"#N/A"}},{"$f":"VLOOKUP(H12,Results!$A$8:$G$104,2,FALSE)","v":{"$error":"#N/A"}},{"$f":"VLOOKUP(H12,Results!$A$8:$G$104,4,FALSE)","v":{"$error":"#N/A"}},{"$f":"VLOOKUP(H12,Results!$A$8:$G$104,7,FALSE)","v":{"$error":"#N/A"}},{"$f":"VLOOKUP(H12,$B$4:B12,1,FALSE)","v":{"$error":"#N/A"}}]
[null,{"$f":"Results!A16","v":1435},{"$f":"Results!C16","v":"Dave"},{"$f":"Results!B16","v":"Hutchby"},{"$f":"Results!D16","v":"Derby"},{"$f":"Results!G16","v":"Chinese Northern and Southern Dynasties"},"- vs -",{"$f":"VLOOKUP(B13,Results!$A$8:$BF$104,58,FALSE)","v":0},{"$f":"VLOOKUP(H13,Results!A$8:$G$104,3,FALSE)","v":{"$error":"#N/A"}},{"$f":"VLOOKUP(H13,Results!$A$8:$G$104,2,FALSE)","v":{"$error":"#N/A"}},{"$f":"VLOOKUP(H13,Results!$A$8:$G$104,4,FALSE)","v":{"$error":"#N/A"}},{"$f":"VLOOKUP(H13,Results!$A$8:$G$104,7,FALSE)","v":{"$error":"#N/A"}},{"$f":"VLOOKUP(H13,$B$4:B13,1,FALSE)","v":{"$error":"#N/A"}}]
[null,{"$f":"Results!A17","v":1017},{"$f":"Results!C17","v":"David"},{"$f":"Results!B17","v":"Roberts"},{"$f":"Results!D17","v":"Cambridge"},{"$f":"Results!G17","v":""},"- vs -",{"$f":"VLOOKUP(B14,Results!$A$8:$BF$104,58,FALSE)","v":0},{"$f":"VLOOKUP(H14,Results!A$8:$G$104,3,FALSE)","v":{"$error":"#N/A"}},{"$f":"VLOOKUP(H14,Results!$A$8:$G$104,2,FALSE)","v":{"$error":"#N/A"}},{"$f":"VLOOKUP(H14,Results!$A$8:$G$104,4,FALSE)","v":{"$error":"#N/A"}},{"$f":"VLOOKUP(H14,Results!$A$8:$G$104,7,FALSE)","v":{"$error":"#N/A"}},{"$f":"VLOOKUP(H14,$B$4:B14,1,FALSE)","v":{"$error":"#N/A"}}]
[null,{"$f":"Results!A18","v":1576},{"$f":"Results!C18","v":"David"},{"$f":"Results!B18","v":"Dryden"},{"$f":"Results!D18","v":"FDWC"},{"$f":"Results!G18","v":""},"- vs -",{"$f":"VLOOKUP(B15,Results!$A$8:$BF$104,58,FALSE)","v":0},{"$f":"VLOOKUP(H15,Results!A$8:$G$104,3,FALSE)","v":{"$error":"#N/A"}},{"$f":"VLOOKUP(H15,Results!$A$8:$G$104,2,FALSE)","v":{"$error":"#N/A"}},{"$f":"VLOOKUP(H15,Results!$A$8:$G$104,4,FALSE)","v":{"$error":"#N/A"}},{"$f":"VLOOKUP(H15,Results!$A$8:$G$104,7,FALSE)","v":{"$error":"#N/A"}},{"$f":"VLOOKUP(H15,$B$4:B15,1,FALSE)","v":{"$error":"#N/A"}}]
[null,{"$f":"Results!A19","v":1509},{"$f":"Results!C19","v":"Frazer"},{"$f":"Results!B19","v":"Watson"},{"$f":"Results!D19","v":"FDWG"},{"$f":"Results!G19","v":"Kingdom of Axum"},"- vs -",{"$f":"VLOOKUP(B16,Results!$A$8:$BF$104,58,FALSE)","v":0},{"$f":"VLOOKUP(H16,Results!A$8:$G$104,3,FALSE)","v":{"$error":"#N/A"}},{"$f":"VLOOKUP(H16,Results!$A$8:$G$104,2,FALSE)","v":{"$error":"#N/A"}},{"$f":"VLOOKUP(H16,Results!$A$8:$G$104,4,FALSE)","v":{"$error":"#N/A"}},{"$f":"VLOOKUP(H16,Results!$A$8:$G$104,7,FALSE)","v":{"$error":"#N/A"}},{"$f":"VLOOKUP(H16,$B$4:B16,1,FALSE)","v":{"$error":"#N/A"}}]
[null,{"$f":"Results!A20","v":715},{"$f":"Results!C20","v":"Gordon"},{"$f":"Results!B20","v":"Jamieson"},{"$f":"Results!D20","v":"CLWC"},{"$f":"Results!G20","v":""},"- vs -",{"$f":"VLOOKUP(B17,Results!$A$8:$BF$104,58,FALSE)","v":0},{"$f":"VLOOKUP(H17,Results!A$8:$G$104,3,FALSE)","v":{"$error":"#N/A"}},{"$f":"VLOOKUP(H17,Results!$A$8:$G$104,2,FALSE)","v":{"$error":"#N/A"}},{"$f":"VLOOKUP(H17,Results!$A$8:$G$104,4,FALSE)","v":{"$error":"#N/A"}},{"$f":"VLOOKUP(H17,Results!$A$8:$G$104,7,FALSE)","v":{"$error":"#N/A"}},{"$f":"VLOOKUP(H17,$B$4:B17,1,FALSE)","v":{"$error":"#N/A"}}]
[null,{"$f":"Results!A21","v":1131},{"$f":"Results!C21","v":"Gordon"},{"$f":"Results!B21","v":"Miller"},{"$f":"Results!D21","v":"FDWC"},{"$f":"Results!G21","v":""},"- vs -",{"$f":"VLOOKUP(B18,Results!$A$8:$BF$104,58,FALSE)","v":0},{"$f":"VLOOKUP(H18,Results!A$8:$G$104,3,FALSE)","v":{"$error":"#N/A"}},{"$f":"VLOOKUP(H18,Results!$A$8:$G$104,2,FALSE)","v":{"$error":"#N/A"}},{"$f":"VLOOKUP(H18,Results!$A$8:$G$104,4,FALSE)","v":{"$error":"#N/A"}},{"$f":"VLOOKUP(H18,Results!$A$8:$G$104,7,FALSE)","v":{"$error":"#N/A"}},{"$f":"VLOOKUP(H18,$B$4:B18,1,FALSE)","v":{"$error":"#N/A"}}]
[null,{"$f":"Results!A22","v":1483},{"$f":"Results!C22","v":"Ian"},{"$f":"Results!B22","v":"Sewell"},{"$f":"Results!D22","v":"WAR"},{"$f":"Results!G22","v":""},"- vs -",{"$f":"VLOOKUP(B19,Results!$A$8:$BF$104,58,FALSE)","v":0},{"$f":"VLOOKUP(H19,Results!A$8:$G$104,3,FALSE)","v":{"$error":"#N/A"}},{"$f":"VLOOKUP(H19,Results!$A$8:$G$104,2,FALSE)","v":{"$error":"#N/A"}},{"$f":"VLOOKUP(H19,Results!$A$8:$G$104,4,FALSE)","v":{"$error":"#N/A"}},{"$f":"VLOOKUP(H19,Results!$A$8:$G$104,7,FALSE)","v":{"$error":"#N/A"}},{"$f":"VLOOKUP(H19,$B$4:B19,1,FALSE)","v":{"$error":"#N/A"}}]
[null,{"$f":"Results!A23","v":1538},{"$f":"Results!C23","v":"James"},{"$f":"Results!B23","v":"Gibson"},{"$f":"Results!D23","v":"FDWG"},{"$f":"Results!G23","v":""},"- vs -",{"$f":"VLOOKUP(B20,Results!$A$8:$BF$104,58,FALSE)","v":0},{"$f":"VLOOKUP(H20,Results!A$8:$G$104,3,FALSE)","v":{"$error":"#N/A"}},{"$f":"VLOOKUP(H20,Results!$A$8:$G$104,2,FALSE)","v":{"$error":"#N/A"}},{"$f":"VLOOKUP(H20,Results!$A$8:$G$104,4,FALSE)","v":{"$error":"#N/A"}},{"$f":"VLOOKUP(H20,Results!$A$8:$G$104,7,FALSE)","v":{"$error":"#N/A"}},{"$f":"VLOOKUP(H20,$B$4:B20,1,FALSE)","v":{"$error":"#N/A"}}]
[null,{"$f":"Results!A24","v":485},{"$f":"Results!C24","v":"Jesse"},{"$f":"Results!B24","v":"Schoor"},{"$f":"Results!D24","v":"WAR"},{"$f":"Results!G24","v":""},"- vs -",{"$f":"VLOOKUP(B21,Results!$A$8:$BF$104,58,FALSE)","v":0},{"$f":"VLOOKUP(H21,Results!A$8:$G$104,3,FALSE)","v":{"$error":"#N/A"}},{"$f":"VLOOKUP(H21,Results!$A$8:$G$104,2,FALSE)","v":{"$error":"#N/A"}},{"$f":"VLOOKUP(H21,Results!$A$8:$G$104,4,FALSE)","v":{"$error":"#N/A"}},{"$f":"VLOOKUP(H21,Results!$A$8:$G$104,7,FALSE)","v":{"$error":"#N/A"}},{"$f":"VLOOKUP(H21,$B$4:B21,1,FALSE)","v":{"$error":"#N/A"}}]
[null,{"$f":"Results!A25","v":795},{"$f":"Results!C25","v":"Mark"},{"$f":"Results!B25","v":"Fry"},{"$f":"Results!D25","v":"Bristol"},{"$f":"Results!G25","v":""},"- vs -",{"$f":"VLOOKUP(B22,Results!$A$8:$BF$104,58,FALSE)","v":0},{"$f":"VLOOKUP(H22,Results!A$8:$G$104,3,FALSE)","v":{"$error":"#N/A"}},{"$f":"VLOOKUP(H22,Results!$A$8:$G$104,2,FALSE)","v":{"$error":"#N/A"}},{"$f":"VLOOKUP(H22,Results!$A$8:$G$104,4,FALSE)","v":{"$error":"#N/A"}},{"$f":"VLOOKUP(H22,Results!$A$8:$G$104,7,FALSE)","v":{"$error":"#N/A"}},{"$f":"VLOOKUP(H22,$B$4:B22,1,FALSE)","v":{"$error":"#N/A"}}]
[null,{"$f":"Results!A26","v":1807},{"$f":"Results!C26","v":"Mark"},{"$f":"Results!B26","v":"Gilby"},{"$f":"Results!D26","v":"CLWC"},{"$f":"Results!G26","v":""},"- vs -",{"$f":"VLOOKUP(B23,Results!$A$8:$BF$104,58,FALSE)","v":0},{"$f":"VLOOKUP(H23,Results!A$8:$G$104,3,FALSE)","v":{"$error":"#N/A"}},{"$f":"VLOOKUP(H23,Results!$A$8:$G$104,2,FALSE)","v":{"$error":"#N/A"}},{"$f":"VLOOKUP(H23,Results!$A$8:$G$104,4,FALSE)","v":{"$error":"#N/A"}},{"$f":"VLOOKUP(H23,Results!$A$8:$G$104,7,FALSE)","v":{"$error":"#N/A"}},{"$f":"VLOOKUP(H23,$B$4:B23,1,FALSE)","v":{"$error":"#N/A"}}]
[null,{"$f":"Results!A27","v":858},{"$f":"Results!C27","v":"Mike"},{"$f":"Results!B27","v":"Bennett"},{"$f":"Results!D27","v":"Carnforth"},{"$f":"Results!G27","v":""},"- vs -",{"$f":"VLOOKUP(B24,Results!$A$8:$BF$104,58,FALSE)","v":0},{"$f":"VLOOKUP(H24,Results!A$8:$G$104,3,FALSE)","v":{"$error":"#N/A"}},{"$f":"VLOOKUP(H24,Results!$A$8:$G$104,2,FALSE)","v":{"$error":"#N/A"}},{"$f":"VLOOKUP(H24,Results!$A$8:$G$104,4,FALSE)","v":{"$error":"#N/A"}},{"$f":"VLOOKUP(H24,Results!$A$8:$G$104,7,FALSE)","v":{"$error":"#N/A"}},{"$f":"VLOOKUP(H24,$B$4:B24,1,FALSE)","v":{"$error":"#N/A"}}]
[null,{"$f":"Results!A28","v":1015},{"$f":"Results!C28","v":"Nik"},{"$f":"Results!B28","v":"Sharp"},{"$f":"Results!D28","v":"Warlords"},{"$f":"Results!G28","v":""},"- vs -",{"$f":"VLOOKUP(B25,Results!$A$8:$BF$104,58,FALSE)","v":0},{"$f":"VLOOKUP(H25,Results!A$8:$G$104,3,FALSE)","v":{"$error":"#N/A"}},{"$f":"VLOOKUP(H25,Results!$A$8:$G$104,2,FALSE)","v":{"$error":"#N/A"}},{"$f":"VLOOKUP(H25,Results!$A$8:$G$104,4,FALSE)","v":{"$error":"#N/A"}},{"$f":"VLOOKUP(H25,Results!$A$8:$G$104,7,FALSE)","v":{"$error":"#N/A"}},{"$f":"VLOOKUP(H25,$B$4:B25,1,FALSE)","v":{"$error":"#N/A"}}]
[null,{"$f":"Results!A29","v":1308},{"$f":"Results!C29","v":"Paul"},{"$f":"Results!B29","v":"Dawson"},{"$f":"Results!D29","v":"York"},{"$f":"Results!G29","v":""},"- vs -",{"$f":"VLOOKUP(B26,Results!$A$8:$BF$104,58,FALSE)","v":0},{"$f":"VLOOKUP(H26,Results!A$8:$G$104,3,FALSE)","v":{"$error":"#N/A"}},{"$f":"VLOOKUP(H26,Results!$A$8:$G$104,2,FALSE)","v":{"$error":"#N/A"}},{"$f":"VLOOKUP(H26,Results!$A$8:$G$104,4,FALSE)","v":{"$error":"#N/A"}},{"$f":"VLOOKUP(H26,Results!$A$8:$G$104,7,FALSE)","v":{"$error":"#N/A"}},{"$f":"VLOOKUP(H26,$B$4:B26,1,FALSE)","v":{"$error":"#N/A"}}]
[null,{"$f":"Results!A30","v":1309},{"$f":"Results!C30","v":"Paul"},{"$f":"Results!B30","v":"Johnston"},{"$f":"Results!D30","v":"York"},{"$f":"Results!G30","v":""},"- vs -",{"$f":"VLOOKUP(B27,Results!$A$8:$BF$104,58,FALSE)","v":0},{"$f":"VLOOKUP(H27,Results!A$8:$G$104,3,FALSE)","v":{"$error":"#N/A"}},{"$f":"VLOOKUP(H27,Results!$A$8:$G$104,2,FALSE)","v":{"$error":"#N/A"}},{"$f":"VLOOKUP(H27,Results!$A$8:$G$104,4,FALSE)","v":{"$error":"#N/A"}},{"$f":"VLOOKUP(H27,Results!$A$8:$G$104,7,FALSE)","v":{"$error":"#N/A"}},{"$f":"VLOOKUP(H27,$B$4:B27,1,FALSE)","v":{"$error":"#N/A"}}]
[null,{"$f":"Results!A31","v":1239},{"$f":"Results!C31","v":"Paul"},{"$f":"Results!B31","v":"Frith"},{"$f":"Results!D31","v":"Dorset Nomads"},{"$f":"Results!G31","v":""},"- vs -",{"$f":"VLOOKUP(B28,Results!$A$8:$BF$104,58,FALSE)","v":0},{"$f":"VLOOKUP(H28,Results!A$8:$G$104,3,FALSE)","v":{"$error":"#N/A"}},{"$f":"VLOOKUP(H28,Results!$A$8:$G$104,2,FALSE)","v":{"$error":"#N/A"}},{"$f":"VLOOKUP(H28,Results!$A$8:$G$104,4,FALSE)","v":{"$error":"#N/A"}},{"$f":"VLOOKUP(H28,Results!$A$8:$G$104,7,FALSE)","v":{"$error":"#N/A"}},{"$f":"VLOOKUP(H28,$B$4:B28,1,FALSE)","v":{"$error":"#N/A"}}]
[null,{"$f":"Results!A32","v":1536},{"$f":"Results!C32","v":"Pete"},{"$f":"Results!B32","v":"Sanger"},{"$f":"Results!D32","v":"Pompey"},{"$f":"Results!G32","v":""},"- vs -",{"$f":"VLOOKUP(B29,Results!$A$8:$BF$104,58,FALSE)","v":0},{"$f":"VLOOKUP(H29,Results!A$8:$G$104,3,FALSE)","v":{"$error":"#N/A"}},{"$f":"VLOOKUP(H29,Results!$A$8:$G$104,2,FALSE)","v":{"$error":"#N/A"}},{"$f":"VLOOKUP(H29,Results!$A$8:$G$104,4,FALSE)","v":{"$error":"#N/A"}},{"$f":"VLOOKUP(H29,Results!$A$8:$G$104,7,FALSE)","v":{"$error":"#N/A"}},{"$f":"VLOOKUP(H29,$B$4:B29,1,FALSE)","v":{"$error":"#N/A"}}]
[null,{"$f":"Results!A33","v":772},{"$f":"Results!C33","v":"Richard"},{"$f":"Results!B33","v":"Young"},{"$f":"Results!D33","v":"SOA"},{"$f":"Results!G33","v":""},"- vs -",{"$f":"VLOOKUP(B30,Results!$A$8:$BF$104,58,FALSE)","v":0},{"$f":"VLOOKUP(H30,Results!A$8:$G$104,3,FALSE)","v":{"$error":"#N/A"}},{"$f":"VLOOKUP(H30,Results!$A$8:$G$104,2,FALSE)","v":{"$error":"#N/A"}},{"$f":"VLOOKUP(H30,Results!$A$8:$G$104,4,FALSE)","v":{"$error":"#N/A"}},{"$f":"VLOOKUP(H30,Results!$A$8:$G$104,7,FALSE)","v":{"$error":"#N/A"}},{"$f":"VLOOKUP(H30,$B$4:B30,1,FALSE)","v":{"$error":"#N/A"}}]
[null,{"$f":"Results!A34","v":1318},{"$f":"Results!C34","v":"Rob"},{"$f":"Results!B34","v":"Taylor"},{"$f":"Results!D34","v":"Westow"},{"$f":"Results!G34","v":""},"- vs -",{"$f":"VLOOKUP(B31,Results!$A$8:$BF$104,58,FALSE)","v":0},{"$f":"VLOOKUP(H31,Results!A$8:$G$104,3,FALSE)","v":{"$error":"#N/A"}},{"$f":"VLOOKUP(H31,Results!$A$8:$G$104,2,FALSE)","v":{"$error":"#N/A"}},{"$f":"VLOOKUP(H31,Results!$A$8:$G$104,4,FALSE)","v":{"$error":"#N/A"}},{"$f":"VLOOKUP(H31,Results!$A$8:$G$104,7,FALSE)","v":{"$error":"#N/A"}},{"$f":"VLOOKUP(H31,$B$4:B31,1,FALSE)","v":{"$error":"#N/A"}}]
[null,{"$f":"Results!A35","v":1222},{"$f":"Results!C35","v":"Robert"},{"$f":"Results!B35","v":"Middlemist"},{"$f":"Results!D35","v":"Durham"},{"$f":"Results!G35","v":""},"- vs -",{"$f":"VLOOKUP(B32,Results!$A$8:$BF$104,58,FALSE)","v":0},{"$f":"VLOOKUP(H32,Results!A$8:$G$104,3,FALSE)","v":{"$error":"#N/A"}},{"$f":"VLOOKUP(H32,Results!$A$8:$G$104,2,FALSE)","v":{"$error":"#N/A"}},{"$f":"VLOOKUP(H32,Results!$A$8:$G$104,4,FALSE)","v":{"$error":"#N/A"}},{"$f":"VLOOKUP(H32,Results!$A$8:$G$104,7,FALSE)","v":{"$error":"#N/A"}},{"$f":"VLOOKUP(H32,$B$4:B32,1,FALSE)","v":{"$error":"#N/A"}}]
[null,{"$f":"Results!A36","v":1008},{"$f":"Results!C36","v":"Robin"},{"$f":"Results!B36","v":"Jackson"},{"$f":"Results!D36","v":"God Knows"},{"$f":"Results!G36","v":""},"- vs -",{"$f":"VLOOKUP(B33,Results!$A$8:$BF$104,58,FALSE)","v":0},{"$f":"VLOOKUP(H33,Results!A$8:$G$104,3,FALSE)","v":{"$error":"#N/A"}},{"$f":"VLOOKUP(H33,Results!$A$8:$G$104,2,FALSE)","v":{"$error":"#N/A"}},{"$f":"VLOOKUP(H33,Results!$A$8:$G$104,4,FALSE)","v":{"$error":"#N/A"}},{"$f":"VLOOKUP(H33,Results!$A$8:$G$104,7,FALSE)","v":{"$error":"#N/A"}},{"$f":"VLOOKUP(H33,$B$4:B33,1,FALSE)","v":{"$error":"#N/A"}}]
[null,{"$f":"Results!A37","v":1418},{"$f":"Results!C37","v":"Stephen"},{"$f":"Results!B37","v":"Nice"},{"$f":"Results!D37","v":"WAR"},{"$f":"Results!G37","v":""},"- vs -",{"$f":"VLOOKUP(B34,Results!$A$8:$BF$104,58,FALSE)","v":0},{"$f":"VLOOKUP(H34,Results!A$8:$G$104,3,FALSE)","v":{"$error":"#N/A"}},{"$f":"VLOOKUP(H34,Results!$A$8:$G$104,2,FALSE)","v":{"$error":"#N/A"}},{"$f":"VLOOKUP(H34,Results!$A$8:$G$104,4,FALSE)","v":{"$error":"#N/A"}},{"$f":"VLOOKUP(H34,Results!$A$8:$G$104,7,FALSE)","v":{"$error":"#N/A"}},{"$f":"VLOOKUP(H34,$B$4:B34,1,FALSE)","v":{"$error":"#N/A"}}]
[null,{"$f":"Results!A38","v":712},{"$f":"Results!C38","v":"Tim"},{"$f":"Results!B38","v":"Porter"},{"$f":"Results!D38","v":"CLWC"},{"$f":"Results!G38","v":"Parthian"},"- vs -",{"$f":"VLOOKUP(B35,Results!$A$8:$BF$104,58,FALSE)","v":0},{"$f":"VLOOKUP(H35,Results!A$8:$G$104,3,FALSE)","v":{"$error":"#N/A"}},{"$f":"VLOOKUP(H35,Results!$A$8:$G$104,2,FALSE)","v":{"$error":"#N/A"}},{"$f":"VLOOKUP(H35,Results!$A$8:$G$104,4,FALSE)","v":{"$error":"#N/A"}},{"$f":"VLOOKUP(H35,Results!$A$8:$G$104,7,FALSE)","v":{"$error":"#N/A"}},{"$f":"VLOOKUP(H35,$B$4:B35,1,FALSE)","v":{"$error":"#N/A"}}]
[null,{"$f":"Results!A39","v":0},{"$f":"Results!C39","v":0},{"$f":"Results!B39","v":0},{"$f":"Results!D39","v":0},{"$f":"Results!G39","v":""},"- vs -",{"$f":"VLOOKUP(B36,Results!$A$8:$BF$104,58,FALSE)","v":{"$error":"#N/A"}},{"$f":"VLOOKUP(H36,Results!A$8:$G$104,3,FALSE)","v":{"$error":"#N/A"}},{"$f":"VLOOKUP(H36,Results!$A$8:$G$104,2,FALSE)","v":{"$error":"#N/A"}},{"$f":"VLOOKUP(H36,Results!$A$8:$G$104,4,FALSE)","v":{"$error":"#N/A"}},{"$f":"VLOOKUP(H36,Results!$A$8:$G$104,7,FALSE)","v":{"$error":"#N/A"}},{"$f":"VLOOKUP(H36,$B$4:B36,1,FALSE)","v":{"$error":"#N/A"}}]
[null,{"$f":"Results!A40","v":0},{"$f":"Results!C40","v":0},{"$f":"Results!B40","v":0},{"$f":"Results!D40","v":0},{"$f":"Results!G40","v":""},"- vs -",{"$f":"VLOOKUP(B37,Results!$A$8:$BF$104,58,FALSE)","v":{"$error":"#N/A"}},{"$f":"VLOOKUP(H37,Results!A$8:$G$104,3,FALSE)","v":{"$error":"#N/A"}},{"$f":"VLOOKUP(H37,Results!$A$8:$G$104,2,FALSE)","v":{"$error":"#N/A"}},{"$f":"VLOOKUP(H37,Results!$A$8:$G$104,4,FALSE)","v":{"$error":"#N/A"}},{"$f":"VLOOKUP(H37,Results!$A$8:$G$104,7,FALSE)","v":{"$error":"#N/A"}},{"$f":"VLOOKUP(H37,$B$4:B37,1,FALSE)","v":{"$error":"#N/A"}}]
[null,{"$f":"Results!A41","v":0},{"$f":"Results!C41","v":0},{"$f":"Results!B41","v":0},{"$f":"Results!D41","v":0},{"$f":"Results!G41","v":""},"- vs -",{"$f":"VLOOKUP(B38,Results!$A$8:$BF$104,58,FALSE)","v":{"$error":"#N/A"}},{"$f":"VLOOKUP(H38,Results!A$8:$G$104,3,FALSE)","v":{"$error":"#N/A"}},{"$f":"VLOOKUP(H38,Results!$A$8:$G$104,2,FALSE)","v":{"$error":"#N/A"}},{"$f":"VLOOKUP(H38,Results!$A$8:$G$104,4,FALSE)","v":{"$error":"#N/A"}},{"$f":"VLOOKUP(H38,Results!$A$8:$G$104,7,FALSE)","v":{"$error":"#N/A"}},{"$f":"VLOOKUP(H38,$B$4:B38,1,FALSE)","v":{"$error":"#N/A"}}]
[null,{"$f":"Results!A42","v":0},{"$f":"Results!C42","v":0},{"$f":"Results!B42","v":0},{"$f":"Results!D42","v":0},{"$f":"Results!G42","v":""},"- vs -",{"$f":"VLOOKUP(B39,Results!$A$8:$BF$104,58,FALSE)","v":{"$error":"#N/A"}},{"$f":"VLOOKUP(H39,Results!A$8:$G$104,3,FALSE)","v":{"$error":"#N/A"}},{"$f":"VLOOKUP(H39,Results!$A$8:$G$104,2,FALSE)","v":{"$error":"#N/A"}},{"$f":"VLOOKUP(H39,Results!$A$8:$G$104,4,FALSE)","v":{"$error":"#N/A"}},{"$f":"VLOOKUP(H39,Results!$A$8:$G$104,7,FALSE)","v":{"$error":"#N/A"}},{"$f":"VLOOKUP(H39,$B$4:B39,1,FALSE)","v":{"$error":"#N/A"}}]
[null,{"$f":"Results!A43","v":0},{"$f":"Results!C43","v":0},{"$f":"Results!B43","v":0},{"$f":"Results!D43","v":0},{"$f":"Results!G43","v":""},"- vs -",{"$f":"VLOOKUP(B40,Results!$A$8:$BF$104,58,FALSE)","v":{"$error":"#N/A"}},{"$f":"VLOOKUP(H40,Results!A$8:$G$104,3,FALSE)","v":{"$error":"#N/A"}},{"$f":"VLOOKUP(H40,Results!$A$8:$G$104,2,FALSE)","v":{"$error":"#N/A"}},{"$f":"VLOOKUP(H40,Results!$A$8:$G$104,4,FALSE)","v":{"$error":"#N/A"}},{"$f":"VLOOKUP(H40,Results!$A$8:$G$104,7,FALSE)","v":{"$error":"#N/A"}},{"$f":"VLOOKUP(H40,$B$4:B40,1,FALSE)","v":{"$error":"#N/A"}}]
[null,{"$f":"Results!A44","v":0},{"$f":"Results!C44","v":0},{"$f":"Results!B44","v":0},{"$f":"Results!D44","v":0},{"$f":"Results!G44","v":""},"- vs -",{"$f":"VLOOKUP(B41,Results!$A$8:$BF$104,58,FALSE)","v":{"$error":"#N/A"}},{"$f":"VLOOKUP(H41,Results!A$8:$G$104,3,FALSE)","v":{"$error":"#N/A"}},{"$f":"VLOOKUP(H41,Results!$A$8:$G$104,2,FALSE)","v":{"$error":"#N/A"}},{"$f":"VLOOKUP(H41,Results!$A$8:$G$104,4,FALSE)","v":{"$error":"#N/A"}},{"$f":"VLOOKUP(H41,Results!$A$8:$G$104,7,FALSE)","v":{"$error":"#N/A"}},{"$f":"VLOOKUP(H41,$B$4:B41,1,FALSE)","v":{"$error":"#N/A"}}]
[null,{"$f":"Results!A45","v":0},{"$f":"Results!C45","v":0},{"$f":"Results!B45","v":0},{"$f":"Results!D45","v":0},{"$f":"Results!G45","v":""},"- vs -",{"$f":"VLOOKUP(B42,Results!$A$8:$BF$104,58,FALSE)","v":{"$error":"#N/A"}},{"$f":"VLOOKUP(H42,Results!A$8:$G$104,3,FALSE)","v":{"$error":"#N/A"}},{"$f":"VLOOKUP(H42,Results!$A$8:$G$104,2,FALSE)","v":{"$error":"#N/A"}},{"$f":"VLOOKUP(H42,Results!$A$8:$G$104,4,FALSE)","v":{"$error":"#N/A"}},{"$f":"VLOOKUP(H42,Results!$A$8:$G$104,7,FALSE)","v":{"$error":"#N/A"}},{"$f":"VLOOKUP(H42,$B$4:B42,1,FALSE)","v":{"$error":"#N/A"}}]
[null,{"$f":"Results!A46","v":0},{"$f":"Results!C46","v":0},{"$f":"Results!B46","v":0},{"$f":"Results!D46","v":0},{"$f":"Results!G46","v":""},"- vs -",{"$f":"VLOOKUP(B43,Results!$A$8:$BF$104,58,FALSE)","v":{"$error":"#N/A"}},{"$f":"VLOOKUP(H43,Results!A$8:$G$104,3,FALSE)","v":{"$error":"#N/A"}},{"$f":"VLOOKUP(H43,Results!$A$8:$G$104,2,FALSE)","v":{"$error":"#N/A"}},{"$f":"VLOOKUP(H43,Results!$A$8:$G$104,4,FALSE)","v":{"$error":"#N/A"}},{"$f":"VLOOKUP(H43,Results!$A$8:$G$104,7,FALSE)","v":{"$error":"#N/A"}},{"$f":"VLOOKUP(H43,$B$4:B43,1,FALSE)","v":{"$error":"#N/A"}}]
[null,{"$f":"Results!A47","v":0},{"$f":"Results!C47","v":0},{"$f":"Results!B47","v":0},{"$f":"Results!D47","v":0},{"$f":"Results!G47","v":""},"- vs -",{"$f":"VLOOKUP(B44,Results!$A$8:$BF$104,58,FALSE)","v":{"$error":"#N/A"}},{"$f":"VLOOKUP(H44,Results!A$8:$G$104,3,FALSE)","v":{"$error":"#N/A"}},{"$f":"VLOOKUP(H44,Results!$A$8:$G$104,2,FALSE)","v":{"$error":"#N/A"}},{"$f":"VLOOKUP(H44,Results!$A$8:$G$104,4,FALSE)","v":{"$error":"#N/A"}},{"$f":"VLOOKUP(H44,Results!$A$8:$G$104,7,FALSE)","v":{"$error":"#N/A"}},{"$f":"VLOOKUP(H44,$B$4:B44,1,FALSE)","v":{"$error":"#N/A"}}]
[null,{"$f":"Results!A48","v":0},{"$f":"Results!C48","v":0},{"$f":"Results!B48","v":0},{"$f":"Results!D48","v":0},{"$f":"Results!G48","v":""},"- vs -",{"$f":"VLOOKUP(B45,Results!$A$8:$BF$104,58,FALSE)","v":{"$error":"#N/A"}},{"$f":"VLOOKUP(H45,Results!A$8:$G$104,3,FALSE)","v":{"$error":"#N/A"}},{"$f":"VLOOKUP(H45,Results!$A$8:$G$104,2,FALSE)","v":{"$error":"#N/A"}},{"$f":"VLOOKUP(H45,Results!$A$8:$G$104,4,FALSE)","v":{"$error":"#N/A"}},{"$f":"VLOOKUP(H45,Results!$A$8:$G$104,7,FALSE)","v":{"$error":"#N/A"}},{"$f":"VLOOKUP(H45,$B$4:B45,1,FALSE)","v":{"$error":"#N/A"}}]
[null,{"$f":"Results!A49","v":0},{"$f":"Results!C49","v":0},{"$f":"Results!B49","v":0},{"$f":"Results!D49","v":0},{"$f":"Results!G49","v":""},"- vs -",{"$f":"VLOOKUP(B46,Results!$A$8:$BF$104,58,FALSE)","v":{"$error":"#N/A"}},{"$f":"VLOOKUP(H46,Results!A$8:$G$104,3,FALSE)","v":{"$error":"#N/A"}},{"$f":"VLOOKUP(H46,Results!$A$8:$G$104,2,FALSE)","v":{"$error":"#N/A"}},{"$f":"VLOOKUP(H46,Results!$A$8:$G$104,4,FALSE)","v":{"$error":"#N/A"}},{"$f":"VLOOKUP(H46,Results!$A$8:$G$104,7,FALSE)","v":{"$error":"#N/A"}},{"$f":"VLOOKUP(H46,$B$4:B46,1,FALSE)","v":{"$error":"#N/A"}}]
[null,{"$f":"Results!A50","v":0},{"$f":"Results!C50","v":0},{"$f":"Results!B50","v":0},{"$f":"Results!D50","v":0},{"$f":"Results!G50","v":""},"- vs -",{"$f":"VLOOKUP(B47,Results!$A$8:$BF$104,58,FALSE)","v":{"$error":"#N/A"}},{"$f":"VLOOKUP(H47,Results!A$8:$G$104,3,FALSE)","v":{"$error":"#N/A"}},{"$f":"VLOOKUP(H47,Results!$A$8:$G$104,2,FALSE)","v":{"$error":"#N/A"}},{"$f":"VLOOKUP(H47,Results!$A$8:$G$104,4,FALSE)","v":{"$error":"#N/A"}},{"$f":"VLOOKUP(H47,Results!$A$8:$G$104,7,FALSE)","v":{"$error":"#N/A"}},{"$f":"VLOOKUP(H47,$B$4:B47,1,FALSE)","v":{"$error":"#N/A"}}]
[null,{"$f":"Results!A51","v":0},{"$f":"Results!C51","v":0},{"$f":"Results!B51","v":0},{"$f":"Results!D51","v":0},{"$f":"Results!G51","v":""},"- vs -",{"$f":"VLOOKUP(B48,Results!$A$8:$BF$104,58,FALSE)","v":{"$error":"#N/A"}},{"$f":"VLOOKUP(H48,Results!A$8:$G$104,3,FALSE)","v":{"$error":"#N/A"}},{"$f":"VLOOKUP(H48,Results!$A$8:$G$104,2,FALSE)","v":{"$error":"#N/A"}},{"$f":"VLOOKUP(H48,Results!$A$8:$G$104,4,FALSE)","v":{"$error":"#N/A"}},{"$f":"VLOOKUP(H48,Results!$A$8:$G$104,7,FALSE)","v":{"$error":"#N/A"}},{"$f":"VLOOKUP(H48,$B$4:B48,1,FALSE)","v":{"$error":"#N/A"}}]
[null,{"$f":"Results!A52","v":0},{"$f":"Results!C52","v":0},{"$f":"Results!B52","v":0},{"$f":"Results!D52","v":0},{"$f":"Results!G52","v":""},"- vs -",{"$f":"VLOOKUP(B49,Results!$A$8:$BF$104,58,FALSE)","v":{"$error":"#N/A"}},{"$f":"VLOOKUP(H49,Results!A$8:$G$104,3,FALSE)","v":{"$error":"#N/A"}},{"$f":"VLOOKUP(H49,Results!$A$8:$G$104,2,FALSE)","v":{"$error":"#N/A"}},{"$f":"VLOOKUP(H49,Results!$A$8:$G$104,4,FALSE)","v":{"$error":"#N/A"}},{"$f":"VLOOKUP(H49,Results!$A$8:$G$104,7,FALSE)","v":{"$error":"#N/A"}},{"$f":"VLOOKUP(H49,$B$4:B49,1,FALSE)","v":{"$error":"#N/A"}}]
[null,{"$f":"Results!A53","v":0},{"$f":"Results!C53","v":0},{"$f":"Results!B53","v":0},{"$f":"Results!D53","v":0},{"$f":"Results!G53","v":""},"- vs -",{"$f":"VLOOKUP(B50,Results!$A$8:$BF$104,58,FALSE)","v":{"$error":"#N/A"}},{"$f":"VLOOKUP(H50,Results!A$8:$G$104,3,FALSE)","v":{"$error":"#N/A"}},{"$f":"VLOOKUP(H50,Results!$A$8:$G$104,2,FALSE)","v":{"$error":"#N/A"}},{"$f":"VLOOKUP(H50,Results!$A$8:$G$104,4,FALSE)","v":{"$error":"#N/A"}},{"$f":"VLOOKUP(H50,Results!$A$8:$G$104,7,FALSE)","v":{"$error":"#N/A"}},{"$f":"VLOOKUP(H50,$B$4:B50,1,FALSE)","v":{"$error":"#N/A"}}]
[null,{"$f":"Results!A54","v":0},{"$f":"Results!C54","v":0},{"$f":"Results!B54","v":0},{"$f":"Results!D54","v":0},{"$f":"Results!G54","v":""},"- vs -",{"$f":"VLOOKUP(B51,Results!$A$8:$BF$104,58,FALSE)","v":{"$error":"#N/A"}},{"$f":"VLOOKUP(H51,Results!A$8:$G$104,3,FALSE)","v":{"$error":"#N/A"}},{"$f":"VLOOKUP(H51,Results!$A$8:$G$104,2,FALSE)","v":{"$error":"#N/A"}},{"$f":"VLOOKUP(H51,Results!$A$8:$G$104,4,FALSE)","v":{"$error":"#N/A"}},{"$f":"VLOOKUP(H51,Results!$A$8:$G$104,7,FALSE)","v":{"$error":"#N/A"}},{"$f":"VLOOKUP(H51,$B$4:B51,1,FALSE)","v":{"$error":"#N/A"}}]
[null,{"$f":"Results!A55","v":0},{"$f":"Results!C55","v":0},{"$f":"Results!B55","v":0},{"$f":"Results!D55","v":0},{"$f":"Results!G55","v":""},"- vs -",{"$f":"VLOOKUP(B52,Results!$A$8:$BF$104,58,FALSE)","v":{"$error":"#N/A"}},{"$f":"VLOOKUP(H52,Results!A$8:$G$104,3,FALSE)","v":{"$error":"#N/A"}},{"$f":"VLOOKUP(H52,Results!$A$8:$G$104,2,FALSE)","v":{"$error":"#N/A"}},{"$f":"VLOOKUP(H52,Results!$A$8:$G$104,4,FALSE)","v":{"$error":"#N/A"}},{"$f":"VLOOKUP(H52,Results!$A$8:$G$104,7,FALSE)","v":{"$error":"#N/A"}},{"$f":"VLOOKUP(H52,$B$4:B52,1,FALSE)","v":{"$error":"#N/A"}}]
[null,{"$f":"Results!A56","v":0},{"$f":"Results!C56","v":0},{"$f":"Results!B56","v":0},{"$f":"Results!D56","v":0},{"$f":"Results!G56","v":""},"- vs -",{"$f":"VLOOKUP(B53,Results!$A$8:$BF$104,58,FALSE)","v":{"$error":"#N/A"}},{"$f":"VLOOKUP(H53,Results!A$8:$G$104,3,FALSE)","v":{"$error":"#N/A"}},{"$f":"VLOOKUP(H53,Results!$A$8:$G$104,2,FALSE)","v":{"$error":"#N/A"}},{"$f":"VLOOKUP(H53,Results!$A$8:$G$104,4,FALSE)","v":{"$error":"#N/A"}},{"$f":"VLOOKUP(H53,Results!$A$8:$G$104,7,FALSE)","v":{"$error":"#N/A"}},{"$f":"VLOOKUP(H53,$B$4:B53,1,FALSE)","v":{"$error":"#N/A"}}]
[null,{"$f":"Results!A57","v":0},{"$f":"Results!C57","v":0},{"$f":"Results!B57","v":0},{"$f":"Results!D57","v":0},{"$f":"Results!G57","v":""},"- vs -",{"$f":"VLOOKUP(B54,Results!$A$8:$BF$104,58,FALSE)","v":{"$error":"#N/A"}},{"$f":"VLOOKUP(H54,Results!A$8:$G$104,3,FALSE)","v":{"$error":"#N/A"}},{"$f":"VLOOKUP(H54,Results!$A$8:$G$104,2,FALSE)","v":{"$error":"#N/A"}},{"$f":"VLOOKUP(H54,Results!$A$8:$G$104,4,FALSE)","v":{"$error":"#N/A"}},{"$f":"VLOOKUP(H54,Results!$A$8:$G$104,7,FALSE)","v":{"$error":"#N/A"}},{"$f":"VLOOKUP(H54,$B$4:B54,1,FALSE)","v":{"$error":"#N/A"}}]
[null,{"$f":"Results!A58","v":0},{"$f":"Results!C58","v":0},{"$f":"Results!B58","v":0},{"$f":"Results!D58","v":0},{"$f":"Results!G58","v":""},"- vs -",{"$f":"VLOOKUP(B55,Results!$A$8:$BF$104,58,FALSE)","v":{"$error":"#N/A"}},{"$f":"VLOOKUP(H55,Results!A$8:$G$104,3,FALSE)","v":{"$error":"#N/A"}},{"$f":"VLOOKUP(H55,Results!$A$8:$G$104,2,FALSE)","v":{"$error":"#N/A"}},{"$f":"VLOOKUP(H55,Results!$A$8:$G$104,4,FALSE)","v":{"$error":"#N/A"}},{"$f":"VLOOKUP(H55,Results!$A$8:$G$104,7,FALSE)","v":{"$error":"#N/A"}},{"$f":"VLOOKUP(H55,$B$4:B55,1,FALSE)","v":{"$error":"#N/A"}}]
[null,{"$f":"Results!A59","v":0},{"$f":"Results!C59","v":0},{"$f":"Results!B59","v":0},{"$f":"Results!D59","v":0},{"$f":"Results!G59","v":""},"- vs -",{"$f":"VLOOKUP(B56,Results!$A$8:$BF$104,58,FALSE)","v":{"$error":"#N/A"}},{"$f":"VLOOKUP(H56,Results!A$8:$G$104,3,FALSE)","v":{"$error":"#N/A"}},{"$f":"VLOOKUP(H56,Results!$A$8:$G$104,2,FALSE)","v":{"$error":"#N/A"}},{"$f":"VLOOKUP(H56,Results!$A$8:$G$104,4,FALSE)","v":{"$error":"#N/A"}},{"$f":"VLOOKUP(H56,Results!$A$8:$G$104,7,FALSE)","v":{"$error":"#N/A"}},{"$f":"VLOOKUP(H56,$B$4:B56,1,FALSE)","v":{"$error":"#N/A"}}]
[null,{"$f":"Results!A60","v":0},{"$f":"Results!C60","v":0},{"$f":"Results!B60","v":0},{"$f":"Results!D60","v":0},{"$f":"Results!G60","v":""},"- vs -",{"$f":"VLOOKUP(B57,Results!$A$8:$BF$104,58,FALSE)","v":{"$error":"#N/A"}},{"$f":"VLOOKUP(H57,Results!A$8:$G$104,3,FALSE)","v":{"$error":"#N/A"}},{"$f":"VLOOKUP(H57,Results!$A$8:$G$104,2,FALSE)","v":{"$error":"#N/A"}},{"$f":"VLOOKUP(H57,Results!$A$8:$G$104,4,FALSE)","v":{"$error":"#N/A"}},{"$f":"VLOOKUP(H57,Results!$A$8:$G$104,7,FALSE)","v":{"$error":"#N/A"}},{"$f":"VLOOKUP(H57,$B$4:B57,1,FALSE)","v":{"$error":"#N/A"}}]
[null,{"$f":"Results!A61","v":0},{"$f":"Results!C61","v":0},{"$f":"Results!B61","v":0},{"$f":"Results!D61","v":0},{"$f":"Results!G61","v":""},"- vs -",{"$f":"VLOOKUP(B58,Results!$A$8:$BF$104,58,FALSE)","v":{"$error":"#N/A"}},{"$f":"VLOOKUP(H58,Results!A$8:$G$104,3,FALSE)","v":{"$error":"#N/A"}},{"$f":"VLOOKUP(H58,Results!$A$8:$G$104,2,FALSE)","v":{"$error":"#N/A"}},{"$f":"VLOOKUP(H58,Results!$A$8:$G$104,4,FALSE)","v":{"$error":"#N/A"}},{"$f":"VLOOKUP(H58,Results!$A$8:$G$104,7,FALSE)","v":{"$error":"#N/A"}},{"$f":"VLOOKUP(H58,$B$4:B58,1,FALSE)","v":{"$error":"#N/A"}}]
[null,{"$f":"Results!A62","v":0},{"$f":"Results!C62","v":0},{"$f":"Results!B62","v":0},{"$f":"Results!D62","v":0},{"$f":"Results!G62","v":""},"- vs -",{"$f":"VLOOKUP(B59,Results!$A$8:$BF$104,58,FALSE)","v":{"$error":"#N/A"}},{"$f":"VLOOKUP(H59,Results!A$8:$G$104,3,FALSE)","v":{"$error":"#N/A"}},{"$f":"VLOOKUP(H59,Results!$A$8:$G$104,2,FALSE)","v":{"$error":"#N/A"}},{"$f":"VLOOKUP(H59,Results!$A$8:$G$104,4,FALSE)","v":{"$error":"#N/A"}},{"$f":"VLOOKUP(H59,Results!$A$8:$G$104,7,FALSE)","v":{"$error":"#N/A"}},{"$f":"VLOOKUP(H59,$B$4:B59,1,FALSE)","v":{"$error":"#N/A"}}]
[null,{"$f":"Results!A63","v":0},{"$f":"Results!C63","v":0},{"$f":"Results!B63","v":0},{"$f":"Results!D63","v":0},{"$f":"Results!G63","v":""},"- vs -",{"$f":"VLOOKUP(B60,Results!$A$8:$BF$104,58,FALSE)","v":{"$error":"#N/A"}},{"$f":"VLOOKUP(H60,Results!A$8:$G$104,3,FALSE)","v":{"$error":"#N/A"}},{"$f":"VLOOKUP(H60,Results!$A$8:$G$104,2,FALSE)","v":{"$error":"#N/A"}},{"$f":"VLOOKUP(H60,Results!$A$8:$G$104,4,FALSE)","v":{"$error":"#N/A"}},{"$f":"VLOOKUP(H60,Results!$A$8:$G$104,7,FALSE)","v":{"$error":"#N/A"}},{"$f":"VLOOKUP(H60,$B$4:B60,1,FALSE)","v":{"$error":"#N/A"}}]
[null,{"$f":"Results!A64","v":0},{"$f":"Results!C64","v":0},{"$f":"Results!B64","v":0},{"$f":"Results!D64","v":0},{"$f":"Results!G64","v":""},"- vs -",{"$f":"VLOOKUP(B61,Results!$A$8:$BF$104,58,FALSE)","v":{"$error":"#N/A"}},{"$f":"VLOOKUP(H61,Results!A$8:$G$104,3,FALSE)","v":{"$error":"#N/A"}},{"$f":"VLOOKUP(H61,Results!$A$8:$G$104,2,FALSE)","v":{"$error":"#N/A"}},{"$f":"VLOOKUP(H61,Results!$A$8:$G$104,4,FALSE)","v":{"$error":"#N/A"}},{"$f":"VLOOKUP(H61,Results!$A$8:$G$104,7,FALSE)","v":{"$error":"#N/A"}},{"$f":"VLOOKUP(H61,$B$4:B61,1,FALSE)","v":{"$error":"#N/A"}}]
[null,{"$f":"Results!A65","v":0},{"$f":"Results!C65","v":0},{"$f":"Results!B65","v":0},{"$f":"Results!D65","v":0},{"$f":"Results!G65","v":""},"- vs -",{"$f":"VLOOKUP(B62,Results!$A$8:$BF$104,58,FALSE)","v":{"$error":"#N/A"}},{"$f":"VLOOKUP(H62,Results!A$8:$G$104,3,FALSE)","v":{"$error":"#N/A"}},{"$f":"VLOOKUP(H62,Results!$A$8:$G$104,2,FALSE)","v":{"$error":"#N/A"}},{"$f":"VLOOKUP(H62,Results!$A$8:$G$104,4,FALSE)","v":{"$error":"#N/A"}},{"$f":"VLOOKUP(H62,Results!$A$8:$G$104,7,FALSE)","v":{"$error":"#N/A"}},{"$f":"VLOOKUP(H62,$B$4:B62,1,FALSE)","v":{"$error":"#N/A"}}]
[null,{"$f":"Results!A66","v":0},{"$f":"Results!C66","v":0},{"$f":"Results!B66","v":0},{"$f":"Results!D66","v":0},{"$f":"Results!G66","v":""},"- vs -",{"$f":"VLOOKUP(B63,Results!$A$8:$BF$104,58,FALSE)","v":{"$error":"#N/A"}},{"$f":"VLOOKUP(H63,Results!A$8:$G$104,3,FALSE)","v":{"$error":"#N/A"}},{"$f":"VLOOKUP(H63,Results!$A$8:$G$104,2,FALSE)","v":{"$error":"#N/A"}},{"$f":"VLOOKUP(H63,Results!$A$8:$G$104,4,FALSE)","v":{"$error":"#N/A"}},{"$f":"VLOOKUP(H63,Results!$A$8:$G$104,7,FALSE)","v":{"$error":"#N/A"}},{"$f":"VLOOKUP(H63,$B$4:B63,1,FALSE)","v":{"$error":"#N/A"}}]
[null,{"$f":"Results!A67","v":0},{"$f":"Results!C67","v":0},{"$f":"Results!B67","v":0},{"$f":"Results!D67","v":0},{"$f":"Results!G67","v":""},"- vs -",{"$f":"VLOOKUP(B64,Results!$A$8:$BF$104,58,FALSE)","v":{"$error":"#N/A"}},{"$f":"VLOOKUP(H64,Results!A$8:$G$104,3,FALSE)","v":{"$error":"#N/A"}},{"$f":"VLOOKUP(H64,Results!$A$8:$G$104,2,FALSE)","v":{"$error":"#N/A"}},{"$f":"VLOOKUP(H64,Results!$A$8:$G$104,4,FALSE)","v":{"$error":"#N/A"}},{"$f":"VLOOKUP(H64,Results!$A$8:$G$104,7,FALSE)","v":{"$error":"#N/A"}}]
[null,{"$f":"Results!A68","v":0},{"$f":"Results!C68","v":0},{"$f":"Results!B68","v":0},{"$f":"Results!D68","v":0},{"$f":"Results!G68","v":""},"- vs -",{"$f":"VLOOKUP(B65,Results!$A$8:$BF$104,58,FALSE)","v":{"$error":"#N/A"}},{"$f":"VLOOKUP(H65,Results!A$8:$G$104,3,FALSE)","v":{"$error":"#N/A"}},{"$f":"VLOOKUP(H65,Results!$A$8:$G$104,2,FALSE)","v":{"$error":"#N/A"}},{"$f":"VLOOKUP(H65,Results!$A$8:$G$104,4,FALSE)","v":{"$error":"#N/A"}},{"$f":"VLOOKUP(H65,Results!$A$8:$G$104,7,FALSE)","v":{"$error":"#N/A"}}]
[null,{"$f":"Results!A69","v":0},{"$f":"Results!C69","v":0},{"$f":"Results!B69","v":0},{"$f":"Results!D69","v":0},{"$f":"Results!G69","v":""},"- vs -",{"$f":"VLOOKUP(B66,Results!$A$8:$BF$104,58,FALSE)","v":{"$error":"#N/A"}},{"$f":"VLOOKUP(H66,Results!A$8:$G$104,3,FALSE)","v":{"$error":"#N/A"}},{"$f":"VLOOKUP(H66,Results!$A$8:$G$104,2,FALSE)","v":{"$error":"#N/A"}},{"$f":"VLOOKUP(H66,Results!$A$8:$G$104,4,FALSE)","v":{"$error":"#N/A"}},{"$f":"VLOOKUP(H66,Results!$A$8:$G$104,7,FALSE)","v":{"$error":"#N/A"}}]
[null,{"$f":"Results!A70","v":0},{"$f":"Results!C70","v":0},{"$f":"Results!B70","v":0},{"$f":"Results!D70","v":0},{"$f":"Results!G70","v":""},"- vs -",{"$f":"VLOOKUP(B67,Results!$A$8:$BF$104,58,FALSE)","v":{"$error":"#N/A"}},{"$f":"VLOOKUP(H67,Results!A$8:$G$104,3,FALSE)","v":{"$error":"#N/A"}},{"$f":"VLOOKUP(H67,Results!$A$8:$G$104,2,FALSE)","v":{"$error":"#N/A"}},{"$f":"VLOOKUP(H67,Results!$A$8:$G$104,4,FALSE)","v":{"$error":"#N/A"}},{"$f":"VLOOKUP(H67,Results!$A$8:$G$104,7,FALSE)","v":{"$error":"#N/A"}}]
[null,{"$f":"Results!A71","v":0},{"$f":"Results!C71","v":0},{"$f":"Results!B71","v":0},{"$f":"Results!D71","v":0},{"$f":"Results!G71","v":""},"- vs -",{"$f":"VLOOKUP(B68,Results!$A$8:$BF$104,58,FALSE)","v":{"$error":"#N/A"}},{"$f":"VLOOKUP(H68,Results!A$8:$G$104,3,FALSE)","v":{"$error":"#N/A"}},{"$f":"VLOOKUP(H68,Results!$A$8:$G$104,2,FALSE)","v":{"$error":"#N/A"}},{"$f":"VLOOKUP(H68,Results!$A$8:$G$104,4,FALSE)","v":{"$error":"#N/A"}},{"$f":"VLOOKUP(H68,Results!$A$8:$G$104,7,FALSE)","v":{"$error":"#N/A"}}]
[null,{"$f":"Results!A72","v":0},{"$f":"Results!C72","v":0},{"$f":"Results!B72","v":0},{"$f":"Results!D72","v":0},{"$f":"Results!G72","v":""},"- vs -",{"$f":"VLOOKUP(B69,Results!$A$8:$BF$104,58,FALSE)","v":{"$error":"#N/A"}},{"$f":"VLOOKUP(H69,Results!A$8:$G$104,3,FALSE)","v":{"$error":"#N/A"}},{"$f":"VLOOKUP(H69,Results!$A$8:$G$104,2,FALSE)","v":{"$error":"#N/A"}},{"$f":"VLOOKUP(H69,Results!$A$8:$G$104,4,FALSE)","v":{"$error":"#N/A"}},{"$f":"VLOOKUP(H69,Results!$A$8:$G$104,7,FALSE)","v":{"$error":"#N/A"}}]
[null,{"$f":"Results!A73","v":0},{"$f":"Results!C73","v":0},{"$f":"Results!B73","v":0},{"$f":"Results!D73","v":0},{"$f":"Results!G73","v":""},"- vs -",{"$f":"VLOOKUP(B70,Results!$A$8:$BF$104,58,FALSE)","v":{"$error":"#N/A"}},{"$f":"VLOOKUP(H70,Results!A$8:$G$104,3,FALSE)","v":{"$error":"#N/A"}},{"$f":"VLOOKUP(H70,Results!$A$8:$G$104,2,FALSE)","v":{"$error":"#N/A"}},{"$f":"VLOOKUP(H70,Results!$A$8:$G$104,4,FALSE)","v":{"$error":"#N/A"}},{"$f":"VLOOKUP(H70,Results!$A$8:$G$104,7,FALSE)","v":{"$error":"#N/A"}}]
[null,{"$f":"Results!A74","v":0},{"$f":"Results!C74","v":0},{"$f":"Results!B74","v":0},{"$f":"Results!D74","v":0},{"$f":"Results!G74","v":""},"- vs -",{"$f":"VLOOKUP(B71,Results!$A$8:$BF$104,58,FALSE)","v":{"$error":"#N/A"}},{"$f":"VLOOKUP(H71,Results!A$8:$G$104,3,FALSE)","v":{"$error":"#N/A"}},{"$f":"VLOOKUP(H71,Results!$A$8:$G$104,2,FALSE)","v":{"$error":"#N/A"}},{"$f":"VLOOKUP(H71,Results!$A$8:$G$104,4,FALSE)","v":{"$error":"#N/A"}},{"$f":"VLOOKUP(H71,Results!$A$8:$G$104,7,FALSE)","v":{"$error":"#N/A"}}]
[null,{"$f":"Results!A75","v":0},{"$f":"Results!C75","v":0},{"$f":"Results!B75","v":0},{"$f":"Results!D75","v":0},{"$f":"Results!G75","v":""},"- vs -",{"$f":"VLOOKUP(B72,Results!$A$8:$BF$104,58,FALSE)","v":{"$error":"#N/A"}},{"$f":"VLOOKUP(H72,Results!A$8:$G$104,3,FALSE)","v":{"$error":"#N/A"}},{"$f":"VLOOKUP(H72,Results!$A$8:$G$104,2,FALSE)","v":{"$error":"#N/A"}},{"$f":"VLOOKUP(H72,Results!$A$8:$G$104,4,FALSE)","v":{"$error":"#N/A"}},{"$f":"VLOOKUP(H72,Results!$A$8:$G$104,7,FALSE)","v":{"$error":"#N/A"}}]
[null,{"$f":"Results!A76","v":0},{"$f":"Results!C76","v":0},{"$f":"Results!B76","v":0},{"$f":"Results!D76","v":0},{"$f":"Results!G76","v":""},"- vs -",{"$f":"VLOOKUP(B73,Results!$A$8:$BF$104,58,FALSE)","v":{"$error":"#N/A"}},{"$f":"VLOOKUP(H73,Results!A$8:$G$104,3,FALSE)","v":{"$error":"#N/A"}},{"$f":"VLOOKUP(H73,Results!$A$8:$G$104,2,FALSE)","v":{"$error":"#N/A"}},{"$f":"VLOOKUP(H73,Results!$A$8:$G$104,4,FALSE)","v":{"$error":"#N/A"}},{"$f":"VLOOKUP(H73,Results!$A$8:$G$104,7,FALSE)","v":{"$error":"#N/A"}}]
[null,{"$f":"Results!A77","v":0},{"$f":"Results!C77","v":0},{"$f":"Results!B77","v":0},{"$f":"Results!D77","v":0},{"$f":"Results!G77","v":""},"- vs -",{"$f":"VLOOKUP(B74,Results!$A$8:$BF$104,58,FALSE)","v":{"$error":"#N/A"}},{"$f":"VLOOKUP(H74,Results!A$8:$G$104,3,FALSE)","v":{"$error":"#N/A"}},{"$f":"VLOOKUP(H74,Results!$A$8:$G$104,2,FALSE)","v":{"$error":"#N/A"}},{"$f":"VLOOKUP(H74,Results!$A$8:$G$104,4,FALSE)","v":{"$error":"#N/A"}},{"$f":"VLOOKUP(H74,Results!$A$8:$G$104,7,FALSE)","v":{"$error":"#N/A"}}]
[null,{"$f":"Results!A78","v":0},{"$f":"Results!C78","v":0},{"$f":"Results!B78","v":0},{"$f":"Results!D78","v":0},{"$f":"Results!G78","v":""},"- vs -",{"$f":"VLOOKUP(B75,Results!$A$8:$BF$104,58,FALSE)","v":{"$error":"#N/A"}},{"$f":"VLOOKUP(H75,Results!A$8:$G$104,3,FALSE)","v":{"$error":"#N/A"}},{"$f":"VLOOKUP(H75,Results!$A$8:$G$104,2,FALSE)","v":{"$error":"#N/A"}},{"$f":"VLOOKUP(H75,Results!$A$8:$G$104,4,FALSE)","v":{"$error":"#N/A"}},{"$f":"VLOOKUP(H75,Results!$A$8:$G$104,7,FALSE)","v":{"$error":"#N/A"}}]
[null,{"$f":"Results!A79","v":0},{"$f":"Results!C79","v":0},{"$f":"Results!B79","v":0},{"$f":"Results!D79","v":0},{"$f":"Results!G79","v":""},"- vs -",{"$f":"VLOOKUP(B76,Results!$A$8:$BF$104,58,FALSE)","v":{"$error":"#N/A"}},{"$f":"VLOOKUP(H76,Results!A$8:$G$104,3,FALSE)","v":{"$error":"#N/A"}},{"$f":"VLOOKUP(H76,Results!$A$8:$G$104,2,FALSE)","v":{"$error":"#N/A"}},{"$f":"VLOOKUP(H76,Results!$A$8:$G$104,4,FALSE)","v":{"$error":"#N/A"}},{"$f":"VLOOKUP(H76,Results!$A$8:$G$104,7,FALSE)","v":{"$error":"#N/A"}}]
[null,{"$f":"Results!A80","v":0},{"$f":"Results!C80","v":0},{"$f":"Results!B80","v":0},{"$f":"Results!D80","v":0},{"$f":"Results!G80","v":""},"- vs -",{"$f":"VLOOKUP(B77,Results!$A$8:$BF$104,58,FALSE)","v":{"$error":"#N/A"}},{"$f":"VLOOKUP(H77,Results!A$8:$G$104,3,FALSE)","v":{"$error":"#N/A"}},{"$f":"VLOOKUP(H77,Results!$A$8:$G$104,2,FALSE)","v":{"$error":"#N/A"}},{"$f":"VLOOKUP(H77,Results!$A$8:$G$104,4,FALSE)","v":{"$error":"#N/A"}},{"$f":"VLOOKUP(H77,Results!$A$8:$G$104,7,FALSE)","v":{"$error":"#N/A"}}]
[null,{"$f":"Results!A81","v":0},{"$f":"Results!C81","v":0},{"$f":"Results!B81","v":0},{"$f":"Results!D81","v":0},{"$f":"Results!G81","v":""},"- vs -",{"$f":"VLOOKUP(B78,Results!$A$8:$BF$104,58,FALSE)","v":{"$error":"#N/A"}},{"$f":"VLOOKUP(H78,Results!A$8:$G$104,3,FALSE)","v":{"$error":"#N/A"}},{"$f":"VLOOKUP(H78,Results!$A$8:$G$104,2,FALSE)","v":{"$error":"#N/A"}},{"$f":"VLOOKUP(H78,Results!$A$8:$G$104,4,FALSE)","v":{"$error":"#N/A"}},{"$f":"VLOOKUP(H78,Results!$A$8:$G$104,7,FALSE)","v":{"$error":"#N/A"}}]
[null,{"$f":"Results!A82","v":0},{"$f":"Results!C82","v":0},{"$f":"Results!B82","v":0},{"$f":"Results!D82","v":0},{"$f":"Results!G82","v":""},"- vs -",{"$f":"VLOOKUP(B79,Results!$A$8:$BF$104,58,FALSE)","v":{"$error":"#N/A"}},{"$f":"VLOOKUP(H79,Results!A$8:$G$104,3,FALSE)","v":{"$error":"#N/A"}},{"$f":"VLOOKUP(H79,Results!$A$8:$G$104,2,FALSE)","v":{"$error":"#N/A"}},{"$f":"VLOOKUP(H79,Results!$A$8:$G$104,4,FALSE)","v":{"$error":"#N/A"}},{"$f":"VLOOKUP(H79,Results!$A$8:$G$104,7,FALSE)","v":{"$error":"#N/A"}}]
[null,{"$f":"Results!A83","v":0},{"$f":"Results!C83","v":0},{"$f":"Results!B83","v":0},{"$f":"Results!D83","v":0},{"$f":"Results!G83","v":""},"- vs -",{"$f":"VLOOKUP(B80,Results!$A$8:$BF$104,58,FALSE)","v":{"$error":"#N/A"}},{"$f":"VLOOKUP(H80,Results!A$8:$G$104,3,FALSE)","v":{"$error":"#N/A"}},{"$f":"VLOOKUP(H80,Results!$A$8:$G$104,2,FALSE)","v":{"$error":"#N/A"}},{"$f":"VLOOKUP(H80,Results!$A$8:$G$104,4,FALSE)","v":{"$error":"#N/A"}},{"$f":"VLOOKUP(H80,Results!$A$8:$G$104,7,FALSE)","v":{"$error":"#N/A"}}]
[null,{"$f":"Results!A84","v":0},{"$f":"Results!C84","v":0},{"$f":"Results!B84","v":0},{"$f":"Results!D84","v":0},{"$f":"Results!G84","v":""},"- vs -",{"$f":"VLOOKUP(B81,Results!$A$8:$BF$104,58,FALSE)","v":{"$error":"#N/A"}},{"$f":"VLOOKUP(H81,Results!A$8:$G$104,3,FALSE)","v":{"$error":"#N/A"}},{"$f":"VLOOKUP(H81,Results!$A$8:$G$104,2,FALSE)","v":{"$error":"#N/A"}},{"$f":"VLOOKUP(H81,Results!$A$8:$G$104,4,FALSE)","v":{"$error":"#N/A"}},{"$f":"VLOOKUP(H81,Results!$A$8:$G$104,7,FALSE)","v":{"$error":"#N/A"}}]
[null,{"$f":"Results!A85","v":0},{"$f":"Results!C85","v":0},{"$f":"Results!B85","v":0},{"$f":"Results!D85","v":0},{"$f":"Results!G85","v":""},"- vs -",{"$f":"VLOOKUP(B82,Results!$A$8:$BF$104,58,FALSE)","v":{"$error":"#N/A"}},{"$f":"VLOOKUP(H82,Results!A$8:$G$104,3,FALSE)","v":{"$error":"#N/A"}},{"$f":"VLOOKUP(H82,Results!$A$8:$G$104,2,FALSE)","v":{"$error":"#N/A"}},{"$f":"VLOOKUP(H82,Results!$A$8:$G$104,4,FALSE)","v":{"$error":"#N/A"}},{"$f":"VLOOKUP(H82,Results!$A$8:$G$104,7,FALSE)","v":{"$error":"#N/A"}}]
[null,{"$f":"Results!A86","v":0},{"$f":"Results!C86","v":0},{"$f":"Results!B86","v":0},{"$f":"Results!D86","v":0},{"$f":"Results!G86","v":""},"- vs -",{"$f":"VLOOKUP(B83,Results!$A$8:$BF$104,58,FALSE)","v":{"$error":"#N/A"}},{"$f":"VLOOKUP(H83,Results!A$8:$G$104,3,FALSE)","v":{"$error":"#N/A"}},{"$f":"VLOOKUP(H83,Results!$A$8:$G$104,2,FALSE)","v":{"$error":"#N/A"}},{"$f":"VLOOKUP(H83,Results!$A$8:$G$104,4,FALSE)","v":{"$error":"#N/A"}},{"$f":"VLOOKUP(H83,Results!$A$8:$G$104,7,FALSE)","v":{"$error":"#N/A"}}]
[null,{"$f":"Results!A87","v":0},{"$f":"Results!C87","v":0},{"$f":"Results!B87","v":0},{"$f":"Results!D87","v":0},{"$f":"Results!G87","v":""},"- vs -",{"$f":"VLOOKUP(B84,Results!$A$8:$BF$104,58,FALSE)","v":{"$error":"#N/A"}},{"$f":"VLOOKUP(H84,Results!A$8:$G$104,3,FALSE)","v":{"$error":"#N/A"}},{"$f":"VLOOKUP(H84,Results!$A$8:$G$104,2,FALSE)","v":{"$error":"#N/A"}},{"$f":"VLOOKUP(H84,Results!$A$8:$G$104,4,FALSE)","v":{"$error":"#N/A"}},{"$f":"VLOOKUP(H84,Results!$A$8:$G$104,7,FALSE)","v":{"$error":"#N/A"}}]
[null,{"$f":"Results!A88","v":0},{"$f":"Results!C88","v":0},{"$f":"Results!B88","v":0},{"$f":"Results!D88","v":0},{"$f":"Results!G88","v":""},"- vs -",{"$f":"VLOOKUP(B85,Results!$A$8:$BF$104,58,FALSE)","v":{"$error":"#N/A"}},{"$f":"VLOOKUP(H85,Results!A$8:$G$104,3,FALSE)","v":{"$error":"#N/A"}},{"$f":"VLOOKUP(H85,Results!$A$8:$G$104,2,FALSE)","v":{"$error":"#N/A"}},{"$f":"VLOOKUP(H85,Results!$A$8:$G$104,4,FALSE)","v":{"$error":"#N/A"}},{"$f":"VLOOKUP(H85,Results!$A$8:$G$104,7,FALSE)","v":{"$error":"#N/A"}}]
[null,{"$f":"Results!A89","v":0},{"$f":"Results!C89","v":0},{"$f":"Results!B89","v":0},{"$f":"Results!D89","v":0},{"$f":"Results!G89","v":""},"- vs -",{"$f":"VLOOKUP(B86,Results!$A$8:$BF$104,58,FALSE)","v":{"$error":"#N/A"}},{"$f":"VLOOKUP(H86,Results!A$8:$G$104,3,FALSE)","v":{"$error":"#N/A"}},{"$f":"VLOOKUP(H86,Results!$A$8:$G$104,2,FALSE)","v":{"$error":"#N/A"}},{"$f":"VLOOKUP(H86,Results!$A$8:$G$104,4,FALSE)","v":{"$error":"#N/A"}},{"$f":"VLOOKUP(H86,Results!$A$8:$G$104,7,FALSE)","v":{"$error":"#N/A"}}]
[null,{"$f":"Results!A90","v":0},{"$f":"Results!C90","v":0},{"$f":"Results!B90","v":0},{"$f":"Results!D90","v":0},{"$f":"Results!G90","v":""},"- vs -",{"$f":"VLOOKUP(B87,Results!$A$8:$BF$104,58,FALSE)","v":{"$error":"#N/A"}},{"$f":"VLOOKUP(H87,Results!A$8:$G$104,3,FALSE)","v":{"$error":"#N/A"}},{"$f":"VLOOKUP(H87,Results!$A$8:$G$104,2,FALSE)","v":{"$error":"#N/A"}},{"$f":"VLOOKUP(H87,Results!$A$8:$G$104,4,FALSE)","v":{"$error":"#N/A"}},{"$f":"VLOOKUP(H87,Results!$A$8:$G$104,7,FALSE)","v":{"$error":"#N/A"}}]
[null,{"$f":"Results!A91","v":0},{"$f":"Results!C91","v":0},{"$f":"Results!B91","v":0},{"$f":"Results!D91","v":0},{"$f":"Results!G91","v":""},"- vs -",{"$f":"VLOOKUP(B88,Results!$A$8:$BF$104,58,FALSE)","v":{"$error":"#N/A"}},{"$f":"VLOOKUP(H88,Results!A$8:$G$104,3,FALSE)","v":{"$error":"#N/A"}},{"$f":"VLOOKUP(H88,Results!$A$8:$G$104,2,FALSE)","v":{"$error":"#N/A"}},{"$f":"VLOOKUP(H88,Results!$A$8:$G$104,4,FALSE)","v":{"$error":"#N/A"}},{"$f":"VLOOKUP(H88,Results!$A$8:$G$104,7,FALSE)","v":{"$error":"#N/A"}}]
[null,{"$f":"Results!A92","v":0},{"$f":"Results!C92","v":0},{"$f":"Results!B92","v":0},{"$f":"Results!D92","v":0},{"$f":"Results!G92","v":""},"- vs -",{"$f":"VLOOKUP(B89,Results!$A$8:$BF$104,58,FALSE)","v":{"$error":"#N/A"}},{"$f":"VLOOKUP(H89,Results!A$8:$G$104,3,FALSE)","v":{"$error":"#N/A"}},{"$f":"VLOOKUP(H89,Results!$A$8:$G$104,2,FALSE)","v":{"$error":"#N/A"}},{"$f":"VLOOKUP(H89,Results!$A$8:$G$104,4,FALSE)","v":{"$error":"#N/A"}},{"$f":"VLOOKUP(H89,Results!$A$8:$G$104,7,FALSE)","v":{"$error":"#N/A"}}]
[null,{"$f":"Results!A93","v":0},{"$f":"Results!C93","v":0},{"$f":"Results!B93","v":0},{"$f":"Results!D93","v":0},{"$f":"Results!G93","v":""},"- vs -",{"$f":"VLOOKUP(B90,Results!$A$8:$BF$104,58,FALSE)","v":{"$error":"#N/A"}},{"$f":"VLOOKUP(H90,Results!A$8:$G$104,3,FALSE)","v":{"$error":"#N/A"}},{"$f":"VLOOKUP(H90,Results!$A$8:$G$104,2,FALSE)","v":{"$error":"#N/A"}},{"$f":"VLOOKUP(H90,Results!$A$8:$G$104,4,FALSE)","v":{"$error":"#N/A"}},{"$f":"VLOOKUP(H90,Results!$A$8:$G$104,7,FALSE)","v":{"$error":"#N/A"}}]
[null,{"$f":"Results!A94","v":0},{"$f":"Results!C94","v":0},{"$f":"Results!B94","v":0},{"$f":"Results!D94","v":0},{"$f":"Results!G94","v":""},"- vs -",{"$f":"VLOOKUP(B91,Results!$A$8:$BF$104,58,FALSE)","v":{"$error":"#N/A"}},{"$f":"VLOOKUP(H91,Results!A$8:$G$104,3,FALSE)","v":{"$error":"#N/A"}},{"$f":"VLOOKUP(H91,Results!$A$8:$G$104,2,FALSE)","v":{"$error":"#N/A"}},{"$f":"VLOOKUP(H91,Results!$A$8:$G$104,4,FALSE)","v":{"$error":"#N/A"}},{"$f":"VLOOKUP(H91,Results!$A$8:$G$104,7,FALSE)","v":{"$error":"#N/A"}}]
[null,{"$f":"Results!A95","v":0},{"$f":"Results!C95","v":0},{"$f":"Results!B95","v":0},{"$f":"Results!D95","v":0},{"$f":"Results!G95","v":""},"- vs -",{"$f":"VLOOKUP(B92,Results!$A$8:$BF$104,58,FALSE)","v":{"$error":"#N/A"}},{"$f":"VLOOKUP(H92,Results!A$8:$G$104,3,FALSE)","v":{"$error":"#N/A"}},{"$f":"VLOOKUP(H92,Results!$A$8:$G$104,2,FALSE)","v":{"$error":"#N/A"}},{"$f":"VLOOKUP(H92,Results!$A$8:$G$104,4,FALSE)","v":{"$error":"#N/A"}},{"$f":"VLOOKUP(H92,Results!$A$8:$G$104,7,FALSE)","v":{"$error":"#N/A"}}]
[null,{"$f":"Results!A96","v":0},{"$f":"Results!C96","v":0},{"$f":"Results!B96","v":0},{"$f":"Results!D96","v":0},{"$f":"Results!G96","v":""},"- vs -",{"$f":"VLOOKUP(B93,Results!$A$8:$BF$104,58,FALSE)","v":{"$error":"#N/A"}},{"$f":"VLOOKUP(H93,Results!A$8:$G$104,3,FALSE)","v":{"$error":"#N/A"}},{"$f":"VLOOKUP(H93,Results!$A$8:$G$104,2,FALSE)","v":{"$error":"#N/A"}},{"$f":"VLOOKUP(H93,Results!$A$8:$G$104,4,FALSE)","v":{"$error":"#N/A"}},{"$f":"VLOOKUP(H93,Results!$A$8:$G$104,7,FALSE)","v":{"$error":"#N/A"}}]
[null,{"$f":"Results!A97","v":0},{"$f":"Results!C97","v":0},{"$f":"Results!B97","v":0},{"$f":"Results!D97","v":0},{"$f":"Results!G97","v":""},"- vs -",{"$f":"VLOOKUP(B94,Results!$A$8:$BF$104,58,FALSE)","v":{"$error":"#N/A"}},{"$f":"VLOOKUP(H94,Results!A$8:$G$104,3,FALSE)","v":{"$error":"#N/A"}},{"$f":"VLOOKUP(H94,Results!$A$8:$G$104,2,FALSE)","v":{"$error":"#N/A"}},{"$f":"VLOOKUP(H94,Results!$A$8:$G$104,4,FALSE)","v":{"$error":"#N/A"}},{"$f":"VLOOKUP(H94,Results!$A$8:$G$104,7,FALSE)","v":{"$error":"#N/A"}}]
[null,{"$f":"Results!A98","v":0},{"$f":"Results!C98","v":0},{"$f":"Results!B98","v":0},{"$f":"Results!D98","v":0},{"$f":"Results!G98","v":""},"- vs -",{"$f":"VLOOKUP(B95,Results!$A$8:$BF$104,58,FALSE)","v":{"$error":"#N/A"}},{"$f":"VLOOKUP(H95,Results!A$8:$G$104,3,FALSE)","v":{"$error":"#N/A"}},{"$f":"VLOOKUP(H95,Results!$A$8:$G$104,2,FALSE)","v":{"$error":"#N/A"}},{"$f":"VLOOKUP(H95,Results!$A$8:$G$104,4,FALSE)","v":{"$error":"#N/A"}},{"$f":"VLOOKUP(H95,Results!$A$8:$G$104,7,FALSE)","v":{"$error":"#N/A"}}]
[null,{"$f":"Results!A99","v":0},{"$f":"Results!C99","v":0},{"$f":"Results!B99","v":0},{"$f":"Results!D99","v":0},{"$f":"Results!G99","v":""},"- vs -",{"$f":"VLOOKUP(B96,Results!$A$8:$BF$104,58,FALSE)","v":{"$error":"#N/A"}},{"$f":"VLOOKUP(H96,Results!A$8:$G$104,3,FALSE)","v":{"$error":"#N/A"}},{"$f":"VLOOKUP(H96,Results!$A$8:$G$104,2,FALSE)","v":{"$error":"#N/A"}},{"$f":"VLOOKUP(H96,Results!$A$8:$G$104,4,FALSE)","v":{"$error":"#N/A"}},{"$f":"VLOOKUP(H96,Results!$A$8:$G$104,7,FALSE)","v":{"$error":"#N/A"}}]
[null,{"$f":"Results!A100","v":0},{"$f":"Results!C100","v":0},{"$f":"Results!B100","v":0},{"$f":"Results!D100","v":0},{"$f":"Results!G100","v":""},"- vs -",{"$f":"VLOOKUP(B97,Results!$A$8:$BF$104,58,FALSE)","v":{"$error":"#N/A"}},{"$f":"VLOOKUP(H97,Results!A$8:$G$104,3,FALSE)","v":{"$error":"#N/A"}},{"$f":"VLOOKUP(H97,Results!$A$8:$G$104,2,FALSE)","v":{"$error":"#N/A"}},{"$f":"VLOOKUP(H97,Results!$A$8:$G$104,4,FALSE)","v":{"$error":"#N/A"}},{"$f":"VLOOKUP(H97,Results!$A$8:$G$104,7,FALSE)","v":{"$error":"#N/A"}}]
[null,{"$f":"Results!A101","v":0},{"$f":"Results!C101","v":0},{"$f":"Results!B101","v":0},{"$f":"Results!D101","v":0},{"$f":"Results!G101","v":""},"- vs -",{"$f":"VLOOKUP(B98,Results!$A$8:$BF$104,58,FALSE)","v":{"$error":"#N/A"}},{"$f":"VLOOKUP(H98,Results!A$8:$G$104,3,FALSE)","v":{"$error":"#N/A"}},{"$f":"VLOOKUP(H98,Results!$A$8:$G$104,2,FALSE)","v":{"$error":"#N/A"}},{"$f":"VLOOKUP(H98,Results!$A$8:$G$104,4,FALSE)","v":{"$error":"#N/A"}},{"$f":"VLOOKUP(H98,Results!$A$8:$G$104,7,FALSE)","v":{"$error":"#N/A"}}]
[null,{"$f":"Results!A102","v":0},{"$f":"Results!C102","v":0},{"$f":"Results!B102","v":0},{"$f":"Results!D102","v":0},{"$f":"Results!G102","v":""},"- vs -",{"$f":"VLOOKUP(B99,Results!$A$8:$BF$104,58,FALSE)","v":{"$error":"#N/A"}},{"$f":"VLOOKUP(H99,Results!A$8:$G$104,3,FALSE)","v":{"$error":"#N/A"}},{"$f":"VLOOKUP(H99,Results!$A$8:$G$104,2,FALSE)","v":{"$error":"#N/A"}},{"$f":"VLOOKUP(H99,Results!$A$8:$G$104,4,FALSE)","v":{"$error":"#N/A"}},{"$f":"VLOOKUP(H99,Results!$A$8:$G$104,7,FALSE)","v":{"$error":"#N/A"}}]
[null,{"$f":"Results!A103","v":0},{"$f":"Results!C103","v":0},{"$f":"Results!B103","v":0},{"$f":"Results!D103","v":0},{"$f":"Results!G103","v":""},"- vs -",{"$f":"VLOOKUP(B100,Results!$A$8:$BF$104,58,FALSE)","v":{"$error":"#N/A"}},{"$f":"VLOOKUP(H100,Results!A$8:$G$104,3,FALSE)","v":{"$error":"#N/A"}},{"$f":"VLOOKUP(H100,Results!$A$8:$G$104,2,FALSE)","v":{"$error":"#N/A"}},{"$f":"VLOOKUP(H100,Results!$A$8:$G$104,4,FALSE)","v":{"$error":"#N/A"}},{"$f":"VLOOKUP(H100,Results!$A$8:$G$104,7,FALSE)","v":{"$error":"#N/A"}}]
[null,{"$f":"Results!A104","v":0},{"$f":"Results!C104","v":0},{"$f":"Results!B104","v":0},{"$f":"Results!D104","v":0},{"$f":"Results!G104","v":""},"- vs -",{"$f":"VLOOKUP(B101,Results!$A$8:$BF$104,58,FALSE)","v":{"$error":"#N/A"}},{"$f":"VLOOKUP(H101,Results!A$8:$G$104,3,FALSE)","v":{"$error":"#N/A"}},{"$f":"VLOOKUP(H101,Results!$A$8:$G$104,2,FALSE)","v":{"$error":"#N/A"}},{"$f":"VLOOKUP(H101,Results!$A$8:$G$104,4,FALSE)","v":{"$error":"#N/A"}},{"$f":"VLOOKUP(H101,Results!$A$8:$G$104,7,FALSE)","v":{"$error":"#N/A"}}]
[null,{"$f":"Results!A105","v":0},{"$f":"Results!C105","v":0},{"$f":"Results!B105","v":0},{"$f":"Results!D105","v":0},{"$f":"Results!G105","v":""},"- vs -",{"$f":"VLOOKUP(B102,Results!$A$8:$BF$104,58,FALSE)","v":{"$error":"#N/A"}},{"$f":"VLOOKUP(H102,Results!A$8:$G$104,3,FALSE)","v":{"$error":"#N/A"}},{"$f":"VLOOKUP(H102,Results!$A$8:$G$104,2,FALSE)","v":{"$error":"#N/A"}},{"$f":"VLOOKUP(H102,Results!$A$8:$G$104,4,FALSE)","v":{"$error":"#N/A"}},{"$f":"VLOOKUP(H102,Results!$A$8:$G$104,7,FALSE)","v":{"$error":"#N/A"}}]
[null,{"$f":"Results!A106","v":0},{"$f":"Results!C106","v":0},{"$f":"Results!B106","v":0},{"$f":"Results!D106","v":0},{"$f":"Results!G106","v":""},"- vs -",{"$f":"VLOOKUP(B103,Results!$A$8:$BF$104,58,FALSE)","v":{"$error":"#N/A"}},{"$f":"VLOOKUP(H103,Results!A$8:$G$104,3,FALSE)","v":{"$error":"#N/A"}},{"$f":"VLOOKUP(H103,Results!$A$8:$G$104,2,FALSE)","v":{"$error":"#N/A"}},{"$f":"VLOOKUP(H103,Results!$A$8:$G$104,4,FALSE)","v":{"$error":"#N/A"}},{"$f":"VLOOKUP(H103,Results!$A$8:$G$104,7,FALSE)","v":{"$error":"#N/A"}}]
[null,{"$f":"Results!A107","v":0},{"$f":"Results!C107","v":0},{"$f":"Results!B107","v":0},{"$f":"Results!D107","v":0},{"$f":"Results!G107","v":""},"- vs -",{"$f":"VLOOKUP(B104,Results!$A$8:$BF$104,58,FALSE)","v":{"$error":"#N/A"}},{"$f":"VLOOKUP(H104,Results!A$8:$G$104,3,FALSE)","v":{"$error":"#N/A"}},{"$f":"VLOOKUP(H104,Results!$A$8:$G$104,2,FALSE)","v":{"$error":"#N/A"}},{"$f":"VLOOKUP(H104,Results!$A$8:$G$104,4,FALSE)","v":{"$error":"#N/A"}},{"$f":"VLOOKUP(H104,Results!$A$8:$G$104,7,FALSE)","v":{"$error":"#N/A"}}]

{"sheet":"Round 9","index":17,"n_rows":69,"n_cols":13,"rows_kept":69,"cut":false,"hidden":true,"merged":[]}
[null,null,null,null,"Round 9 Draw"]
[null,null,{"$f":"Results!B3","v":"Kegworth Codgers 2024"}]
[null,null,{"$f":"Results!B4","v":"Roman Period"}]
[null,null,null,null,null,null,null,null,null,null,null,null,"VALID?"]
[null,{"$f":"Results!A8","v":486},{"$f":"Results!C8","v":"Alan"},{"$f":"Results!B8","v":"Cutner"},{"$f":"Results!D8","v":"Tradeston"},{"$f":"Results!G8","v":""},"- vs -",{"$f":"VLOOKUP(B5,Results!$A$8:$BM$104,65,FALSE)","v":0},{"$f":"VLOOKUP(H5,Results!A$8:$G$104,3,FALSE)","v":{"$error":"#N/A"}},{"$f":"VLOOKUP(H5,Results!$A$8:$G$104,2,FALSE)","v":{"$error":"#N/A"}},{"$f":"VLOOKUP(H5,Results!$A$8:$G$104,4,FALSE)","v":{"$error":"#N/A"}},{"$f":"VLOOKUP(H5,Results!$A$8:$G$104,7,FALSE)","v":{"$error":"#N/A"}},{"$f":"VLOOKUP(H5,$B$4:B5,1,FALSE)","v":{"$error":"#N/A"}}]
[null,{"$f":"Results!A9","v":1579},{"$f":"Results!C9","v":"Alistair"},{"$f":"Results!B9","v":"Wright"},{"$f":"Results!D9","v":"Millbrook"},{"$f":"Results!G9","v":""},"- vs -",{"$f":"VLOOKUP(B6,Results!$A$8:$BM$104,65,FALSE)","v":0},{"$f":"VLOOKUP(H6,Results!A$8:$G$104,3,FALSE)","v":{"$error":"#N/A"}},{"$f":"VLOOKUP(H6,Results!$A$8:$G$104,2,FALSE)","v":{"$error":"#N/A"}},{"$f":"VLOOKUP(H6,Results!$A$8:$G$104,4,FALSE)","v":{"$error":"#N/A"}},{"$f":"VLOOKUP(H6,Results!$A$8:$G$104,7,FALSE)","v":{"$error":"#N/A"}},{"$f":"VLOOKUP(H6,$B$4:B6,1,FALSE)","v":{"$error":"#N/A"}}]
[null,{"$f":"Results!A10","v":748},{"$f":"Results!C10","v":"Andrew"},{"$f":"Results!B10","v":"Whitby"},{"$f":"Results!D10","v":"Bristol"},{"$f":"Results!G10","v":""},"- vs -",{"$f":"VLOOKUP(B7,Results!$A$8:$BM$104,65,FALSE)","v":0},{"$f":"VLOOKUP(H7,Results!A$8:$G$104,3,FALSE)","v":{"$error":"#N/A"}},{"$f":"VLOOKUP(H7,Results!$A$8:$G$104,2,FALSE)","v":{"$error":"#N/A"}},{"$f":"VLOOKUP(H7,Results!$A$8:$G$104,4,FALSE)","v":{"$error":"#N/A"}},{"$f":"VLOOKUP(H7,Results!$A$8:$G$104,7,FALSE)","v":{"$error":"#N/A"}},{"$f":"VLOOKUP(H7,$B$4:B7,1,FALSE)","v":{"$error":"#N/A"}}]
[null,{"$f":"Results!A11","v":1598},{"$f":"Results!C11","v":"Andy"},{"$f":"Results!B11","v":"Fyfe"},{"$f":"Results!D11","v":"FDWG"},{"$f":"Results!G11","v":""},"- vs -",{"$f":"VLOOKUP(B8,Results!$A$8:$BM$104,65,FALSE)","v":0},{"$f":"VLOOKUP(H8,Results!A$8:$G$104,3,FALSE)","v":{"$error":"#N/A"}},{"$f":"VLOOKUP(H8,Results!$A$8:$G$104,2,FALSE)","v":{"$error":"#N/A"}},{"$f":"VLOOKUP(H8,Results!$A$8:$G$104,4,FALSE)","v":{"$error":"#N/A"}},{"$f":"VLOOKUP(H8,Results!$A$8:$G$104,7,FALSE)","v":{"$error":"#N/A"}},{"$f":"VLOOKUP(H8,$B$4:B8,1,FALSE)","v":{"$error":"#N/A"}}]
[null,{"$f":"Results!A12","v":714},{"$f":"Results!C12","v":"Andy"},{"$f":"Results!B12","v":"Gilbert"},{"$f":"Results!D12","v":"Pompey"},{"$f":"Results!G12","v":""},"- vs -",{"$f":"VLOOKUP(B9,Results!$A$8:$BM$104,65,FALSE)","v":0},{"$f":"VLOOKUP(H9,Results!A$8:$G$104,3,FALSE)","v":{"$error":"#N/A"}},{"$f":"VLOOKUP(H9,Results!$A$8:$G$104,2,FALSE)","v":{"$error":"#N/A"}},{"$f":"VLOOKUP(H9,Results!$A$8:$G$104,4,FALSE)","v":{"$error":"#N/A"}},{"$f":"VLOOKUP(H9,Results!$A$8:$G$104,7,FALSE)","v":{"$error":"#N/A"}},{"$f":"VLOOKUP(H9,$B$4:B9,1,FALSE)","v":{"$error":"#N/A"}}]
[null,{"$f":"Results!A13","v":1447},{"$f":"Results!C13","v":"Antony"},{"$f":"Results!B13","v":"Robinson"},{"$f":"Results!D13","v":"Durham"},{"$f":"Results!G13","v":""},"- vs -",{"$f":"VLOOKUP(B10,Results!$A$8:$BM$104,65,FALSE)","v":0},{"$f":"VLOOKUP(H10,Results!A$8:$G$104,3,FALSE)","v":{"$error":"#N/A"}},{"$f":"VLOOKUP(H10,Results!$A$8:$G$104,2,FALSE)","v":{"$error":"#N/A"}},{"$f":"VLOOKUP(H10,Results!$A$8:$G$104,4,FALSE)","v":{"$error":"#N/A"}},{"$f":"VLOOKUP(H10,Results!$A$8:$G$104,7,FALSE)","v":{"$error":"#N/A"}},{"$f":"VLOOKUP(H10,$B$4:B10,1,FALSE)","v":{"$error":"#N/A"}}]
[null,{"$f":"Results!A14","v":773},{"$f":"Results!C14","v":"Charles"},{"$f":"Results!B14","v":"Masefield"},{"$f":"Results!D14","v":"Oxford"},{"$f":"Results!G14","v":""},"- vs -",{"$f":"VLOOKUP(B11,Results!$A$8:$BM$104,65,FALSE)","v":0},{"$f":"VLOOKUP(H11,Results!A$8:$G$104,3,FALSE)","v":{"$error":"#N/A"}},{"$f":"VLOOKUP(H11,Results!$A$8:$G$104,2,FALSE)","v":{"$error":"#N/A"}},{"$f":"VLOOKUP(H11,Results!$A$8:$G$104,4,FALSE)","v":{"$error":"#N/A"}},{"$f":"VLOOKUP(H11,Results!$A$8:$G$104,7,FALSE)","v":{"$error":"#N/A"}},{"$f":"VLOOKUP(H11,$B$4:B11,1,FALSE)","v":{"$error":"#N/A"}}]
[null,{"$f":"Results!A15","v":1549},{"$f":"Results!C15","v":"Colin"},{"$f":"Results!B15","v":"Whittaker"},{"$f":"Results!D15","v":"Entoyment"},{"$f":"Results!G15","v":""},"- vs -",{"$f":"VLOOKUP(B12,Results!$A$8:$BM$104,65,FALSE)","v":0},{"$f":"VLOOKUP(H12,Results!A$8:$G$104,3,FALSE)","v":{"$error":"#N/A"}},{"$f":"VLOOKUP(H12,Results!$A$8:$G$104,2,FALSE)","v":{"$error":"#N/A"}},{"$f":"VLOOKUP(H12,Results!$A$8:$G$104,4,FALSE)","v":{"$error":"#N/A"}},{"$f":"VLOOKUP(H12,Results!$A$8:$G$104,7,FALSE)","v":{"$error":"#N/A"}},{"$f":"VLOOKUP(H12,$B$4:B12,1,FALSE)","v":{"$error":"#N/A"}}]
[null,{"$f":"Results!A16","v":1435},{"$f":"Results!C16","v":"Dave"},{"$f":"Results!B16","v":"Hutchby"},{"$f":"Results!D16","v":"Derby"},{"$f":"Results!G16","v":"Chinese Northern and Southern Dynasties"},"- vs -",{"$f":"VLOOKUP(B13,Results!$A$8:$BM$104,65,FALSE)","v":0},{"$f":"VLOOKUP(H13,Results!A$8:$G$104,3,FALSE)","v":{"$error":"#N/A"}},{"$f":"VLOOKUP(H13,Results!$A$8:$G$104,2,FALSE)","v":{"$error":"#N/A"}},{"$f":"VLOOKUP(H13,Results!$A$8:$G$104,4,FALSE)","v":{"$error":"#N/A"}},{"$f":"VLOOKUP(H13,Results!$A$8:$G$104,7,FALSE)","v":{"$error":"#N/A"}},{"$f":"VLOOKUP(H13,$B$4:B13,1,FALSE)","v":{"$error":"#N/A"}}]
[null,{"$f":"Results!A17","v":1017},{"$f":"Results!C17","v":"David"},{"$f":"Results!B17","v":"Roberts"},{"$f":"Results!D17","v":"Cambridge"},{"$f":"Results!G17","v":""},"- vs -",{"$f":"VLOOKUP(B14,Results!$A$8:$BM$104,65,FALSE)","v":0},{"$f":"VLOOKUP(H14,Results!A$8:$G$104,3,FALSE)","v":{"$error":"#N/A"}},{"$f":"VLOOKUP(H14,Results!$A$8:$G$104,2,FALSE)","v":{"$error":"#N/A"}},{"$f":"VLOOKUP(H14,Results!$A$8:$G$104,4,FALSE)","v":{"$error":"#N/A"}},{"$f":"VLOOKUP(H14,Results!$A$8:$G$104,7,FALSE)","v":{"$error":"#N/A"}},{"$f":"VLOOKUP(H14,$B$4:B14,1,FALSE)","v":{"$error":"#N/A"}}]
[null,{"$f":"Results!A18","v":1576},{"$f":"Results!C18","v":"David"},{"$f":"Results!B18","v":"Dryden"},{"$f":"Results!D18","v":"FDWC"},{"$f":"Results!G18","v":""},"- vs -",{"$f":"VLOOKUP(B15,Results!$A$8:$BM$104,65,FALSE)","v":0},{"$f":"VLOOKUP(H15,Results!A$8:$G$104,3,FALSE)","v":{"$error":"#N/A"}},{"$f":"VLOOKUP(H15,Results!$A$8:$G$104,2,FALSE)","v":{"$error":"#N/A"}},{"$f":"VLOOKUP(H15,Results!$A$8:$G$104,4,FALSE)","v":{"$error":"#N/A"}},{"$f":"VLOOKUP(H15,Results!$A$8:$G$104,7,FALSE)","v":{"$error":"#N/A"}},{"$f":"VLOOKUP(H15,$B$4:B15,1,FALSE)","v":{"$error":"#N/A"}}]
[null,{"$f":"Results!A19","v":1509},{"$f":"Results!C19","v":"Frazer"},{"$f":"Results!B19","v":"Watson"},{"$f":"Results!D19","v":"FDWG"},{"$f":"Results!G19","v":"Kingdom of Axum"},"- vs -",{"$f":"VLOOKUP(B16,Results!$A$8:$BM$104,65,FALSE)","v":0},{"$f":"VLOOKUP(H16,Results!A$8:$G$104,3,FALSE)","v":{"$error":"#N/A"}},{"$f":"VLOOKUP(H16,Results!$A$8:$G$104,2,FALSE)","v":{"$error":"#N/A"}},{"$f":"VLOOKUP(H16,Results!$A$8:$G$104,4,FALSE)","v":{"$error":"#N/A"}},{"$f":"VLOOKUP(H16,Results!$A$8:$G$104,7,FALSE)","v":{"$error":"#N/A"}},{"$f":"VLOOKUP(H16,$B$4:B16,1,FALSE)","v":{"$error":"#N/A"}}]
[null,{"$f":"Results!A20","v":715},{"$f":"Results!C20","v":"Gordon"},{"$f":"Results!B20","v":"Jamieson"},{"$f":"Results!D20","v":"CLWC"},{"$f":"Results!G20","v":""},"- vs -",{"$f":"VLOOKUP(B17,Results!$A$8:$BM$104,65,FALSE)","v":0},{"$f":"VLOOKUP(H17,Results!A$8:$G$104,3,FALSE)","v":{"$error":"#N/A"}},{"$f":"VLOOKUP(H17,Results!$A$8:$G$104,2,FALSE)","v":{"$error":"#N/A"}},{"$f":"VLOOKUP(H17,Results!$A$8:$G$104,4,FALSE)","v":{"$error":"#N/A"}},{"$f":"VLOOKUP(H17,Results!$A$8:$G$104,7,FALSE)","v":{"$error":"#N/A"}},{"$f":"VLOOKUP(H17,$B$4:B17,1,FALSE)","v":{"$error":"#N/A"}}]
[null,{"$f":"Results!A21","v":1131},{"$f":"Results!C21","v":"Gordon"},{"$f":"Results!B21","v":"Miller"},{"$f":"Results!D21","v":"FDWC"},{"$f":"Results!G21","v":""},"- vs -",{"$f":"VLOOKUP(B18,Results!$A$8:$BM$104,65,FALSE)","v":0},{"$f":"VLOOKUP(H18,Results!A$8:$G$104,3,FALSE)","v":{"$error":"#N/A"}},{"$f":"VLOOKUP(H18,Results!$A$8:$G$104,2,FALSE)","v":{"$error":"#N/A"}},{"$f":"VLOOKUP(H18,Results!$A$8:$G$104,4,FALSE)","v":{"$error":"#N/A"}},{"$f":"VLOOKUP(H18,Results!$A$8:$G$104,7,FALSE)","v":{"$error":"#N/A"}},{"$f":"VLOOKUP(H18,$B$4:B18,1,FALSE)","v":{"$error":"#N/A"}}]
[null,{"$f":"Results!A22","v":1483},{"$f":"Results!C22","v":"Ian"},{"$f":"Results!B22","v":"Sewell"},{"$f":"Results!D22","v":"WAR"},{"$f":"Results!G22","v":""},"- vs -",{"$f":"VLOOKUP(B19,Results!$A$8:$BM$104,65,FALSE)","v":0},{"$f":"VLOOKUP(H19,Results!A$8:$G$104,3,FALSE)","v":{"$error":"#N/A"}},{"$f":"VLOOKUP(H19,Results!$A$8:$G$104,2,FALSE)","v":{"$error":"#N/A"}},{"$f":"VLOOKUP(H19,Results!$A$8:$G$104,4,FALSE)","v":{"$error":"#N/A"}},{"$f":"VLOOKUP(H19,Results!$A$8:$G$104,7,FALSE)","v":{"$error":"#N/A"}},{"$f":"VLOOKUP(H19,$B$4:B19,1,FALSE)","v":{"$error":"#N/A"}}]
[null,{"$f":"Results!A23","v":1538},{"$f":"Results!C23","v":"James"},{"$f":"Results!B23","v":"Gibson"},{"$f":"Results!D23","v":"FDWG"},{"$f":"Results!G23","v":""},"- vs -",{"$f":"VLOOKUP(B20,Results!$A$8:$BM$104,65,FALSE)","v":0},{"$f":"VLOOKUP(H20,Results!A$8:$G$104,3,FALSE)","v":{"$error":"#N/A"}},{"$f":"VLOOKUP(H20,Results!$A$8:$G$104,2,FALSE)","v":{"$error":"#N/A"}},{"$f":"VLOOKUP(H20,Results!$A$8:$G$104,4,FALSE)","v":{"$error":"#N/A"}},{"$f":"VLOOKUP(H20,Results!$A$8:$G$104,7,FALSE)","v":{"$error":"#N/A"}},{"$f":"VLOOKUP(H20,$B$4:B20,1,FALSE)","v":{"$error":"#N/A"}}]
[null,{"$f":"Results!A24","v":485},{"$f":"Results!C24","v":"Jesse"},{"$f":"Results!B24","v":"Schoor"},{"$f":"Results!D24","v":"WAR"},{"$f":"Results!G24","v":""},"- vs -",{"$f":"VLOOKUP(B21,Results!$A$8:$BM$104,65,FALSE)","v":0},{"$f":"VLOOKUP(H21,Results!A$8:$G$104,3,FALSE)","v":{"$error":"#N/A"}},{"$f":"VLOOKUP(H21,Results!$A$8:$G$104,2,FALSE)","v":{"$error":"#N/A"}},{"$f":"VLOOKUP(H21,Results!$A$8:$G$104,4,FALSE)","v":{"$error":"#N/A"}},{"$f":"VLOOKUP(H21,Results!$A$8:$G$104,7,FALSE)","v":{"$error":"#N/A"}},{"$f":"VLOOKUP(H21,$B$4:B21,1,FALSE)","v":{"$error":"#N/A"}}]
[null,{"$f":"Results!A25","v":795},{"$f":"Results!C25","v":"Mark"},{"$f":"Results!B25","v":"Fry"},{"$f":"Results!D25","v":"Bristol"},{"$f":"Results!G25","v":""},"- vs -",{"$f":"VLOOKUP(B22,Results!$A$8:$BM$104,65,FALSE)","v":0},{"$f":"VLOOKUP(H22,Results!A$8:$G$104,3,FALSE)","v":{"$error":"#N/A"}},{"$f":"VLOOKUP(H22,Results!$A$8:$G$104,2,FALSE)","v":{"$error":"#N/A"}},{"$f":"VLOOKUP(H22,Results!$A$8:$G$104,4,FALSE)","v":{"$error":"#N/A"}},{"$f":"VLOOKUP(H22,Results!$A$8:$G$104,7,FALSE)","v":{"$error":"#N/A"}},{"$f":"VLOOKUP(H22,$B$4:B22,1,FALSE)","v":{"$error":"#N/A"}}]
[null,{"$f":"Results!A26","v":1807},{"$f":"Results!C26","v":"Mark"},{"$f":"Results!B26","v":"Gilby"},{"$f":"Results!D26","v":"CLWC"},{"$f":"Results!G26","v":""},"- vs -",{"$f":"VLOOKUP(B23,Results!$A$8:$BM$104,65,FALSE)","v":0},{"$f":"VLOOKUP(H23,Results!A$8:$G$104,3,FALSE)","v":{"$error":"#N/A"}},{"$f":"VLOOKUP(H23,Results!$A$8:$G$104,2,FALSE)","v":{"$error":"#N/A"}},{"$f":"VLOOKUP(H23,Results!$A$8:$G$104,4,FALSE)","v":{"$error":"#N/A"}},{"$f":"VLOOKUP(H23,Results!$A$8:$G$104,7,FALSE)","v":{"$error":"#N/A"}},{"$f":"VLOOKUP(H23,$B$4:B23,1,FALSE)","v":{"$error":"#N/A"}}]
[null,{"$f":"Results!A27","v":858},{"$f":"Results!C27","v":"Mike"},{"$f":"Results!B27","v":"Bennett"},{"$f":"Results!D27","v":"Carnforth"},{"$f":"Results!G27","v":""},"- vs -",{"$f":"VLOOKUP(B24,Results!$A$8:$BM$104,65,FALSE)","v":0},{"$f":"VLOOKUP(H24,Results!A$8:$G$104,3,FALSE)","v":{"$error":"#N/A"}},{"$f":"VLOOKUP(H24,Results!$A$8:$G$104,2,FALSE)","v":{"$error":"#N/A"}},{"$f":"VLOOKUP(H24,Results!$A$8:$G$104,4,FALSE)","v":{"$error":"#N/A"}},{"$f":"VLOOKUP(H24,Results!$A$8:$G$104,7,FALSE)","v":{"$error":"#N/A"}},{"$f":"VLOOKUP(H24,$B$4:B24,1,FALSE)","v":{"$error":"#N/A"}}]
[null,{"$f":"Results!A28","v":1015},{"$f":"Results!C28","v":"Nik"},{"$f":"Results!B28","v":"Sharp"},{"$f":"Results!D28","v":"Warlords"},{"$f":"Results!G28","v":""},"- vs -",{"$f":"VLOOKUP(B25,Results!$A$8:$BM$104,65,FALSE)","v":0},{"$f":"VLOOKUP(H25,Results!A$8:$G$104,3,FALSE)","v":{"$error":"#N/A"}},{"$f":"VLOOKUP(H25,Results!$A$8:$G$104,2,FALSE)","v":{"$error":"#N/A"}},{"$f":"VLOOKUP(H25,Results!$A$8:$G$104,4,FALSE)","v":{"$error":"#N/A"}},{"$f":"VLOOKUP(H25,Results!$A$8:$G$104,7,FALSE)","v":{"$error":"#N/A"}},{"$f":"VLOOKUP(H25,$B$4:B25,1,FALSE)","v":{"$error":"#N/A"}}]
[null,{"$f":"Results!A29","v":1308},{"$f":"Results!C29","v":"Paul"},{"$f":"Results!B29","v":"Dawson"},{"$f":"Results!D29","v":"York"},{"$f":"Results!G29","v":""},"- vs -",{"$f":"VLOOKUP(B26,Results!$A$8:$BM$104,65,FALSE)","v":0},{"$f":"VLOOKUP(H26,Results!A$8:$G$104,3,FALSE)","v":{"$error":"#N/A"}},{"$f":"VLOOKUP(H26,Results!$A$8:$G$104,2,FALSE)","v":{"$error":"#N/A"}},{"$f":"VLOOKUP(H26,Results!$A$8:$G$104,4,FALSE)","v":{"$error":"#N/A"}},{"$f":"VLOOKUP(H26,Results!$A$8:$G$104,7,FALSE)","v":{"$error":"#N/A"}},{"$f":"VLOOKUP(H26,$B$4:B26,1,FALSE)","v":{"$error":"#N/A"}}]
[null,{"$f":"Results!A30","v":1309},{"$f":"Results!C30","v":"Paul"},{"$f":"Results!B30","v":"Johnston"},{"$f":"Results!D30","v":"York"},{"$f":"Results!G30","v":""},"- vs -",{"$f":"VLOOKUP(B27,Results!$A$8:$BM$104,65,FALSE)","v":0},{"$f":"VLOOKUP(H27,Results!A$8:$G$104,3,FALSE)","v":{"$error":"#N/A"}},{"$f":"VLOOKUP(H27,Results!$A$8:$G$104,2,FALSE)","v":{"$error":"#N/A"}},{"$f":"VLOOKUP(H27,Results!$A$8:$G$104,4,FALSE)","v":{"$error":"#N/A"}},{"$f":"VLOOKUP(H27,Results!$A$8:$G$104,7,FALSE)","v":{"$error":"#N/A"}},{"$f":"VLOOKUP(H27,$B$4:B27,1,FALSE)","v":{"$error":"#N/A"}}]
[null,{"$f":"Results!A31","v":1239},{"$f":"Results!C31","v":"Paul"},{"$f":"Results!B31","v":"Frith"},{"$f":"Results!D31","v":"Dorset Nomads"},{"$f":"Results!G31","v":""},"- vs -",{"$f":"VLOOKUP(B28,Results!$A$8:$BM$104,65,FALSE)","v":0},{"$f":"VLOOKUP(H28,Results!A$8:$G$104,3,FALSE)","v":{"$error":"#N/A"}},{"$f":"VLOOKUP(H28,Results!$A$8:$G$104,2,FALSE)","v":{"$error":"#N/A"}},{"$f":"VLOOKUP(H28,Results!$A$8:$G$104,4,FALSE)","v":{"$error":"#N/A"}},{"$f":"VLOOKUP(H28,Results!$A$8:$G$104,7,FALSE)","v":{"$error":"#N/A"}},{"$f":"VLOOKUP(H28,$B$4:B28,1,FALSE)","v":{"$error":"#N/A"}}]
[null,{"$f":"Results!A32","v":1536},{"$f":"Results!C32","v":"Pete"},{"$f":"Results!B32","v":"Sanger"},{"$f":"Results!D32","v":"Pompey"},{"$f":"Results!G32","v":""},"- vs -",{"$f":"VLOOKUP(B29,Results!$A$8:$BM$104,65,FALSE)","v":0},{"$f":"VLOOKUP(H29,Results!A$8:$G$104,3,FALSE)","v":{"$error":"#N/A"}},{"$f":"VLOOKUP(H29,Results!$A$8:$G$104,2,FALSE)","v":{"$error":"#N/A"}},{"$f":"VLOOKUP(H29,Results!$A$8:$G$104,4,FALSE)","v":{"$error":"#N/A"}},{"$f":"VLOOKUP(H29,Results!$A$8:$G$104,7,FALSE)","v":{"$error":"#N/A"}},{"$f":"VLOOKUP(H29,$B$4:B29,1,FALSE)","v":{"$error":"#N/A"}}]
[null,{"$f":"Results!A33","v":772},{"$f":"Results!C33","v":"Richard"},{"$f":"Results!B33","v":"Young"},{"$f":"Results!D33","v":"SOA"},{"$f":"Results!G33","v":""},"- vs -",{"$f":"VLOOKUP(B30,Results!$A$8:$BM$104,65,FALSE)","v":0},{"$f":"VLOOKUP(H30,Results!A$8:$G$104,3,FALSE)","v":{"$error":"#N/A"}},{"$f":"VLOOKUP(H30,Results!$A$8:$G$104,2,FALSE)","v":{"$error":"#N/A"}},{"$f":"VLOOKUP(H30,Results!$A$8:$G$104,4,FALSE)","v":{"$error":"#N/A"}},{"$f":"VLOOKUP(H30,Results!$A$8:$G$104,7,FALSE)","v":{"$error":"#N/A"}},{"$f":"VLOOKUP(H30,$B$4:B30,1,FALSE)","v":{"$error":"#N/A"}}]
[null,{"$f":"Results!A34","v":1318},{"$f":"Results!C34","v":"Rob"},{"$f":"Results!B34","v":"Taylor"},{"$f":"Results!D34","v":"Westow"},{"$f":"Results!G34","v":""},"- vs -",{"$f":"VLOOKUP(B31,Results!$A$8:$BM$104,65,FALSE)","v":0},{"$f":"VLOOKUP(H31,Results!A$8:$G$104,3,FALSE)","v":{"$error":"#N/A"}},{"$f":"VLOOKUP(H31,Results!$A$8:$G$104,2,FALSE)","v":{"$error":"#N/A"}},{"$f":"VLOOKUP(H31,Results!$A$8:$G$104,4,FALSE)","v":{"$error":"#N/A"}},{"$f":"VLOOKUP(H31,Results!$A$8:$G$104,7,FALSE)","v":{"$error":"#N/A"}},{"$f":"VLOOKUP(H31,$B$4:B31,1,FALSE)","v":{"$error":"#N/A"}}]
[null,{"$f":"Results!A35","v":1222},{"$f":"Results!C35","v":"Robert"},{"$f":"Results!B35","v":"Middlemist"},{"$f":"Results!D35","v":"Durham"},{"$f":"Results!G35","v":""},"- vs -",{"$f":"VLOOKUP(B32,Results!$A$8:$BM$104,65,FALSE)","v":0},{"$f":"VLOOKUP(H32,Results!A$8:$G$104,3,FALSE)","v":{"$error":"#N/A"}},{"$f":"VLOOKUP(H32,Results!$A$8:$G$104,2,FALSE)","v":{"$error":"#N/A"}},{"$f":"VLOOKUP(H32,Results!$A$8:$G$104,4,FALSE)","v":{"$error":"#N/A"}},{"$f":"VLOOKUP(H32,Results!$A$8:$G$104,7,FALSE)","v":{"$error":"#N/A"}},{"$f":"VLOOKUP(H32,$B$4:B32,1,FALSE)","v":{"$error":"#N/A"}}]
[null,{"$f":"Results!A36","v":1008},{"$f":"Results!C36","v":"Robin"},{"$f":"Results!B36","v":"Jackson"},{"$f":"Results!D36","v":"God Knows"},{"$f":"Results!G36","v":""},"- vs -",{"$f":"VLOOKUP(B33,Results!$A$8:$BM$104,65,FALSE)","v":0},{"$f":"VLOOKUP(H33,Results!A$8:$G$104,3,FALSE)","v":{"$error":"#N/A"}},{"$f":"VLOOKUP(H33,Results!$A$8:$G$104,2,FALSE)","v":{"$error":"#N/A"}},{"$f":"VLOOKUP(H33,Results!$A$8:$G$104,4,FALSE)","v":{"$error":"#N/A"}},{"$f":"VLOOKUP(H33,Results!$A$8:$G$104,7,FALSE)","v":{"$error":"#N/A"}},{"$f":"VLOOKUP(H33,$B$4:B33,1,FALSE)","v":{"$error":"#N/A"}}]
[null,{"$f":"Results!A37","v":1418},{"$f":"Results!C37","v":"Stephen"},{"$f":"Results!B37","v":"Nice"},{"$f":"Results!D37","v":"WAR"},{"$f":"Results!G37","v":""},"- vs -",{"$f":"VLOOKUP(B34,Results!$A$8:$BM$104,65,FALSE)","v":0},{"$f":"VLOOKUP(H34,Results!A$8:$G$104,3,FALSE)","v":{"$error":"#N/A"}},{"$f":"VLOOKUP(H34,Results!$A$8:$G$104,2,FALSE)","v":{"$error":"#N/A"}},{"$f":"VLOOKUP(H34,Results!$A$8:$G$104,4,FALSE)","v":{"$error":"#N/A"}},{"$f":"VLOOKUP(H34,Results!$A$8:$G$104,7,FALSE)","v":{"$error":"#N/A"}},{"$f":"VLOOKUP(H34,$B$4:B34,1,FALSE)","v":{"$error":"#N/A"}}]
[null,{"$f":"Results!A38","v":712},{"$f":"Results!C38","v":"Tim"},{"$f":"Results!B38","v":"Porter"},{"$f":"Results!D38","v":"CLWC"},{"$f":"Results!G38","v":"Parthian"},"- vs -",{"$f":"VLOOKUP(B35,Results!$A$8:$BM$104,65,FALSE)","v":0},{"$f":"VLOOKUP(H35,Results!A$8:$G$104,3,FALSE)","v":{"$error":"#N/A"}},{"$f":"VLOOKUP(H35,Results!$A$8:$G$104,2,FALSE)","v":{"$error":"#N/A"}},{"$f":"VLOOKUP(H35,Results!$A$8:$G$104,4,FALSE)","v":{"$error":"#N/A"}},{"$f":"VLOOKUP(H35,Results!$A$8:$G$104,7,FALSE)","v":{"$error":"#N/A"}},{"$f":"VLOOKUP(H35,$B$4:B35,1,FALSE)","v":{"$error":"#N/A"}}]
[null,{"$f":"Results!A39","v":0},{"$f":"Results!C39","v":0},{"$f":"Results!B39","v":0},{"$f":"Results!D39","v":0},{"$f":"Results!G39","v":""},"- vs -",{"$f":"VLOOKUP(B36,Results!$A$8:$BM$104,65,FALSE)","v":{"$error":"#N/A"}},{"$f":"VLOOKUP(H36,Results!A$8:$G$104,3,FALSE)","v":{"$error":"#N/A"}},{"$f":"VLOOKUP(H36,Results!$A$8:$G$104,2,FALSE)","v":{"$error":"#N/A"}},{"$f":"VLOOKUP(H36,Results!$A$8:$G$104,4,FALSE)","v":{"$error":"#N/A"}},{"$f":"VLOOKUP(H36,Results!$A$8:$G$104,7,FALSE)","v":{"$error":"#N/A"}},{"$f":"VLOOKUP(H36,$B$4:B36,1,FALSE)","v":{"$error":"#N/A"}}]
[null,{"$f":"Results!A40","v":0},{"$f":"Results!C40","v":0},{"$f":"Results!B40","v":0},{"$f":"Results!D40","v":0},{"$f":"Results!G40","v":""},"- vs -",{"$f":"VLOOKUP(B37,Results!$A$8:$BM$104,65,FALSE)","v":{"$error":"#N/A"}},{"$f":"VLOOKUP(H37,Results!A$8:$G$104,3,FALSE)","v":{"$error":"#N/A"}},{"$f":"VLOOKUP(H37,Results!$A$8:$G$104,2,FALSE)","v":{"$error":"#N/A"}},{"$f":"VLOOKUP(H37,Results!$A$8:$G$104,4,FALSE)","v":{"$error":"#N/A"}},{"$f":"VLOOKUP(H37,Results!$A$8:$G$104,7,FALSE)","v":{"$error":"#N/A"}},{"$f":"VLOOKUP(H37,$B$4:B37,1,FALSE)","v":{"$error":"#N/A"}}]
[null,{"$f":"Results!A41","v":0},{"$f":"Results!C41","v":0},{"$f":"Results!B41","v":0},{"$f":"Results!D41","v":0},{"$f":"Results!G41","v":""},"- vs -",{"$f":"VLOOKUP(B38,Results!$A$8:$BM$104,65,FALSE)","v":{"$error":"#N/A"}},{"$f":"VLOOKUP(H38,Results!A$8:$G$104,3,FALSE)","v":{"$error":"#N/A"}},{"$f":"VLOOKUP(H38,Results!$A$8:$G$104,2,FALSE)","v":{"$error":"#N/A"}},{"$f":"VLOOKUP(H38,Results!$A$8:$G$104,4,FALSE)","v":{"$error":"#N/A"}},{"$f":"VLOOKUP(H38,Results!$A$8:$G$104,7,FALSE)","v":{"$error":"#N/A"}},{"$f":"VLOOKUP(H38,$B$4:B38,1,FALSE)","v":{"$error":"#N/A"}}]
[null,{"$f":"Results!A42","v":0},{"$f":"Results!C42","v":0},{"$f":"Results!B42","v":0},{"$f":"Results!D42","v":0},{"$f":"Results!G42","v":""},"- vs -",{"$f":"VLOOKUP(B39,Results!$A$8:$BM$104,65,FALSE)","v":{"$error":"#N/A"}},{"$f":"VLOOKUP(H39,Results!A$8:$G$104,3,FALSE)","v":{"$error":"#N/A"}},{"$f":"VLOOKUP(H39,Results!$A$8:$G$104,2,FALSE)","v":{"$error":"#N/A"}},{"$f":"VLOOKUP(H39,Results!$A$8:$G$104,4,FALSE)","v":{"$error":"#N/A"}},{"$f":"VLOOKUP(H39,Results!$A$8:$G$104,7,FALSE)","v":{"$error":"#N/A"}},{"$f":"VLOOKUP(H39,$B$4:B39,1,FALSE)","v":{"$error":"#N/A"}}]
[null,{"$f":"Results!A43","v":0},{"$f":"Results!C43","v":0},{"$f":"Results!B43","v":0},{"$f":"Results!D43","v":0},{"$f":"Results!G43","v":""},"- vs -",{"$f":"VLOOKUP(B40,Results!$A$8:$BM$104,65,FALSE)","v":{"$error":"#N/A"}},{"$f":"VLOOKUP(H40,Results!A$8:$G$104,3,FALSE)","v":{"$error":"#N/A"}},{"$f":"VLOOKUP(H40,Results!$A$8:$G$104,2,FALSE)","v":{"$error":"#N/A"}},{"$f":"VLOOKUP(H40,Results!$A$8:$G$104,4,FALSE)","v":{"$error":"#N/A"}},{"$f":"VLOOKUP(H40,Results!$A$8:$G$104,7,FALSE)","v":{"$error":"#N/A"}},{"$f":"VLOOKUP(H40,$B$4:B40,1,FALSE)","v":{"$error":"#N/A"}}]
[null,{"$f":"Results!A44","v":0},{"$f":"Results!C44","v":0},{"$f":"Results!B44","v":0},{"$f":"Results!D44","v":0},{"$f":"Results!G44","v":""},"- vs -",{"$f":"VLOOKUP(B41,Results!$A$8:$BM$104,65,FALSE)","v":{"$error":"#N/A"}},{"$f":"VLOOKUP(H41,Results!A$8:$G$104,3,FALSE)","v":{"$error":"#N/A"}},{"$f":"VLOOKUP(H41,Results!$A$8:$G$104,2,FALSE)","v":{"$error":"#N/A"}},{"$f":"VLOOKUP(H41,Results!$A$8:$G$104,4,FALSE)","v":{"$error":"#N/A"}},{"$f":"VLOOKUP(H41,Results!$A$8:$G$104,7,FALSE)","v":{"$error":"#N/A"}},{"$f":"VLOOKUP(H41,$B$4:B41,1,FALSE)","v":{"$error":"#N/A"}}]
[null,{"$f":"Results!A45","v":0},{"$f":"Results!C45","v":0},{"$f":"Results!B45","v":0},{"$f":"Results!D45","v":0},{"$f":"Results!G45","v":""},"- vs -",{"$f":"VLOOKUP(B42,Results!$A$8:$BM$104,65,FALSE)","v":{"$error":"#N/A"}},{"$f":"VLOOKUP(H42,Results!A$8:$G$104,3,FALSE)","v":{"$error":"#N/A"}},{"$f":"VLOOKUP(H42,Results!$A$8:$G$104,2,FALSE)","v":{"$error":"#N/A"}},{"$f":"VLOOKUP(H42,Results!$A$8:$G$104,4,FALSE)","v":{"$error":"#N/A"}},{"$f":"VLOOKUP(H42,Results!$A$8:$G$104,7,FALSE)","v":{"$error":"#N/A"}},{"$f":"VLOOKUP(H42,$B$4:B42,1,FALSE)","v":{"$error":"#N/A"}}]
[null,{"$f":"Results!A46","v":0},{"$f":"Results!C46","v":0},{"$f":"Results!B46","v":0},{"$f":"Results!D46","v":0},{"$f":"Results!G46","v":""},"- vs -",{"$f":"VLOOKUP(B43,Results!$A$8:$BM$104,65,FALSE)","v":{"$error":"#N/A"}},{"$f":"VLOOKUP(H43,Results!A$8:$G$104,3,FALSE)","v":{"$error":"#N/A"}},{"$f":"VLOOKUP(H43,Results!$A$8:$G$104,2,FALSE)","v":{"$error":"#N/A"}},{"$f":"VLOOKUP(H43,Results!$A$8:$G$104,4,FALSE)","v":{"$error":"#N/A"}},{"$f":"VLOOKUP(H43,Results!$A$8:$G$104,7,FALSE)","v":{"$error":"#N/A"}},{"$f":"VLOOKUP(H43,$B$4:B43,1,FALSE)","v":{"$error":"#N/A"}}]
[null,{"$f":"Results!A47","v":0},{"$f":"Results!C47","v":0},{"$f":"Results!B47","v":0},{"$f":"Results!D47","v":0},{"$f":"Results!G47","v":""},"- vs -",{"$f":"VLOOKUP(B44,Results!$A$8:$BM$104,65,FALSE)","v":{"$error":"#N/A"}},{"$f":"VLOOKUP(H44,Results!A$8:$G$104,3,FALSE)","v":{"$error":"#N/A"}},{"$f":"VLOOKUP(H44,Results!$A$8:$G$104,2,FALSE)","v":{"$error":"#N/A"}},{"$f":"VLOOKUP(H44,Results!$A$8:$G$104,4,FALSE)","v":{"$error":"#N/A"}},{"$f":"VLOOKUP(H44,Results!$A$8:$G$104,7,FALSE)","v":{"$error":"#N/A"}},{"$f":"VLOOKUP(H44,$B$4:B44,1,FALSE)","v":{"$error":"#N/A"}}]
[null,{"$f":"Results!A48","v":0},{"$f":"Results!C48","v":0},{"$f":"Results!B48","v":0},{"$f":"Results!D48","v":0},{"$f":"Results!G48","v":""},"- vs -",{"$f":"VLOOKUP(B45,Results!$A$8:$BM$104,65,FALSE)","v":{"$error":"#N/A"}},{"$f":"VLOOKUP(H45,Results!A$8:$G$104,3,FALSE)","v":{"$error":"#N/A"}},{"$f":"VLOOKUP(H45,Results!$A$8:$G$104,2,FALSE)","v":{"$error":"#N/A"}},{"$f":"VLOOKUP(H45,Results!$A$8:$G$104,4,FALSE)","v":{"$error":"#N/A"}},{"$f":"VLOOKUP(H45,Results!$A$8:$G$104,7,FALSE)","v":{"$error":"#N/A"}},{"$f":"VLOOKUP(H45,$B$4:B45,1,FALSE)","v":{"$error":"#N/A"}}]
[null,{"$f":"Results!A49","v":0},{"$f":"Results!C49","v":0},{"$f":"Results!B49","v":0},{"$f":"Results!D49","v":0},{"$f":"Results!G49","v":""},"- vs -",{"$f":"VLOOKUP(B46,Results!$A$8:$BM$104,65,FALSE)","v":{"$error":"#N/A"}},{"$f":"VLOOKUP(H46,Results!A$8:$G$104,3,FALSE)","v":{"$error":"#N/A"}},{"$f":"VLOOKUP(H46,Results!$A$8:$G$104,2,FALSE)","v":{"$error":"#N/A"}},{"$f":"VLOOKUP(H46,Results!$A$8:$G$104,4,FALSE)","v":{"$error":"#N/A"}},{"$f":"VLOOKUP(H46,Results!$A$8:$G$104,7,FALSE)","v":{"$error":"#N/A"}},{"$f":"VLOOKUP(H46,$B$4:B46,1,FALSE)","v":{"$error":"#N/A"}}]
[null,{"$f":"Results!A50","v":0},{"$f":"Results!C50","v":0},{"$f":"Results!B50","v":0},{"$f":"Results!D50","v":0},{"$f":"Results!G50","v":""},"- vs -",{"$f":"VLOOKUP(B47,Results!$A$8:$BM$104,65,FALSE)","v":{"$error":"#N/A"}},{"$f":"VLOOKUP(H47,Results!A$8:$G$104,3,FALSE)","v":{"$error":"#N/A"}},{"$f":"VLOOKUP(H47,Results!$A$8:$G$104,2,FALSE)","v":{"$error":"#N/A"}},{"$f":"VLOOKUP(H47,Results!$A$8:$G$104,4,FALSE)","v":{"$error":"#N/A"}},{"$f":"VLOOKUP(H47,Results!$A$8:$G$104,7,FALSE)","v":{"$error":"#N/A"}},{"$f":"VLOOKUP(H47,$B$4:B47,1,FALSE)","v":{"$error":"#N/A"}}]
[null,{"$f":"Results!A51","v":0},{"$f":"Results!C51","v":0},{"$f":"Results!B51","v":0},{"$f":"Results!D51","v":0},{"$f":"Results!G51","v":""},"- vs -",{"$f":"VLOOKUP(B48,Results!$A$8:$BM$104,65,FALSE)","v":{"$error":"#N/A"}},{"$f":"VLOOKUP(H48,Results!A$8:$G$104,3,FALSE)","v":{"$error":"#N/A"}},{"$f":"VLOOKUP(H48,Results!$A$8:$G$104,2,FALSE)","v":{"$error":"#N/A"}},{"$f":"VLOOKUP(H48,Results!$A$8:$G$104,4,FALSE)","v":{"$error":"#N/A"}},{"$f":"VLOOKUP(H48,Results!$A$8:$G$104,7,FALSE)","v":{"$error":"#N/A"}},{"$f":"VLOOKUP(H48,$B$4:B48,1,FALSE)","v":{"$error":"#N/A"}}]
[null,{"$f":"Results!A52","v":0},{"$f":"Results!C52","v":0},{"$f":"Results!B52","v":0},{"$f":"Results!D52","v":0},{"$f":"Results!G52","v":""},"- vs -",{"$f":"VLOOKUP(B49,Results!$A$8:$BM$104,65,FALSE)","v":{"$error":"#N/A"}},{"$f":"VLOOKUP(H49,Results!A$8:$G$104,3,FALSE)","v":{"$error":"#N/A"}},{"$f":"VLOOKUP(H49,Results!$A$8:$G$104,2,FALSE)","v":{"$error":"#N/A"}},{"$f":"VLOOKUP(H49,Results!$A$8:$G$104,4,FALSE)","v":{"$error":"#N/A"}},{"$f":"VLOOKUP(H49,Results!$A$8:$G$104,7,FALSE)","v":{"$error":"#N/A"}},{"$f":"VLOOKUP(H49,$B$4:B49,1,FALSE)","v":{"$error":"#N/A"}}]
[null,{"$f":"Results!A53","v":0},{"$f":"Results!C53","v":0},{"$f":"Results!B53","v":0},{"$f":"Results!D53","v":0},{"$f":"Results!G53","v":""},"- vs -",{"$f":"VLOOKUP(B50,Results!$A$8:$BM$104,65,FALSE)","v":{"$error":"#N/A"}},{"$f":"VLOOKUP(H50,Results!A$8:$G$104,3,FALSE)","v":{"$error":"#N/A"}},{"$f":"VLOOKUP(H50,Results!$A$8:$G$104,2,FALSE)","v":{"$error":"#N/A"}},{"$f":"VLOOKUP(H50,Results!$A$8:$G$104,4,FALSE)","v":{"$error":"#N/A"}},{"$f":"VLOOKUP(H50,Results!$A$8:$G$104,7,FALSE)","v":{"$error":"#N/A"}},{"$f":"VLOOKUP(H50,$B$4:B50,1,FALSE)","v":{"$error":"#N/A"}}]
[null,{"$f":"Results!A54","v":0},{"$f":"Results!C54","v":0},{"$f":"Results!B54","v":0},{"$f":"Results!D54","v":0},{"$f":"Results!G54","v":""},"- vs -",{"$f":"VLOOKUP(B51,Results!$A$8:$BM$104,65,FALSE)","v":{"$error":"#N/A"}},{"$f":"VLOOKUP(H51,Results!A$8:$G$104,3,FALSE)","v":{"$error":"#N/A"}},{"$f":"VLOOKUP(H51,Results!$A$8:$G$104,2,FALSE)","v":{"$error":"#N/A"}},{"$f":"VLOOKUP(H51,Results!$A$8:$G$104,4,FALSE)","v":{"$error":"#N/A"}},{"$f":"VLOOKUP(H51,Results!$A$8:$G$104,7,FALSE)","v":{"$error":"#N/A"}},{"$f":"VLOOKUP(H51,$B$4:B51,1,FALSE)","v":{"$error":"#N/A"}}]
[null,{"$f":"Results!A55","v":0},{"$f":"Results!C55","v":0},{"$f":"Results!B55","v":0},{"$f":"Results!D55","v":0},{"$f":"Results!G55","v":""},"- vs -",{"$f":"VLOOKUP(B52,Results!$A$8:$BM$104,65,FALSE)","v":{"$error":"#N/A"}},{"$f":"VLOOKUP(H52,Results!A$8:$G$104,3,FALSE)","v":{"$error":"#N/A"}},{"$f":"VLOOKUP(H52,Results!$A$8:$G$104,2,FALSE)","v":{"$error":"#N/A"}},{"$f":"VLOOKUP(H52,Results!$A$8:$G$104,4,FALSE)","v":{"$error":"#N/A"}},{"$f":"VLOOKUP(H52,Results!$A$8:$G$104,7,FALSE)","v":{"$error":"#N/A"}},{"$f":"VLOOKUP(H52,$B$4:B52,1,FALSE)","v":{"$error":"#N/A"}}]
[null,{"$f":"Results!A56","v":0},{"$f":"Results!C56","v":0},{"$f":"Results!B56","v":0},{"$f":"Results!D56","v":0},{"$f":"Results!G56","v":""},"- vs -",{"$f":"VLOOKUP(B53,Results!$A$8:$BM$104,65,FALSE)","v":{"$error":"#N/A"}},{"$f":"VLOOKUP(H53,Results!A$8:$G$104,3,FALSE)","v":{"$error":"#N/A"}},{"$f":"VLOOKUP(H53,Results!$A$8:$G$104,2,FALSE)","v":{"$error":"#N/A"}},{"$f":"VLOOKUP(H53,Results!$A$8:$G$104,4,FALSE)","v":{"$error":"#N/A"}},{"$f":"VLOOKUP(H53,Results!$A$8:$G$104,7,FALSE)","v":{"$error":"#N/A"}},{"$f":"VLOOKUP(H53,$B$4:B53,1,FALSE)","v":{"$error":"#N/A"}}]
[null,{"$f":"Results!A57","v":0},{"$f":"Results!C57","v":0},{"$f":"Results!B57","v":0},{"$f":"Results!D57","v":0},{"$f":"Results!G57","v":""},"- vs -",{"$f":"VLOOKUP(B54,Results!$A$8:$BM$104,65,FALSE)","v":{"$error":"#N/A"}},{"$f":"VLOOKUP(H54,Results!A$8:$G$104,3,FALSE)","v":{"$error":"#N/A"}},{"$f":"VLOOKUP(H54,Results!$A$8:$G$104,2,FALSE)","v":{"$error":"#N/A"}},{"$f":"VLOOKUP(H54,Results!$A$8:$G$104,4,FALSE)","v":{"$error":"#N/A"}},{"$f":"VLOOKUP(H54,Results!$A$8:$G$104,7,FALSE)","v":{"$error":"#N/A"}},{"$f":"VLOOKUP(H54,$B$4:B54,1,FALSE)","v":{"$error":"#N/A"}}]
[null,{"$f":"Results!A58","v":0},{"$f":"Results!C58","v":0},{"$f":"Results!B58","v":0},{"$f":"Results!D58","v":0},{"$f":"Results!G58","v":""},"- vs -",{"$f":"VLOOKUP(B55,Results!$A$8:$BM$104,65,FALSE)","v":{"$error":"#N/A"}},{"$f":"VLOOKUP(H55,Results!A$8:$G$104,3,FALSE)","v":{"$error":"#N/A"}},{"$f":"VLOOKUP(H55,Results!$A$8:$G$104,2,FALSE)","v":{"$error":"#N/A"}},{"$f":"VLOOKUP(H55,Results!$A$8:$G$104,4,FALSE)","v":{"$error":"#N/A"}},{"$f":"VLOOKUP(H55,Results!$A$8:$G$104,7,FALSE)","v":{"$error":"#N/A"}},{"$f":"VLOOKUP(H55,$B$4:B55,1,FALSE)","v":{"$error":"#N/A"}}]
[null,{"$f":"Results!A59","v":0},{"$f":"Results!C59","v":0},{"$f":"Results!B59","v":0},{"$f":"Results!D59","v":0},{"$f":"Results!G59","v":""},"- vs -",{"$f":"VLOOKUP(B56,Results!$A$8:$BM$104,65,FALSE)","v":{"$error":"#N/A"}},{"$f":"VLOOKUP(H56,Results!A$8:$G$104,3,FALSE)","v":{"$error":"#N/A"}},{"$f":"VLOOKUP(H56,Results!$A$8:$G$104,2,FALSE)","v":{"$error":"#N/A"}},{"$f":"VLOOKUP(H56,Results!$A$8:$G$104,4,FALSE)","v":{"$error":"#N/A"}},{"$f":"VLOOKUP(H56,Results!$A$8:$G$104,7,FALSE)","v":{"$error":"#N/A"}},{"$f":"VLOOKUP(H56,$B$4:B56,1,FALSE)","v":{"$error":"#N/A"}}]
[null,{"$f":"Results!A60","v":0},{"$f":"Results!C60","v":0},{"$f":"Results!B60","v":0},{"$f":"Results!D60","v":0},{"$f":"Results!G60","v":""},"- vs -",{"$f":"VLOOKUP(B57,Results!$A$8:$BM$104,65,FALSE)","v":{"$error":"#N/A"}},{"$f":"VLOOKUP(H57,Results!A$8:$G$104,3,FALSE)","v":{"$error":"#N/A"}},{"$f":"VLOOKUP(H57,Results!$A$8:$G$104,2,FALSE)","v":{"$error":"#N/A"}},{"$f":"VLOOKUP(H57,Results!$A$8:$G$104,4,FALSE)","v":{"$error":"#N/A"}},{"$f":"VLOOKUP(H57,Results!$A$8:$G$104,7,FALSE)","v":{"$error":"#N/A"}},{"$f":"VLOOKUP(H57,$B$4:B57,1,FALSE)","v":{"$error":"#N/A"}}]
[null,{"$f":"Results!A61","v":0},{"$f":"Results!C61","v":0},{"$f":"Results!B61","v":0},{"$f":"Results!D61","v":0},{"$f":"Results!G61","v":""},"- vs -",{"$f":"VLOOKUP(B58,Results!$A$8:$BM$104,65,FALSE)","v":{"$error":"#N/A"}},{"$f":"VLOOKUP(H58,Results!A$8:$G$104,3,FALSE)","v":{"$error":"#N/A"}},{"$f":"VLOOKUP(H58,Results!$A$8:$G$104,2,FALSE)","v":{"$error":"#N/A"}},{"$f":"VLOOKUP(H58,Results!$A$8:$G$104,4,FALSE)","v":{"$error":"#N/A"}},{"$f":"VLOOKUP(H58,Results!$A$8:$G$104,7,FALSE)","v":{"$error":"#N/A"}},{"$f":"VLOOKUP(H58,$B$4:B58,1,FALSE)","v":{"$error":"#N/A"}}]
[null,{"$f":"Results!A62","v":0},{"$f":"Results!C62","v":0},{"$f":"Results!B62","v":0},{"$f":"Results!D62","v":0},{"$f":"Results!G62","v":""},"- vs -",{"$f":"VLOOKUP(B59,Results!$A$8:$BM$104,65,FALSE)","v":{"$error":"#N/A"}},{"$f":"VLOOKUP(H59,Results!A$8:$G$104,3,FALSE)","v":{"$error":"#N/A"}},{"$f":"VLOOKUP(H59,Results!$A$8:$G$104,2,FALSE)","v":{"$error":"#N/A"}},{"$f":"VLOOKUP(H59,Results!$A$8:$G$104,4,FALSE)","v":{"$error":"#N/A"}},{"$f":"VLOOKUP(H59,Results!$A$8:$G$104,7,FALSE)","v":{"$error":"#N/A"}},{"$f":"VLOOKUP(H59,$B$4:B59,1,FALSE)","v":{"$error":"#N/A"}}]
[null,{"$f":"Results!A63","v":0},{"$f":"Results!C63","v":0},{"$f":"Results!B63","v":0},{"$f":"Results!D63","v":0},{"$f":"Results!G63","v":""},"- vs -",{"$f":"VLOOKUP(B60,Results!$A$8:$BM$104,65,FALSE)","v":{"$error":"#N/A"}},{"$f":"VLOOKUP(H60,Results!A$8:$G$104,3,FALSE)","v":{"$error":"#N/A"}},{"$f":"VLOOKUP(H60,Results!$A$8:$G$104,2,FALSE)","v":{"$error":"#N/A"}},{"$f":"VLOOKUP(H60,Results!$A$8:$G$104,4,FALSE)","v":{"$error":"#N/A"}},{"$f":"VLOOKUP(H60,Results!$A$8:$G$104,7,FALSE)","v":{"$error":"#N/A"}},{"$f":"VLOOKUP(H60,$B$4:B60,1,FALSE)","v":{"$error":"#N/A"}}]
[null,{"$f":"Results!A64","v":0},{"$f":"Results!C64","v":0},{"$f":"Results!B64","v":0},{"$f":"Results!D64","v":0},{"$f":"Results!G64","v":""},"- vs -",{"$f":"VLOOKUP(B61,Results!$A$8:$BM$104,65,FALSE)","v":{"$error":"#N/A"}},{"$f":"VLOOKUP(H61,Results!A$8:$G$104,3,FALSE)","v":{"$error":"#N/A"}},{"$f":"VLOOKUP(H61,Results!$A$8:$G$104,2,FALSE)","v":{"$error":"#N/A"}},{"$f":"VLOOKUP(H61,Results!$A$8:$G$104,4,FALSE)","v":{"$error":"#N/A"}},{"$f":"VLOOKUP(H61,Results!$A$8:$G$104,7,FALSE)","v":{"$error":"#N/A"}},{"$f":"VLOOKUP(H61,$B$4:B61,1,FALSE)","v":{"$error":"#N/A"}}]
[null,{"$f":"Results!A65","v":0},{"$f":"Results!C65","v":0},{"$f":"Results!B65","v":0},{"$f":"Results!D65","v":0},{"$f":"Results!G65","v":""},"- vs -",{"$f":"VLOOKUP(B62,Results!$A$8:$BM$104,65,FALSE)","v":{"$error":"#N/A"}},{"$f":"VLOOKUP(H62,Results!A$8:$G$104,3,FALSE)","v":{"$error":"#N/A"}},{"$f":"VLOOKUP(H62,Results!$A$8:$G$104,2,FALSE)","v":{"$error":"#N/A"}},{"$f":"VLOOKUP(H62,Results!$A$8:$G$104,4,FALSE)","v":{"$error":"#N/A"}},{"$f":"VLOOKUP(H62,Results!$A$8:$G$104,7,FALSE)","v":{"$error":"#N/A"}},{"$f":"VLOOKUP(H62,$B$4:B62,1,FALSE)","v":{"$error":"#N/A"}}]
[null,{"$f":"Results!A66","v":0},{"$f":"Results!C66","v":0},{"$f":"Results!B66","v":0},{"$f":"Results!D66","v":0},{"$f":"Results!G66","v":""},"- vs -",{"$f":"VLOOKUP(B63,Results!$A$8:$BM$104,65,FALSE)","v":{"$error":"#N/A"}},{"$f":"VLOOKUP(H63,Results!A$8:$G$104,3,FALSE)","v":{"$error":"#N/A"}},{"$f":"VLOOKUP(H63,Results!$A$8:$G$104,2,FALSE)","v":{"$error":"#N/A"}},{"$f":"VLOOKUP(H63,Results!$A$8:$G$104,4,FALSE)","v":{"$error":"#N/A"}},{"$f":"VLOOKUP(H63,Results!$A$8:$G$104,7,FALSE)","v":{"$error":"#N/A"}},{"$f":"VLOOKUP(H63,$B$4:B63,1,FALSE)","v":{"$error":"#N/A"}}]
[null,{"$f":"Results!A67","v":0},{"$f":"Results!C67","v":0},{"$f":"Results!B67","v":0},{"$f":"Results!D67","v":0},{"$f":"Results!G67","v":""},"- vs -",{"$f":"VLOOKUP(B64,Results!$A$8:$BM$104,65,FALSE)","v":{"$error":"#N/A"}},{"$f":"VLOOKUP(H64,Results!A$8:$G$104,3,FALSE)","v":{"$error":"#N/A"}},{"$f":"VLOOKUP(H64,Results!$A$8:$G$104,2,FALSE)","v":{"$error":"#N/A"}},{"$f":"VLOOKUP(H64,Results!$A$8:$G$104,4,FALSE)","v":{"$error":"#N/A"}},{"$f":"VLOOKUP(H64,Results!$A$8:$G$104,7,FALSE)","v":{"$error":"#N/A"}}]
[null,{"$f":"Results!A68","v":0},{"$f":"Results!C68","v":0},{"$f":"Results!B68","v":0},{"$f":"Results!D68","v":0},{"$f":"Results!G68","v":""},"- vs -",{"$f":"VLOOKUP(B65,Results!$A$8:$BM$104,65,FALSE)","v":{"$error":"#N/A"}},{"$f":"VLOOKUP(H65,Results!A$8:$G$104,3,FALSE)","v":{"$error":"#N/A"}},{"$f":"VLOOKUP(H65,Results!$A$8:$G$104,2,FALSE)","v":{"$error":"#N/A"}},{"$f":"VLOOKUP(H65,Results!$A$8:$G$104,4,FALSE)","v":{"$error":"#N/A"}},{"$f":"VLOOKUP(H65,Results!$A$8:$G$104,7,FALSE)","v":{"$error":"#N/A"}}]
[null,{"$f":"Results!A69","v":0},{"$f":"Results!C69","v":0},{"$f":"Results!B69","v":0},{"$f":"Results!D69","v":0},{"$f":"Results!G69","v":""},"- vs -",{"$f":"VLOOKUP(B66,Results!$A$8:$BM$104,65,FALSE)","v":{"$error":"#N/A"}},{"$f":"VLOOKUP(H66,Results!A$8:$G$104,3,FALSE)","v":{"$error":"#N/A"}},{"$f":"VLOOKUP(H66,Results!$A$8:$G$104,2,FALSE)","v":{"$error":"#N/A"}},{"$f":"VLOOKUP(H66,Results!$A$8:$G$104,4,FALSE)","v":{"$error":"#N/A"}},{"$f":"VLOOKUP(H66,Results!$A$8:$G$104,7,FALSE)","v":{"$error":"#N/A"}}]
[null,{"$f":"Results!A70","v":0},{"$f":"Results!C70","v":0},{"$f":"Results!B70","v":0},{"$f":"Results!D70","v":0},{"$f":"Results!G70","v":""},"- vs -",{"$f":"VLOOKUP(B67,Results!$A$8:$BM$104,65,FALSE)","v":{"$error":"#N/A"}},{"$f":"VLOOKUP(H67,Results!A$8:$G$104,3,FALSE)","v":{"$error":"#N/A"}},{"$f":"VLOOKUP(H67,Results!$A$8:$G$104,2,FALSE)","v":{"$error":"#N/A"}},{"$f":"VLOOKUP(H67,Results!$A$8:$G$104,4,FALSE)","v":{"$error":"#N/A"}},{"$f":"VLOOKUP(H67,Results!$A$8:$G$104,7,FALSE)","v":{"$error":"#N/A"}}]
[null,{"$f":"Results!A71","v":0},{"$f":"Results!C71","v":0},{"$f":"Results!B71","v":0},{"$f":"Results!D71","v":0},{"$f":"Results!G71","v":""},"- vs -",{"$f":"VLOOKUP(B68,Results!$A$8:$BM$104,65,FALSE)","v":{"$error":"#N/A"}},{"$f":"VLOOKUP(H68,Results!A$8:$G$104,3,FALSE)","v":{"$error":"#N/A"}},{"$f":"VLOOKUP(H68,Results!$A$8:$G$104,2,FALSE)","v":{"$error":"#N/A"}},{"$f":"VLOOKUP(H68,Results!$A$8:$G$104,4,FALSE)","v":{"$error":"#N/A"}},{"$f":"VLOOKUP(H68,Results!$A$8:$G$104,7,FALSE)","v":{"$error":"#N/A"}}]
[null,{"$f":"Results!A72","v":0},{"$f":"Results!C72","v":0},{"$f":"Results!B72","v":0},{"$f":"Results!D72","v":0},{"$f":"Results!G72","v":""},"- vs -",{"$f":"VLOOKUP(B69,Results!$A$8:$BM$104,65,FALSE)","v":{"$error":"#N/A"}},{"$f":"VLOOKUP(H69,Results!A$8:$G$104,3,FALSE)","v":{"$error":"#N/A"}},{"$f":"VLOOKUP(H69,Results!$A$8:$G$104,2,FALSE)","v":{"$error":"#N/A"}},{"$f":"VLOOKUP(H69,Results!$A$8:$G$104,4,FALSE)","v":{"$error":"#N/A"}},{"$f":"VLOOKUP(H69,Results!$A$8:$G$104,7,FALSE)","v":{"$error":"#N/A"}}]

{"sheet":"Standings","index":18,"n_rows":52,"n_cols":17,"rows_kept":52,"cut":false,"hidden":false,"merged":[]}
[]
["Placing",{"$f":"Results!C7","v":"First Name"},{"$f":"Results!B7","v":"Surname"},{"$f":"Results!D7","v":"Club"},{"$f":"Results!E7","v":"Points"},{"$f":"Results!G7","v":"Army"},"R1","R2","R3","R4","R5","R6","R7","R8","R9","Player ID#","Ranking Pts"]
[{"$f":"IF(E3>1,1,\"\")","v":""},{"$f":"Results!C8","v":"Alan"},{"$f":"Results!B8","v":"Cutner"},{"$f":"Results!D8","v":"Tradeston"},{"$f":"Results!E8","v":0},{"$f":"Results!G8","v":""},{"$f":"Results!L8","v":0},{"$f":"Results!S8","v":0},{"$f":"Results!Z8","v":0},{"$f":"Results!AG8","v":0},{"$f":"Results!AN8","v":0},{"$f":"Results!AU8","v":0},{"$f":"Results!BB8","v":0},{"$f":"Results!BI8","v":0},{"$f":"Results!BP8","v":0},{"$f":"Results!A8","v":486},{"$f":"Results!H3","v":34}]
[{"$f":"IF(E4>1,A3+1,\"\")","v":""},{"$f":"Results!C9","v":"Alistair"},{"$f":"Results!B9","v":"Wright"},{"$f":"Results!D9","v":"Millbrook"},{"$f":"Results!E9","v":0},{"$f":"Results!G9","v":""},{"$f":"Results!L9","v":0},{"$f":"Results!S9","v":0},{"$f":"Results!Z9","v":0},{"$f":"Results!AG9","v":0},{"$f":"Results!AN9","v":0},{"$f":"Results!AU9","v":0},{"$f":"Results!BB9","v":0},{"$f":"Results!BI9","v":0},{"$f":"Results!BP9","v":0},{"$f":"Results!A9","v":1579},{"$f":"Q3-1","v":33}]
[{"$f":"IF(E5>1,A4+1,\"\")","v":""},{"$f":"Results!C10","v":"Andrew"},{"$f":"Results!B10","v":"Whitby"},{"$f":"Results!D10","v":"Bristol"},{"$f":"Results!E10","v":0},{"$f":"Results!G10","v":""},{"$f":"Results!L10","v":0},{"$f":"Results!S10","v":0},{"$f":"Results!Z10","v":0},{"$f":"Results!AG10","v":0},{"$f":"Results!AN10","v":0},{"$f":"Results!AU10","v":0},{"$f":"Results!BB10","v":0},{"$f":"Results!BI10","v":0},{"$f":"Results!BP10","v":0},{"$f":"Results!A10","v":748},{"$f":"Q4-1","v":32}]
["",{"$f":"Results!C11","v":"Andy"},{"$f":"Results!B11","v":"Fyfe"},{"$f":"Results!D11","v":"FDWG"},{"$f":"Results!E11","v":0},{"$f":"Results!G11","v":""},{"$f":"Results!L11","v":0},{"$f":"Results!S11","v":0},{"$f":"Results!Z11","v":0},{"$f":"Results!AG11","v":0},{"$f":"Results!AN11","v":0},{"$f":"Results!AU11","v":0},{"$f":"Results!BB11","v":0},{"$f":"Results!BI11","v":0},{"$f":"Results!BP11","v":0},{"$f":"Results!A11","v":1598},31]
["",{"$f":"Results!C12","v":"Andy"},{"$f":"Results!B12","v":"Gilbert"},{"$f":"Results!D12","v":"Pompey"},{"$f":"Results!E12","v":0},{"$f":"Results!G12","v":""},{"$f":"Results!L12","v":0},{"$f":"Results!S12","v":0},{"$f":"Results!Z12","v":0},{"$f":"Results!AG12","v":0},{"$f":"Results!AN12","v":0},{"$f":"Results!AU12","v":0},{"$f":"Results!BB12","v":0},{"$f":"Results!BI12","v":0},{"$f":"Results!BP12","v":0},{"$f":"Results!A12","v":714},30]
["",{"$f":"Results!C13","v":"Antony"},{"$f":"Results!B13","v":"Robinson"},{"$f":"Results!D13","v":"Durham"},{"$f":"Results!E13","v":0},{"$f":"Results!G13","v":""},{"$f":"Results!L13","v":0},{"$f":"Results!S13","v":0},{"$f":"Results!Z13","v":0},{"$f":"Results!AG13","v":0},{"$f":"Results!AN13","v":0},{"$f":"Results!AU13","v":0},{"$f":"Results!BB13","v":0},{"$f":"Results!BI13","v":0},{"$f":"Results!BP13","v":0},{"$f":"Results!A13","v":1447},29]
["",{"$f":"Results!C14","v":"Charles"},{"$f":"Results!B14","v":"Masefield"},{"$f":"Results!D14","v":"Oxford"},{"$f":"Results!E14","v":0},{"$f":"Results!G14","v":""},{"$f":"Results!L14","v":0},{"$f":"Results!S14","v":0},{"$f":"Results!Z14","v":0},{"$f":"Results!AG14","v":0},{"$f":"Results!AN14","v":0},{"$f":"Results!AU14","v":0},{"$f":"Results!BB14","v":0},{"$f":"Results!BI14","v":0},{"$f":"Results!BP14","v":0},{"$f":"Results!A14","v":773},28]
["",{"$f":"Results!C15","v":"Colin"},{"$f":"Results!B15","v":"Whittaker"},{"$f":"Results!D15","v":"Entoyment"},{"$f":"Results!E15","v":0},{"$f":"Results!G15","v":""},{"$f":"Results!L15","v":0},{"$f":"Results!S15","v":0},{"$f":"Results!Z15","v":0},{"$f":"Results!AG15","v":0},{"$f":"Results!AN15","v":0},{"$f":"Results!AU15","v":0},{"$f":"Results!BB15","v":0},{"$f":"Results!BI15","v":0},{"$f":"Results!BP15","v":0},{"$f":"Results!A15","v":1549},27]
["",{"$f":"Results!C16","v":"Dave"},{"$f":"Results!B16","v":"Hutchby"},{"$f":"Results!D16","v":"Derby"},{"$f":"Results!E16","v":0},{"$f":"Results!G16","v":"Chinese Northern and Southern Dynasties"},{"$f":"Results!L16","v":0},{"$f":"Results!S16","v":0},{"$f":"Results!Z16","v":0},{"$f":"Results!AG16","v":0},{"$f":"Results!AN16","v":0},{"$f":"Results!AU16","v":0},{"$f":"Results!BB16","v":0},{"$f":"Results!BI16","v":0},{"$f":"Results!BP16","v":0},{"$f":"Results!A16","v":1435},26]
["",{"$f":"Results!C17","v":"David"},{"$f":"Results!B17","v":"Roberts"},{"$f":"Results!D17","v":"Cambridge"},{"$f":"Results!E17","v":0},{"$f":"Results!G17","v":""},{"$f":"Results!L17","v":0},{"$f":"Results!S17","v":0},{"$f":"Results!Z17","v":0},{"$f":"Results!AG17","v":0},{"$f":"Results!AN17","v":0},{"$f":"Results!AU17","v":0},{"$f":"Results!BB17","v":0},{"$f":"Results!BI17","v":0},{"$f":"Results!BP17","v":0},{"$f":"Results!A17","v":1017},25]
["",{"$f":"Results!C18","v":"David"},{"$f":"Results!B18","v":"Dryden"},{"$f":"Results!D18","v":"FDWC"},{"$f":"Results!E18","v":0},{"$f":"Results!G18","v":""},{"$f":"Results!L18","v":0},{"$f":"Results!S18","v":0},{"$f":"Results!Z18","v":0},{"$f":"Results!AG18","v":0},{"$f":"Results!AN18","v":0},{"$f":"Results!AU18","v":0},{"$f":"Results!BB18","v":0},{"$f":"Results!BI18","v":0},{"$f":"Results!BP18","v":0},{"$f":"Results!A18","v":1576},24]
["",{"$f":"Results!C19","v":"Frazer"},{"$f":"Results!B19","v":"Watson"},{"$f":"Results!D19","v":"FDWG"},{"$f":"Results!E19","v":0},{"$f":"Results!G19","v":"Kingdom of Axum"},{"$f":"Results!L19","v":0},{"$f":"Results!S19","v":0},{"$f":"Results!Z19","v":0},{"$f":"Results!AG19","v":0},{"$f":"Results!AN19","v":0},{"$f":"Results!AU19","v":0},{"$f":"Results!BB19","v":0},{"$f":"Results!BI19","v":0},{"$f":"Results!BP19","v":0},{"$f":"Results!A19","v":1509},23]
["",{"$f":"Results!C20","v":"Gordon"},{"$f":"Results!B20","v":"Jamieson"},{"$f":"Results!D20","v":"CLWC"},{"$f":"Results!E20","v":0},{"$f":"Results!G20","v":""},{"$f":"Results!L20","v":0},{"$f":"Results!S20","v":0},{"$f":"Results!Z20","v":0},{"$f":"Results!AG20","v":0},{"$f":"Results!AN20","v":0},{"$f":"Results!AU20","v":0},{"$f":"Results!BB20","v":0},{"$f":"Results!BI20","v":0},{"$f":"Results!BP20","v":0},{"$f":"Results!A20","v":715},22]
["",{"$f":"Results!C21","v":"Gordon"},{"$f":"Results!B21","v":"Miller"},{"$f":"Results!D21","v":"FDWC"},{"$f":"Results!E21","v":0},{"$f":"Results!G21","v":""},{"$f":"Results!L21","v":0},{"$f":"Results!S21","v":0},{"$f":"Results!Z21","v":0},{"$f":"Results!AG21","v":0},{"$f":"Results!AN21","v":0},{"$f":"Results!AU21","v":0},{"$f":"Results!BB21","v":0},{"$f":"Results!BI21","v":0},{"$f":"Results!BP21","v":0},{"$f":"Results!A21","v":1131},21]
["",{"$f":"Results!C22","v":"Ian"},{"$f":"Results!B22","v":"Sewell"},{"$f":"Results!D22","v":"WAR"},{"$f":"Results!E22","v":0},{"$f":"Results!G22","v":""},{"$f":"Results!L22","v":0},{"$f":"Results!S22","v":0},{"$f":"Results!Z22","v":0},{"$f":"Results!AG22","v":0},{"$f":"Results!AN22","v":0},{"$f":"Results!AU22","v":0},{"$f":"Results!BB22","v":0},{"$f":"Results!BI22","v":0},{"$f":"Results!BP22","v":0},{"$f":"Results!A22","v":1483},20]
["",{"$f":"Results!C23","v":"James"},{"$f":"Results!B23","v":"Gibson"},{"$f":"Results!D23","v":"FDWG"},{"$f":"Results!E23","v":0},{"$f":"Results!G23","v":""},{"$f":"Results!L23","v":0},{"$f":"Results!S23","v":0},{"$f":"Results!Z23","v":0},{"$f":"Results!AG23","v":0},{"$f":"Results!AN23","v":0},{"$f":"Results!AU23","v":0},{"$f":"Results!BB23","v":0},{"$f":"Results!BI23","v":0},{"$f":"Results!BP23","v":0},{"$f":"Results!A23","v":1538},19]
["",{"$f":"Results!C24","v":"Jesse"},{"$f":"Results!B24","v":"Schoor"},{"$f":"Results!D24","v":"WAR"},{"$f":"Results!E24","v":0},{"$f":"Results!G24","v":""},{"$f":"Results!L24","v":0},{"$f":"Results!S24","v":0},{"$f":"Results!Z24","v":0},{"$f":"Results!AG24","v":0},{"$f":"Results!AN24","v":0},{"$f":"Results!AU24","v":0},{"$f":"Results!BB24","v":0},{"$f":"Results!BI24","v":0},{"$f":"Results!BP24","v":0},{"$f":"Results!A24","v":485},18]
["",{"$f":"Results!C25","v":"Mark"},{"$f":"Results!B25","v":"Fry"},{"$f":"Results!D25","v":"Bristol"},{"$f":"Results!E25","v":0},{"$f":"Results!G25","v":""},{"$f":"Results!L25","v":0},{"$f":"Results!S25","v":0},{"$f":"Results!Z25","v":0},{"$f":"Results!AG25","v":0},{"$f":"Results!AN25","v":0},{"$f":"Results!AU25","v":0},{"$f":"Results!BB25","v":0},{"$f":"Results!BI25","v":0},{"$f":"Results!BP25","v":0},{"$f":"Results!A25","v":795},17]
["",{"$f":"Results!C26","v":"Mark"},{"$f":"Results!B26","v":"Gilby"},{"$f":"Results!D26","v":"CLWC"},{"$f":"Results!E26","v":0},{"$f":"Results!G26","v":""},{"$f":"Results!L26","v":0},{"$f":"Results!S26","v":0},{"$f":"Results!Z26","v":0},{"$f":"Results!AG26","v":0},{"$f":"Results!AN26","v":0},{"$f":"Results!AU26","v":0},{"$f":"Results!BB26","v":0},{"$f":"Results!BI26","v":0},{"$f":"Results!BP26","v":0},{"$f":"Results!A26","v":1807},16]
["",{"$f":"Results!C27","v":"Mike"},{"$f":"Results!B27","v":"Bennett"},{"$f":"Results!D27","v":"Carnforth"},{"$f":"Results!E27","v":0},{"$f":"Results!G27","v":""},{"$f":"Results!L27","v":0},{"$f":"Results!S27","v":0},{"$f":"Results!Z27","v":0},{"$f":"Results!AG27","v":0},{"$f":"Results!AN27","v":0},{"$f":"Results!AU27","v":0},{"$f":"Results!BB27","v":0},{"$f":"Results!BI27","v":0},{"$f":"Results!BP27","v":0},{"$f":"Results!A27","v":858},15]
["",{"$f":"Results!C28","v":"Nik"},{"$f":"Results!B28","v":"Sharp"},{"$f":"Results!D28","v":"Warlords"},{"$f":"Results!E28","v":0},{"$f":"Results!G28","v":""},{"$f":"Results!L28","v":0},{"$f":"Results!S28","v":0},{"$f":"Results!Z28","v":0},{"$f":"Results!AG28","v":0},{"$f":"Results!AN28","v":0},{"$f":"Results!AU28","v":0},{"$f":"Results!BB28","v":0},{"$f":"Results!BI28","v":0},{"$f":"Results!BP28","v":0},{"$f":"Results!A28","v":1015},14]
["",{"$f":"Results!C29","v":"Paul"},{"$f":"Results!B29","v":"Dawson"},{"$f":"Results!D29","v":"York"},{"$f":"Results!E29","v":0},{"$f":"Results!G29","v":""},{"$f":"Results!L29","v":0},{"$f":"Results!S29","v":0},{"$f":"Results!Z29","v":0},{"$f":"Results!AG29","v":0},{"$f":"Results!AN29","v":0},{"$f":"Results!AU29","v":0},{"$f":"Results!BB29","v":0},{"$f":"Results!BI29","v":0},{"$f":"Results!BP29","v":0},{"$f":"Results!A29","v":1308},13]
["",{"$f":"Results!C30","v":"Paul"},{"$f":"Results!B30","v":"Johnston"},{"$f":"Results!D30","v":"York"},{"$f":"Results!E30","v":0},{"$f":"Results!G30","v":""},{"$f":"Results!L30","v":0},{"$f":"Results!S30","v":0},{"$f":"Results!Z30","v":0},{"$f":"Results!AG30","v":0},{"$f":"Results!AN30","v":0},{"$f":"Results!AU30","v":0},{"$f":"Results!BB30","v":0},{"$f":"Results!BI30","v":0},{"$f":"Results!BP30","v":0},{"$f":"Results!A30","v":1309},12]
["",{"$f":"Results!C31","v":"Paul"},{"$f":"Results!B31","v":"Frith"},{"$f":"Results!D31","v":"Dorset Nomads"},{"$f":"Results!E31","v":0},{"$f":"Results!G31","v":""},{"$f":"Results!L31","v":0},{"$f":"Results!S31","v":0},{"$f":"Results!Z31","v":0},{"$f":"Results!AG31","v":0},{"$f":"Results!AN31","v":0},{"$f":"Results!AU31","v":0},{"$f":"Results!BB31","v":0},{"$f":"Results!BI31","v":0},{"$f":"Results!BP31","v":0},{"$f":"Results!A31","v":1239},11]
["",{"$f":"Results!C32","v":"Pete"},{"$f":"Results!B32","v":"Sanger"},{"$f":"Results!D32","v":"Pompey"},{"$f":"Results!E32","v":0},{"$f":"Results!G32","v":""},{"$f":"Results!L32","v":0},{"$f":"Results!S32","v":0},{"$f":"Results!Z32","v":0},{"$f":"Results!AG32","v":0},{"$f":"Results!AN32","v":0},{"$f":"Results!AU32","v":0},{"$f":"Results!BB32","v":0},{"$f":"Results!BI32","v":0},{"$f":"Results!BP32","v":0},{"$f":"Results!A32","v":1536},10]
["",{"$f":"Results!C33","v":"Richard"},{"$f":"Results!B33","v":"Young"},{"$f":"Results!D33","v":"SOA"},{"$f":"Results!E33","v":0},{"$f":"Results!G33","v":""},{"$f":"Results!L33","v":0},{"$f":"Results!S33","v":0},{"$f":"Results!Z33","v":0},{"$f":"Results!AG33","v":0},{"$f":"Results!AN33","v":0},{"$f":"Results!AU33","v":0},{"$f":"Results!BB33","v":0},{"$f":"Results!BI33","v":0},{"$f":"Results!BP33","v":0},{"$f":"Results!A33","v":772},9]
["",{"$f":"Results!C34","v":"Rob"},{"$f":"Results!B34","v":"Taylor"},{"$f":"Results!D34","v":"Westow"},{"$f":"Results!E34","v":0},{"$f":"Results!G34","v":""},{"$f":"Results!L34","v":0},{"$f":"Results!S34","v":0},{"$f":"Results!Z34","v":0},{"$f":"Results!AG34","v":0},{"$f":"Results!AN34","v":0},{"$f":"Results!AU34","v":0},{"$f":"Results!BB34","v":0},{"$f":"Results!BI34","v":0},{"$f":"Results!BP34","v":0},{"$f":"Results!A34","v":1318},8]
["",{"$f":"Results!C35","v":"Robert"},{"$f":"Results!B35","v":"Middlemist"},{"$f":"Results!D35","v":"Durham"},{"$f":"Results!E35","v":0},{"$f":"Results!G35","v":""},{"$f":"Results!L35","v":0},{"$f":"Results!S35","v":0},{"$f":"Results!Z35","v":0},{"$f":"Results!AG35","v":0},{"$f":"Results!AN35","v":0},{"$f":"Results!AU35","v":0},{"$f":"Results!BB35","v":0},{"$f":"Results!BI35","v":0},{"$f":"Results!BP35","v":0},{"$f":"Results!A35","v":1222},7]
["",{"$f":"Results!C36","v":"Robin"},{"$f":"Results!B36","v":"Jackson"},{"$f":"Results!D36","v":"God Knows"},{"$f":"Results!E36","v":0},{"$f":"Results!G36","v":""},{"$f":"Results!L36","v":0},{"$f":"Results!S36","v":0},{"$f":"Results!Z36","v":0},{"$f":"Results!AG36","v":0},{"$f":"Results!AN36","v":0},{"$f":"Results!AU36","v":0},{"$f":"Results!BB36","v":0},{"$f":"Results!BI36","v":0},{"$f":"Results!BP36","v":0},{"$f":"Results!A36","v":1008},6]
["",{"$f":"Results!C37","v":"Stephen"},{"$f":"Results!B37","v":"Nice"},{"$f":"Results!D37","v":"WAR"},{"$f":"Results!E37","v":0},{"$f":"Results!G37","v":""},{"$f":"Results!L37","v":0},{"$f":"Results!S37","v":0},{"$f":"Results!Z37","v":0},{"$f":"Results!AG37","v":0},{"$f":"Results!AN37","v":0},{"$f":"Results!AU37","v":0},{"$f":"Results!BB37","v":0},{"$f":"Results!BI37","v":0},{"$f":"Results!BP37","v":0},{"$f":"Results!A37","v":1418},5]
["",{"$f":"Results!C38","v":"Tim"},{"$f":"Results!B38","v":"Porter"},{"$f":"Results!D38","v":"CLWC"},{"$f":"Results!E38","v":0},{"$f":"Results!G38","v":"Parthian"},{"$f":"Results!L38","v":0},{"$f":"Results!S38","v":0},{"$f":"Results!Z38","v":0},{"$f":"Results!AG38","v":0},{"$f":"Results!AN38","v":0},{"$f":"Results!AU38","v":0},{"$f":"Results!BB38","v":0},{"$f":"Results!BI38","v":0},{"$f":"Results!BP38","v":0},{"$f":"Results!A38","v":712},4]
["",{"$f":"Results!C39","v":0},{"$f":"Results!B39","v":0},{"$f":"Results!D39","v":0},{"$f":"Results!E39","v":0},{"$f":"Results!G39","v":""},{"$f":"Results!L39","v":0},{"$f":"Results!S39","v":0},{"$f":"Results!Z39","v":0},{"$f":"Results!AG39","v":0},{"$f":"Results!AN39","v":0},{"$f":"Results!AU39","v":0},{"$f":"Results!BB39","v":0},{"$f":"Results!BI39","v":0},{"$f":"Results!BP39","v":0},{"$f":"Results!A39","v":0},3]
["",{"$f":"Results!C40","v":0},{"$f":"Results!B40","v":0},{"$f":"Results!D40","v":0},{"$f":"Results!E40","v":0},{"$f":"Results!G40","v":""},{"$f":"Results!L40","v":0},{"$f":"Results!S40","v":0},{"$f":"Results!Z40","v":0},{"$f":"Results!AG40","v":0},{"$f":"Results!AN40","v":0},{"$f":"Results!AU40","v":0},{"$f":"Results!BB40","v":0},{"$f":"Results!BI40","v":0},{"$f":"Results!BP40","v":0},{"$f":"Results!A40","v":0},2]
["",{"$f":"Results!C41","v":0},{"$f":"Results!B41","v":0},{"$f":"Results!D41","v":0},{"$f":"Results!E41","v":0},{"$f":"Results!G41","v":""},{"$f":"Results!L41","v":0},{"$f":"Results!S41","v":0},{"$f":"Results!Z41","v":0},{"$f":"Results!AG41","v":0},{"$f":"Results!AN41","v":0},{"$f":"Results!AU41","v":0},{"$f":"Results!BB41","v":0},{"$f":"Results!BI41","v":0},{"$f":"Results!BP41","v":0},{"$f":"Results!A41","v":0},1]
["",{"$f":"Results!C42","v":0},{"$f":"Results!B42","v":0},{"$f":"Results!D42","v":0},{"$f":"Results!E42","v":0},{"$f":"Results!G42","v":""},{"$f":"Results!L42","v":0},{"$f":"Results!S42","v":0},{"$f":"Results!Z42","v":0},{"$f":"Results!AG42","v":0},{"$f":"Results!AN42","v":0},{"$f":"Results!AU42","v":0},{"$f":"Results!BB42","v":0},{"$f":"Results!BI42","v":0},{"$f":"Results!BP42","v":0},{"$f":"Results!A42","v":0},0]
["",{"$f":"Results!C43","v":0},{"$f":"Results!B43","v":0},{"$f":"Results!D43","v":0},{"$f":"Results!E43","v":0},{"$f":"Results!G43","v":""},{"$f":"Results!L43","v":0},{"$f":"Results!S43","v":0},{"$f":"Results!Z43","v":0},{"$f":"Results!AG43","v":0},{"$f":"Results!AN43","v":0},{"$f":"Results!AU43","v":0},{"$f":"Results!BB43","v":0},{"$f":"Results!BI43","v":0},{"$f":"Results!BP43","v":0},{"$f":"Results!A43","v":0},-1]
["",{"$f":"Results!C44","v":0},{"$f":"Results!B44","v":0},{"$f":"Results!D44","v":0},{"$f":"Results!E44","v":0},{"$f":"Results!G44","v":""},{"$f":"Results!L44","v":0},{"$f":"Results!S44","v":0},{"$f":"Results!Z44","v":0},{"$f":"Results!AG44","v":0},{"$f":"Results!AN44","v":0},{"$f":"Results!AU44","v":0},{"$f":"Results!BB44","v":0},{"$f":"Results!BI44","v":0},{"$f":"Results!BP44","v":0},{"$f":"Results!A44","v":0},-2]
["",{"$f":"Results!C45","v":0},{"$f":"Results!B45","v":0},{"$f":"Results!D45","v":0},{"$f":"Results!E45","v":0},{"$f":"Results!G45","v":""},{"$f":"Results!L45","v":0},{"$f":"Results!S45","v":0},{"$f":"Results!Z45","v":0},{"$f":"Results!AG45","v":0},{"$f":"Results!AN45","v":0},{"$f":"Results!AU45","v":0},{"$f":"Results!BB45","v":0},{"$f":"Results!BI45","v":0},{"$f":"Results!BP45","v":0},{"$f":"Results!A45","v":0},-3]
["",{"$f":"Results!C46","v":0},{"$f":"Results!B46","v":0},{"$f":"Results!D46","v":0},{"$f":"Results!E46","v":0},{"$f":"Results!G46","v":""},{"$f":"Results!L46","v":0},{"$f":"Results!S46","v":0},{"$f":"Results!Z46","v":0},{"$f":"Results!AG46","v":0},{"$f":"Results!AN46","v":0},{"$f":"Results!AU46","v":0},{"$f":"Results!BB46","v":0},{"$f":"Results!BI46","v":0},{"$f":"Results!BP46","v":0},{"$f":"Results!A46","v":0},-4]
["",{"$f":"Results!C47","v":0},{"$f":"Results!B47","v":0},{"$f":"Results!D47","v":0},{"$f":"Results!E47","v":0},{"$f":"Results!G47","v":""},{"$f":"Results!L47","v":0},{"$f":"Results!S47","v":0},{"$f":"Results!Z47","v":0},{"$f":"Results!AG47","v":0},{"$f":"Results!AN47","v":0},{"$f":"Results!AU47","v":0},{"$f":"Results!BB47","v":0},{"$f":"Results!BI47","v":0},{"$f":"Results!BP47","v":0},{"$f":"Results!A47","v":0},-5]
["",{"$f":"Results!C48","v":0},{"$f":"Results!B48","v":0},{"$f":"Results!D48","v":0},{"$f":"Results!E48","v":0},{"$f":"Results!G48","v":""},{"$f":"Results!L48","v":0},{"$f":"Results!S48","v":0},{"$f":"Results!Z48","v":0},{"$f":"Results!AG48","v":0},{"$f":"Results!AN48","v":0},{"$f":"Results!AU48","v":0},{"$f":"Results!BB48","v":0},{"$f":"Results!BI48","v":0},{"$f":"Results!BP48","v":0},{"$f":"Results!A48","v":0},-6]
["",{"$f":"Results!C49","v":0},{"$f":"Results!B49","v":0},{"$f":"Results!D49","v":0},{"$f":"Results!E49","v":0},{"$f":"Results!G49","v":""},{"$f":"Results!L49","v":0},{"$f":"Results!S49","v":0},{"$f":"Results!Z49","v":0},{"$f":"Results!AG49","v":0},{"$f":"Results!AN49","v":0},{"$f":"Results!AU49","v":0},{"$f":"Results!BB49","v":0},{"$f":"Results!BI49","v":0},{"$f":"Results!BP49","v":0},{"$f":"Results!A49","v":0},-7]
["",{"$f":"Results!C50","v":0},{"$f":"Results!B50","v":0},{"$f":"Results!D50","v":0},{"$f":"Results!E50","v":0},{"$f":"Results!G50","v":""},{"$f":"Results!L50","v":0},{"$f":"Results!S50","v":0},{"$f":"Results!Z50","v":0},{"$f":"Results!AG50","v":0},{"$f":"Results!AN50","v":0},{"$f":"Results!AU50","v":0},{"$f":"Results!BB50","v":0},{"$f":"Results!BI50","v":0},{"$f":"Results!BP50","v":0},{"$f":"Results!A50","v":0},-8]
["",{"$f":"Results!C51","v":0},{"$f":"Results!B51","v":0},{"$f":"Results!D51","v":0},{"$f":"Results!E51","v":0},{"$f":"Results!G51","v":""},{"$f":"Results!L51","v":0},{"$f":"Results!S51","v":0},{"$f":"Results!Z51","v":0},{"$f":"Results!AG51","v":0},{"$f":"Results!AN51","v":0},{"$f":"Results!AU51","v":0},{"$f":"Results!BB51","v":0},{"$f":"Results!BI51","v":0},{"$f":"Results!BP51","v":0},{"$f":"Results!A51","v":0},-9]
["",{"$f":"Results!C52","v":0},{"$f":"Results!B52","v":0},{"$f":"Results!D52","v":0},{"$f":"Results!E52","v":0},{"$f":"Results!G52","v":""},{"$f":"Results!L52","v":0},{"$f":"Results!S52","v":0},{"$f":"Results!Z52","v":0},{"$f":"Results!AG52","v":0},{"$f":"Results!AN52","v":0},{"$f":"Results!AU52","v":0},{"$f":"Results!BB52","v":0},{"$f":"Results!BI52","v":0},{"$f":"Results!BP52","v":0},{"$f":"Results!A52","v":0},-10]
["",{"$f":"Results!C53","v":0},{"$f":"Results!B53","v":0},{"$f":"Results!D53","v":0},{"$f":"Results!E53","v":0},{"$f":"Results!G53","v":""},{"$f":"Results!L53","v":0},{"$f":"Results!S53","v":0},{"$f":"Results!Z53","v":0},{"$f":"Results!AG53","v":0},{"$f":"Results!AN53","v":0},{"$f":"Results!AU53","v":0},{"$f":"Results!BB53","v":0},{"$f":"Results!BI53","v":0},{"$f":"Results!BP53","v":0},{"$f":"Results!A53","v":0},-11]
["",{"$f":"Results!C54","v":0},{"$f":"Results!B54","v":0},{"$f":"Results!D54","v":0},{"$f":"Results!E54","v":0},{"$f":"Results!G54","v":""},{"$f":"Results!L54","v":0},{"$f":"Results!S54","v":0},{"$f":"Results!Z54","v":0},{"$f":"Results!AG54","v":0},{"$f":"Results!AN54","v":0},{"$f":"Results!AU54","v":0},{"$f":"Results!BB54","v":0},{"$f":"Results!BI54","v":0},{"$f":"Results!BP54","v":0},{"$f":"Results!A54","v":0},-12]
["",{"$f":"Results!C55","v":0},{"$f":"Results!B55","v":0},{"$f":"Results!D55","v":0},{"$f":"Results!E55","v":0},{"$f":"Results!G55","v":""},{"$f":"Results!L55","v":0},{"$f":"Results!S55","v":0},{"$f":"Results!Z55","v":0},{"$f":"Results!AG55","v":0},{"$f":"Results!AN55","v":0},{"$f":"Results!AU55","v":0},{"$f":"Results!BB55","v":0},{"$f":"Results!BI55","v":0},{"$f":"Results!BP55","v":0},{"$f":"Results!A55","v":0},-13]
["",{"$f":"Results!C56","v":0},{"$f":"Results!B56","v":0},{"$f":"Results!D56","v":0},{"$f":"Results!E56","v":0},{"$f":"Results!G56","v":""},{"$f":"Results!L56","v":0},{"$f":"Results!S56","v":0},{"$f":"Results!Z56","v":0},{"$f":"Results!AG56","v":0},{"$f":"Results!AN56","v":0},{"$f":"Results!AU56","v":0},{"$f":"Results!BB56","v":0},{"$f":"Results!BI56","v":0},{"$f":"Results!BP56","v":0},{"$f":"Results!A56","v":0},-14]
["",{"$f":"Results!C57","v":0},{"$f":"Results!B57","v":0},{"$f":"Results!D57","v":0},{"$f":"Results!E57","v":0},{"$f":"Results!G57","v":""},{"$f":"Results!L57","v":0},{"$f":"Results!S57","v":0},{"$f":"Results!Z57","v":0},{"$f":"Results!AG57","v":0},{"$f":"Results!AN57","v":0},{"$f":"Results!AU57","v":0},{"$f":"Results!BB57","v":0},{"$f":"Results!BI57","v":0},{"$f":"Results!BP57","v":0},{"$f":"Results!A57","v":0},-15]